BEGIN:VCALENDAR
VERSION:2.0
PRODID:-//Park Slope Civic Council - ECPv6.15.20//NONSGML v1.0//EN
CALSCALE:GREGORIAN
METHOD:PUBLISH
X-WR-CALNAME:Park Slope Civic Council
X-ORIGINAL-URL:https://parkslopeciviccouncil.org
X-WR-CALDESC:Events for Park Slope Civic Council
REFRESH-INTERVAL;VALUE=DURATION:PT1H
X-Robots-Tag:noindex
X-PUBLISHED-TTL:PT1H
BEGIN:VTIMEZONE
TZID:UTC
BEGIN:STANDARD
TZOFFSETFROM:+0000
TZOFFSETTO:+0000
TZNAME:UTC
DTSTART:20230101T000000
END:STANDARD
END:VTIMEZONE
BEGIN:VEVENT
DTSTART;TZID=UTC:20240106T100000
DTEND;TZID=UTC:20240106T140000
DTSTAMP:20260425T072936
CREATED:20231218T192757Z
LAST-MODIFIED:20231218T192757Z
UID:14073-1704535200-1704549600@parkslopeciviccouncil.org
SUMMARY:Mulchfest 2024
DESCRIPTION:Help us turn Xmas trees into mulch
URL:https://parkslopeciviccouncil.org/event/mulchfest-2024/
LOCATION:3rd Street Entrance to Prospect Park\, 3rd Street\, Brooklyn\, NY\, 11215
END:VEVENT
END:VCALENDAR