BEGIN:VCALENDAR
VERSION:2.0
PRODID:-//Park Slope Civic Council - ECPv6.15.20//NONSGML v1.0//EN
CALSCALE:GREGORIAN
METHOD:PUBLISH
X-WR-CALNAME:Park Slope Civic Council
X-ORIGINAL-URL:https://parkslopeciviccouncil.org
X-WR-CALDESC:Events for Park Slope Civic Council
REFRESH-INTERVAL;VALUE=DURATION:PT1H
X-Robots-Tag:noindex
X-PUBLISHED-TTL:PT1H
BEGIN:VTIMEZONE
TZID:America/New_York
BEGIN:DAYLIGHT
TZOFFSETFROM:-0500
TZOFFSETTO:-0400
TZNAME:EDT
DTSTART:20240310T070000
END:DAYLIGHT
BEGIN:STANDARD
TZOFFSETFROM:-0400
TZOFFSETTO:-0500
TZNAME:EST
DTSTART:20241103T060000
END:STANDARD
BEGIN:DAYLIGHT
TZOFFSETFROM:-0500
TZOFFSETTO:-0400
TZNAME:EDT
DTSTART:20250309T070000
END:DAYLIGHT
BEGIN:STANDARD
TZOFFSETFROM:-0400
TZOFFSETTO:-0500
TZNAME:EST
DTSTART:20251102T060000
END:STANDARD
BEGIN:DAYLIGHT
TZOFFSETFROM:-0500
TZOFFSETTO:-0400
TZNAME:EDT
DTSTART:20260308T070000
END:DAYLIGHT
BEGIN:STANDARD
TZOFFSETFROM:-0400
TZOFFSETTO:-0500
TZNAME:EST
DTSTART:20261101T060000
END:STANDARD
END:VTIMEZONE
BEGIN:VEVENT
DTSTART;TZID=America/New_York:20250518T110000
DTEND;TZID=America/New_York:20250518T150000
DTSTAMP:20260423T184827
CREATED:20250401T195755Z
LAST-MODIFIED:20250517T193829Z
UID:15210-1747566000-1747580400@parkslopeciviccouncil.org
SUMMARY:Annual House Tour
DESCRIPTION:House Tour. \n\n\n\nSOLD OUT
URL:https://parkslopeciviccouncil.org/event/15210/
END:VEVENT
BEGIN:VEVENT
DTSTART;TZID=America/New_York:20250518T150000
DTEND;TZID=America/New_York:20250518T170000
DTSTAMP:20260423T184827
CREATED:20250401T200252Z
LAST-MODIFIED:20250401T200256Z
UID:15213-1747580400-1747587600@parkslopeciviccouncil.org
SUMMARY:Post Tour Gathering
DESCRIPTION:Chat about the house tour with other attendees\, over a beer or cocktail
URL:https://parkslopeciviccouncil.org/event/post-tour-gathering/
LOCATION:Greenwood Park\, 555 7th Avenue\, Brooklyn
END:VEVENT
BEGIN:VEVENT
DTSTART;TZID=America/New_York:20250518T150000
DTEND;TZID=America/New_York:20250518T170000
DTSTAMP:20260423T184827
CREATED:20250401T200541Z
LAST-MODIFIED:20250401T200545Z
UID:15218-1747580400-1747587600@parkslopeciviccouncil.org
SUMMARY:Post Tour Chat
DESCRIPTION:Get a beer and eet others fro the House Tour
URL:https://parkslopeciviccouncil.org/event/post-tour-chat/
LOCATION:Brewer’s Row\, 228 7th Avenue\, Brooklyn
END:VEVENT
END:VCALENDAR