BEGIN:VCALENDAR
VERSION:2.0
PRODID:-//Park Slope Civic Council - ECPv6.15.20//NONSGML v1.0//EN
CALSCALE:GREGORIAN
METHOD:PUBLISH
X-WR-CALNAME:Park Slope Civic Council
X-ORIGINAL-URL:https://parkslopeciviccouncil.org
X-WR-CALDESC:Events for Park Slope Civic Council
REFRESH-INTERVAL;VALUE=DURATION:PT1H
X-Robots-Tag:noindex
X-PUBLISHED-TTL:PT1H
BEGIN:VTIMEZONE
TZID:America/New_York
BEGIN:DAYLIGHT
TZOFFSETFROM:-0500
TZOFFSETTO:-0400
TZNAME:EDT
DTSTART:20240310T070000
END:DAYLIGHT
BEGIN:STANDARD
TZOFFSETFROM:-0400
TZOFFSETTO:-0500
TZNAME:EST
DTSTART:20241103T060000
END:STANDARD
BEGIN:DAYLIGHT
TZOFFSETFROM:-0500
TZOFFSETTO:-0400
TZNAME:EDT
DTSTART:20250309T070000
END:DAYLIGHT
BEGIN:STANDARD
TZOFFSETFROM:-0400
TZOFFSETTO:-0500
TZNAME:EST
DTSTART:20251102T060000
END:STANDARD
BEGIN:DAYLIGHT
TZOFFSETFROM:-0500
TZOFFSETTO:-0400
TZNAME:EDT
DTSTART:20260308T070000
END:DAYLIGHT
BEGIN:STANDARD
TZOFFSETFROM:-0400
TZOFFSETTO:-0500
TZNAME:EST
DTSTART:20261101T060000
END:STANDARD
END:VTIMEZONE
BEGIN:VEVENT
DTSTART;TZID=America/New_York:20251211T190000
DTEND;TZID=America/New_York:20251211T203000
DTSTAMP:20260423T070248
CREATED:20250813T125059Z
LAST-MODIFIED:20251204T205417Z
UID:15711-1765479600-1765485000@parkslopeciviccouncil.org
SUMMARY:Holiday Party/Meeting
DESCRIPTION:Please note that the meeting will be in the NewYork-Presbyterian/ Brooklyn Methodist Hospital conference room 230A/B at 515 6th Street. Please bring ID with you; you have to check in at the large white desk. The room is on the main floor\, around to the left\, past the cafe. \n\n\n\nPlease stay and join our holiday dessert reception. Bring a friend and your favorite homemade dessert or something you love from a local bakery. Wine\, beer\, or soft drinks are also welcome.
URL:https://parkslopeciviccouncil.org/event/holiday-party-meeting/
LOCATION:NewYork-Presbyterian Brooklyn Methodist Hospital\, Conference room 230A/B\, 515 6th Street\, Brooklyn\, NY\, 11215\, United States
END:VEVENT
END:VCALENDAR