BEGIN:VCALENDAR
VERSION:2.0
PRODID:-//Park Slope Civic Council - ECPv6.15.20//NONSGML v1.0//EN
CALSCALE:GREGORIAN
METHOD:PUBLISH
X-WR-CALNAME:Park Slope Civic Council
X-ORIGINAL-URL:https://parkslopeciviccouncil.org
X-WR-CALDESC:Events for Park Slope Civic Council
REFRESH-INTERVAL;VALUE=DURATION:PT1H
X-Robots-Tag:noindex
X-PUBLISHED-TTL:PT1H
BEGIN:VTIMEZONE
TZID:America/New_York
BEGIN:DAYLIGHT
TZOFFSETFROM:-0500
TZOFFSETTO:-0400
TZNAME:EDT
DTSTART:20170312T070000
END:DAYLIGHT
BEGIN:STANDARD
TZOFFSETFROM:-0400
TZOFFSETTO:-0500
TZNAME:EST
DTSTART:20171105T060000
END:STANDARD
BEGIN:DAYLIGHT
TZOFFSETFROM:-0500
TZOFFSETTO:-0400
TZNAME:EDT
DTSTART:20180311T070000
END:DAYLIGHT
BEGIN:STANDARD
TZOFFSETFROM:-0400
TZOFFSETTO:-0500
TZNAME:EST
DTSTART:20181104T060000
END:STANDARD
BEGIN:DAYLIGHT
TZOFFSETFROM:-0500
TZOFFSETTO:-0400
TZNAME:EDT
DTSTART:20190310T070000
END:DAYLIGHT
BEGIN:STANDARD
TZOFFSETFROM:-0400
TZOFFSETTO:-0500
TZNAME:EST
DTSTART:20191103T060000
END:STANDARD
END:VTIMEZONE
BEGIN:VEVENT
DTSTART;TZID=America/New_York:20180514T183000
DTEND;TZID=America/New_York:20180514T203000
DTSTAMP:20260423T145851
CREATED:20180417T203354Z
LAST-MODIFIED:20180417T203354Z
UID:7495-1526322600-1526329800@parkslopeciviccouncil.org
SUMMARY:5@55: The Five Legal Documents You Need by Age 55
DESCRIPTION:Empower Yourself with Knowledge\, Prepare For Your Future The Way You Want It To Be \nHeights and Hills hosts a Community Conversation at the Park Slope Center for Successful Aging on Monday\, May 14. Judith Grimaldi and Joanne Seminara\, elder law attorneys and authors of 5@55\, will lead a discussion about the essential steps you need to take once you reach your 50s to ensure that your wishes are honored. \n  \nDate: Monday\, May 14 \nTime: 6:30 – 8:30 PM \nLocation: Park Slope Center for Successful Aging \n463A 7th St\, Brooklyn\, NY 11215 \nThis event is open to the public. \nRegistration is Required. \nTo Register or for More Information: Call 718-596-8789 or e-mail: info@heightsandhills.org
URL:https://parkslopeciviccouncil.org/event/may-14-555-the-five-legal-documents-you-need-by-age-55/
LOCATION:Park Slope Center for Successful Aging\, 463A 7th Street\, Brooklyn\, NY 11215 (at the corner of 7th Avenue in Park Slope)\, 463A 7th Street\, Brooklyn\, NY\, 11215
CATEGORIES:Age Friendly,Community
END:VEVENT
BEGIN:VEVENT
DTSTART;TZID=America/New_York:20180514T183000
DTEND;TZID=America/New_York:20180514T203000
DTSTAMP:20260423T145851
CREATED:20180417T203354Z
LAST-MODIFIED:20180417T203354Z
UID:10570-1526322600-1526329800@parkslopeciviccouncil.org
SUMMARY:5@55: The Five Legal Documents You Need by Age 55
DESCRIPTION:Empower Yourself with Knowledge\, Prepare For Your Future The Way You Want It To Be \nHeights and Hills hosts a Community Conversation at the Park Slope Center for Successful Aging on Monday\, May 14. Judith Grimaldi and Joanne Seminara\, elder law attorneys and authors of 5@55\, will lead a discussion about the essential steps you need to take once you reach your 50s to ensure that your wishes are honored. \n  \nDate: Monday\, May 14 \nTime: 6:30 – 8:30 PM \nLocation: Park Slope Center for Successful Aging \n463A 7th St\, Brooklyn\, NY 11215 \nThis event is open to the public. \nRegistration is Required. \nTo Register or for More Information: Call 718-596-8789 or e-mail: info@heightsandhills.org
URL:https://parkslopeciviccouncil.org/event/may-14-555-the-five-legal-documents-you-need-by-age-55-5/
LOCATION:Park Slope Center for Successful Aging\, 463A 7th Street\, Brooklyn\, NY 11215 (at the corner of 7th Avenue in Park Slope)\, 463A 7th Street\, Brooklyn\, NY\, 11215
CATEGORIES:Age Friendly,Community
END:VEVENT
BEGIN:VEVENT
DTSTART;TZID=America/New_York:20180514T183000
DTEND;TZID=America/New_York:20180514T203000
DTSTAMP:20260423T145851
CREATED:20180417T203354Z
LAST-MODIFIED:20180417T203354Z
UID:10222-1526322600-1526329800@parkslopeciviccouncil.org
SUMMARY:5@55: The Five Legal Documents You Need by Age 55
DESCRIPTION:Empower Yourself with Knowledge\, Prepare For Your Future The Way You Want It To Be \nHeights and Hills hosts a Community Conversation at the Park Slope Center for Successful Aging on Monday\, May 14. Judith Grimaldi and Joanne Seminara\, elder law attorneys and authors of 5@55\, will lead a discussion about the essential steps you need to take once you reach your 50s to ensure that your wishes are honored. \n  \nDate: Monday\, May 14 \nTime: 6:30 – 8:30 PM \nLocation: Park Slope Center for Successful Aging \n463A 7th St\, Brooklyn\, NY 11215 \nThis event is open to the public. \nRegistration is Required. \nTo Register or for More Information: Call 718-596-8789 or e-mail: info@heightsandhills.org
URL:https://parkslopeciviccouncil.org/event/may-14-555-the-five-legal-documents-you-need-by-age-55-4/
LOCATION:Park Slope Center for Successful Aging\, 463A 7th Street\, Brooklyn\, NY 11215 (at the corner of 7th Avenue in Park Slope)\, 463A 7th Street\, Brooklyn\, NY\, 11215
CATEGORIES:Age Friendly,Community
END:VEVENT
BEGIN:VEVENT
DTSTART;TZID=America/New_York:20180514T183000
DTEND;TZID=America/New_York:20180514T203000
DTSTAMP:20260423T145851
CREATED:20180417T203354Z
LAST-MODIFIED:20180417T203354Z
UID:10890-1526322600-1526329800@parkslopeciviccouncil.org
SUMMARY:5@55: The Five Legal Documents You Need by Age 55
DESCRIPTION:Empower Yourself with Knowledge\, Prepare For Your Future The Way You Want It To Be \nHeights and Hills hosts a Community Conversation at the Park Slope Center for Successful Aging on Monday\, May 14. Judith Grimaldi and Joanne Seminara\, elder law attorneys and authors of 5@55\, will lead a discussion about the essential steps you need to take once you reach your 50s to ensure that your wishes are honored. \n  \nDate: Monday\, May 14 \nTime: 6:30 – 8:30 PM \nLocation: Park Slope Center for Successful Aging \n463A 7th St\, Brooklyn\, NY 11215 \nThis event is open to the public. \nRegistration is Required. \nTo Register or for More Information: Call 718-596-8789 or e-mail: info@heightsandhills.org
URL:https://parkslopeciviccouncil.org/event/may-14-555-the-five-legal-documents-you-need-by-age-55-6/
LOCATION:Park Slope Center for Successful Aging\, 463A 7th Street\, Brooklyn\, NY 11215 (at the corner of 7th Avenue in Park Slope)\, 463A 7th Street\, Brooklyn\, NY\, 11215
CATEGORIES:Age Friendly,Community
END:VEVENT
BEGIN:VEVENT
DTSTART;TZID=America/New_York:20180514T183000
DTEND;TZID=America/New_York:20180514T203000
DTSTAMP:20260423T145851
CREATED:20180417T203354Z
LAST-MODIFIED:20180417T203354Z
UID:9862-1526322600-1526329800@parkslopeciviccouncil.org
SUMMARY:5@55: The Five Legal Documents You Need by Age 55
DESCRIPTION:Empower Yourself with Knowledge\, Prepare For Your Future The Way You Want It To Be \nHeights and Hills hosts a Community Conversation at the Park Slope Center for Successful Aging on Monday\, May 14. Judith Grimaldi and Joanne Seminara\, elder law attorneys and authors of 5@55\, will lead a discussion about the essential steps you need to take once you reach your 50s to ensure that your wishes are honored. \n  \nDate: Monday\, May 14 \nTime: 6:30 – 8:30 PM \nLocation: Park Slope Center for Successful Aging \n463A 7th St\, Brooklyn\, NY 11215 \nThis event is open to the public. \nRegistration is Required. \nTo Register or for More Information: Call 718-596-8789 or e-mail: info@heightsandhills.org
URL:https://parkslopeciviccouncil.org/event/may-14-555-the-five-legal-documents-you-need-by-age-55-3/
LOCATION:Park Slope Center for Successful Aging\, 463A 7th Street\, Brooklyn\, NY 11215 (at the corner of 7th Avenue in Park Slope)\, 463A 7th Street\, Brooklyn\, NY\, 11215
CATEGORIES:Age Friendly,Community
END:VEVENT
BEGIN:VEVENT
DTSTART;TZID=America/New_York:20180409T183000
DTEND;TZID=America/New_York:20180409T203000
DTSTAMP:20260423T145851
CREATED:20180322T170013Z
LAST-MODIFIED:20180322T170013Z
UID:7452-1523298600-1523305800@parkslopeciviccouncil.org
SUMMARY:Long Distance Caregiving: Caring for Someone Who Lives Far Away A PSCC Collaboration with Heights and Hills
DESCRIPTION:As part of the PSCC project\, “We’re All In This Together\,” PSCC is pleased to announce the upcoming workshop\, a PSCC collaboration with Heights and Hills:\n\nLong Distance Caregiving: Caring for Someone Who Lives Far Away \n\n\nDATE:  Monday\, April 9th\nTIME: 6:30 PM to 8:30 PM\n\n\n\n\nLOCATION:  Park Slope Center for Successful Aging\n463A 7th Street\n\n(between 6th and 7th Avenues)\n\nBrooklyn\, NY 11215\n\n\nRegistration is required. Please contact Adina Segal at 718-596-8789\, ext 317 or by e-mail at asegal@jheightsandhills.org to register or for more information.\n\n\nAs parents grow older\, adult children are often faced with the difficult task of caring for their aging parents who live in other states. Collaborating with Heights and Hills\, the Park Slope Civic Council is co-sponsoring a forum on Long Distance Caregiving: Caring for Someone Who Lives Far Away\, which will address such topics as how to find resources in distant locations as well as considerations related to navigating care. Join us for this informative event on Monday\, April 9 from 6:30pm to 8:30pm at the Park Slope Center for Successful Aging\, 463A 7th Street in Park Slope.\n\n\nThis program is funded by the NYC Department for the Aging.
URL:https://parkslopeciviccouncil.org/event/long-distance-caregiving-caring-for-someone-who-lives-far-away-a-pscc-collaboration-with-heights-and-hills/
LOCATION:Park Slope Center for Successful Aging\, 463A 7th Street\, Brooklyn\, NY 11215 (at the corner of 7th Avenue in Park Slope)\, 463A 7th Street\, Brooklyn\, NY\, 11215
CATEGORIES:Age Friendly,PSCC Sponsored Event
ORGANIZER;CN="Park Slope Civic Council":MAILTO:membership@parkslopecouncil.org
END:VEVENT
BEGIN:VEVENT
DTSTART;TZID=America/New_York:20180409T183000
DTEND;TZID=America/New_York:20180409T203000
DTSTAMP:20260423T145851
CREATED:20180322T170013Z
LAST-MODIFIED:20180322T170013Z
UID:10566-1523298600-1523305800@parkslopeciviccouncil.org
SUMMARY:Long Distance Caregiving: Caring for Someone Who Lives Far Away A PSCC Collaboration with Heights and Hills
DESCRIPTION:As part of the PSCC project\, “We’re All In This Together\,” PSCC is pleased to announce the upcoming workshop\, a PSCC collaboration with Heights and Hills:\n\nLong Distance Caregiving: Caring for Someone Who Lives Far Away \n\n\nDATE:  Monday\, April 9th\nTIME: 6:30 PM to 8:30 PM\n\n\n\n\nLOCATION:  Park Slope Center for Successful Aging\n463A 7th Street\n\n(between 6th and 7th Avenues)\n\nBrooklyn\, NY 11215\n\n\nRegistration is required. Please contact Adina Segal at 718-596-8789\, ext 317 or by e-mail at asegal@jheightsandhills.org to register or for more information.\n\n\nAs parents grow older\, adult children are often faced with the difficult task of caring for their aging parents who live in other states. Collaborating with Heights and Hills\, the Park Slope Civic Council is co-sponsoring a forum on Long Distance Caregiving: Caring for Someone Who Lives Far Away\, which will address such topics as how to find resources in distant locations as well as considerations related to navigating care. Join us for this informative event on Monday\, April 9 from 6:30pm to 8:30pm at the Park Slope Center for Successful Aging\, 463A 7th Street in Park Slope.\n\n\nThis program is funded by the NYC Department for the Aging.
URL:https://parkslopeciviccouncil.org/event/long-distance-caregiving-caring-for-someone-who-lives-far-away-a-pscc-collaboration-with-heights-and-hills-5/
LOCATION:Park Slope Center for Successful Aging\, 463A 7th Street\, Brooklyn\, NY 11215 (at the corner of 7th Avenue in Park Slope)\, 463A 7th Street\, Brooklyn\, NY\, 11215
CATEGORIES:Age Friendly,PSCC Sponsored Event
ORGANIZER;CN="Park Slope Civic Council":MAILTO:membership@parkslopecouncil.org
END:VEVENT
BEGIN:VEVENT
DTSTART;TZID=America/New_York:20180409T183000
DTEND;TZID=America/New_York:20180409T203000
DTSTAMP:20260423T145851
CREATED:20180322T170013Z
LAST-MODIFIED:20180322T170013Z
UID:10218-1523298600-1523305800@parkslopeciviccouncil.org
SUMMARY:Long Distance Caregiving: Caring for Someone Who Lives Far Away A PSCC Collaboration with Heights and Hills
DESCRIPTION:As part of the PSCC project\, “We’re All In This Together\,” PSCC is pleased to announce the upcoming workshop\, a PSCC collaboration with Heights and Hills:\n\nLong Distance Caregiving: Caring for Someone Who Lives Far Away \n\n\nDATE:  Monday\, April 9th\nTIME: 6:30 PM to 8:30 PM\n\n\n\n\nLOCATION:  Park Slope Center for Successful Aging\n463A 7th Street\n\n(between 6th and 7th Avenues)\n\nBrooklyn\, NY 11215\n\n\nRegistration is required. Please contact Adina Segal at 718-596-8789\, ext 317 or by e-mail at asegal@jheightsandhills.org to register or for more information.\n\n\nAs parents grow older\, adult children are often faced with the difficult task of caring for their aging parents who live in other states. Collaborating with Heights and Hills\, the Park Slope Civic Council is co-sponsoring a forum on Long Distance Caregiving: Caring for Someone Who Lives Far Away\, which will address such topics as how to find resources in distant locations as well as considerations related to navigating care. Join us for this informative event on Monday\, April 9 from 6:30pm to 8:30pm at the Park Slope Center for Successful Aging\, 463A 7th Street in Park Slope.\n\n\nThis program is funded by the NYC Department for the Aging.
URL:https://parkslopeciviccouncil.org/event/long-distance-caregiving-caring-for-someone-who-lives-far-away-a-pscc-collaboration-with-heights-and-hills-4/
LOCATION:Park Slope Center for Successful Aging\, 463A 7th Street\, Brooklyn\, NY 11215 (at the corner of 7th Avenue in Park Slope)\, 463A 7th Street\, Brooklyn\, NY\, 11215
CATEGORIES:Age Friendly,PSCC Sponsored Event
ORGANIZER;CN="Park Slope Civic Council":MAILTO:membership@parkslopecouncil.org
END:VEVENT
BEGIN:VEVENT
DTSTART;TZID=America/New_York:20180409T183000
DTEND;TZID=America/New_York:20180409T203000
DTSTAMP:20260423T145851
CREATED:20180322T170013Z
LAST-MODIFIED:20180322T170013Z
UID:10886-1523298600-1523305800@parkslopeciviccouncil.org
SUMMARY:Long Distance Caregiving: Caring for Someone Who Lives Far Away A PSCC Collaboration with Heights and Hills
DESCRIPTION:As part of the PSCC project\, “We’re All In This Together\,” PSCC is pleased to announce the upcoming workshop\, a PSCC collaboration with Heights and Hills:\n\nLong Distance Caregiving: Caring for Someone Who Lives Far Away \n\n\nDATE:  Monday\, April 9th\nTIME: 6:30 PM to 8:30 PM\n\n\n\n\nLOCATION:  Park Slope Center for Successful Aging\n463A 7th Street\n\n(between 6th and 7th Avenues)\n\nBrooklyn\, NY 11215\n\n\nRegistration is required. Please contact Adina Segal at 718-596-8789\, ext 317 or by e-mail at asegal@jheightsandhills.org to register or for more information.\n\n\nAs parents grow older\, adult children are often faced with the difficult task of caring for their aging parents who live in other states. Collaborating with Heights and Hills\, the Park Slope Civic Council is co-sponsoring a forum on Long Distance Caregiving: Caring for Someone Who Lives Far Away\, which will address such topics as how to find resources in distant locations as well as considerations related to navigating care. Join us for this informative event on Monday\, April 9 from 6:30pm to 8:30pm at the Park Slope Center for Successful Aging\, 463A 7th Street in Park Slope.\n\n\nThis program is funded by the NYC Department for the Aging.
URL:https://parkslopeciviccouncil.org/event/long-distance-caregiving-caring-for-someone-who-lives-far-away-a-pscc-collaboration-with-heights-and-hills-6/
LOCATION:Park Slope Center for Successful Aging\, 463A 7th Street\, Brooklyn\, NY 11215 (at the corner of 7th Avenue in Park Slope)\, 463A 7th Street\, Brooklyn\, NY\, 11215
CATEGORIES:Age Friendly,PSCC Sponsored Event
ORGANIZER;CN="Park Slope Civic Council":MAILTO:membership@parkslopecouncil.org
END:VEVENT
BEGIN:VEVENT
DTSTART;TZID=America/New_York:20180409T183000
DTEND;TZID=America/New_York:20180409T203000
DTSTAMP:20260423T145851
CREATED:20180322T170013Z
LAST-MODIFIED:20180322T170013Z
UID:9858-1523298600-1523305800@parkslopeciviccouncil.org
SUMMARY:Long Distance Caregiving: Caring for Someone Who Lives Far Away A PSCC Collaboration with Heights and Hills
DESCRIPTION:As part of the PSCC project\, “We’re All In This Together\,” PSCC is pleased to announce the upcoming workshop\, a PSCC collaboration with Heights and Hills:\n\nLong Distance Caregiving: Caring for Someone Who Lives Far Away \n\n\nDATE:  Monday\, April 9th\nTIME: 6:30 PM to 8:30 PM\n\n\n\n\nLOCATION:  Park Slope Center for Successful Aging\n463A 7th Street\n\n(between 6th and 7th Avenues)\n\nBrooklyn\, NY 11215\n\n\nRegistration is required. Please contact Adina Segal at 718-596-8789\, ext 317 or by e-mail at asegal@jheightsandhills.org to register or for more information.\n\n\nAs parents grow older\, adult children are often faced with the difficult task of caring for their aging parents who live in other states. Collaborating with Heights and Hills\, the Park Slope Civic Council is co-sponsoring a forum on Long Distance Caregiving: Caring for Someone Who Lives Far Away\, which will address such topics as how to find resources in distant locations as well as considerations related to navigating care. Join us for this informative event on Monday\, April 9 from 6:30pm to 8:30pm at the Park Slope Center for Successful Aging\, 463A 7th Street in Park Slope.\n\n\nThis program is funded by the NYC Department for the Aging.
URL:https://parkslopeciviccouncil.org/event/long-distance-caregiving-caring-for-someone-who-lives-far-away-a-pscc-collaboration-with-heights-and-hills-3/
LOCATION:Park Slope Center for Successful Aging\, 463A 7th Street\, Brooklyn\, NY 11215 (at the corner of 7th Avenue in Park Slope)\, 463A 7th Street\, Brooklyn\, NY\, 11215
CATEGORIES:Age Friendly,PSCC Sponsored Event
ORGANIZER;CN="Park Slope Civic Council":MAILTO:membership@parkslopecouncil.org
END:VEVENT
BEGIN:VEVENT
DTSTART;TZID=America/New_York:20180409T183000
DTEND;TZID=America/New_York:20180409T203000
DTSTAMP:20260423T145851
CREATED:20180322T170013Z
LAST-MODIFIED:20180322T170013Z
UID:9498-1523298600-1523305800@parkslopeciviccouncil.org
SUMMARY:Long Distance Caregiving: Caring for Someone Who Lives Far Away A PSCC Collaboration with Heights and Hills
DESCRIPTION:As part of the PSCC project\, “We’re All In This Together\,” PSCC is pleased to announce the upcoming workshop\, a PSCC collaboration with Heights and Hills:\n\nLong Distance Caregiving: Caring for Someone Who Lives Far Away \n\n\nDATE:  Monday\, April 9th\nTIME: 6:30 PM to 8:30 PM\n\n\n\n\nLOCATION:  Park Slope Center for Successful Aging\n463A 7th Street\n\n(between 6th and 7th Avenues)\n\nBrooklyn\, NY 11215\n\n\nRegistration is required. Please contact Adina Segal at 718-596-8789\, ext 317 or by e-mail at asegal@jheightsandhills.org to register or for more information.\n\n\nAs parents grow older\, adult children are often faced with the difficult task of caring for their aging parents who live in other states. Collaborating with Heights and Hills\, the Park Slope Civic Council is co-sponsoring a forum on Long Distance Caregiving: Caring for Someone Who Lives Far Away\, which will address such topics as how to find resources in distant locations as well as considerations related to navigating care. Join us for this informative event on Monday\, April 9 from 6:30pm to 8:30pm at the Park Slope Center for Successful Aging\, 463A 7th Street in Park Slope.\n\n\nThis program is funded by the NYC Department for the Aging.
URL:https://parkslopeciviccouncil.org/event/long-distance-caregiving-caring-for-someone-who-lives-far-away-a-pscc-collaboration-with-heights-and-hills-2/
LOCATION:Park Slope Center for Successful Aging\, 463A 7th Street\, Brooklyn\, NY 11215 (at the corner of 7th Avenue in Park Slope)\, 463A 7th Street\, Brooklyn\, NY\, 11215
CATEGORIES:Age Friendly,PSCC Sponsored Event
ORGANIZER;CN="Park Slope Civic Council":MAILTO:membership@parkslopecouncil.org
END:VEVENT
BEGIN:VEVENT
DTSTART;TZID=America/New_York:20180409T183000
DTEND;TZID=America/New_York:20180409T203000
DTSTAMP:20260423T145851
CREATED:20180322T170013Z
LAST-MODIFIED:20180322T170013Z
UID:12371-1523298600-1523305800@parkslopeciviccouncil.org
SUMMARY:Long Distance Caregiving: Caring for Someone Who Lives Far Away A PSCC Collaboration with Heights and Hills
DESCRIPTION:As part of the PSCC project\, \”We\’re All In This Together\,\” PSCC is pleased to announce the upcoming workshop\, a PSCC collaboration with Heights and Hills:\n\nLong Distance Caregiving: Caring for Someone Who Lives Far Away \n\n\nDATE:  Monday\, April 9th\nTIME: 6:30 PM to 8:30 PM\n\n\n\n\nLOCATION:  Park Slope Center for Successful Aging\n463A 7th Street\n\n(between 6th and 7th Avenues)\n\nBrooklyn\, NY 11215\n\n\nRegistration is required. Please contact Adina Segal at 718-596-8789\, ext 317 or by e-mail at asegal@jheightsandhills.org to register or for more information.\n\n\nAs parents grow older\, adult children are often faced with the difficult task of caring for their aging parents who live in other states. Collaborating with Heights and Hills\, the Park Slope Civic Council is co-sponsoring a forum on Long Distance Caregiving: Caring for Someone Who Lives Far Away\, which will address such topics as how to find resources in distant locations as well as considerations related to navigating care. Join us for this informative event on Monday\, April 9 from 6:30pm to 8:30pm at the Park Slope Center for Successful Aging\, 463A 7th Street in Park Slope.\n\n\nThis program is funded by the NYC Department for the Aging.
URL:https://parkslopeciviccouncil.org/event/long-distance-caregiving-caring-for-someone-who-lives-far-away-a-pscc-collaboration-with-heights-and-hills-7/
LOCATION:Park Slope Center for Successful Aging\, 463A 7th Street\, Brooklyn\, NY 11215 (at the corner of 7th Avenue in Park Slope)\, 463A 7th Street\, Brooklyn\, NY\, 11215
CATEGORIES:Age Friendly,PSCC Sponsored Event
ORGANIZER;CN="Park Slope Civic Council":MAILTO:membership@parkslopecouncil.org
END:VEVENT
END:VCALENDAR