BEGIN:VCALENDAR
VERSION:2.0
PRODID:-//Park Slope Civic Council - ECPv6.15.20//NONSGML v1.0//EN
CALSCALE:GREGORIAN
METHOD:PUBLISH
X-ORIGINAL-URL:https://parkslopeciviccouncil.org
X-WR-CALDESC:Events for Park Slope Civic Council
REFRESH-INTERVAL;VALUE=DURATION:PT1H
X-Robots-Tag:noindex
X-PUBLISHED-TTL:PT1H
BEGIN:VTIMEZONE
TZID:UTC
BEGIN:STANDARD
TZOFFSETFROM:+0000
TZOFFSETTO:+0000
TZNAME:UTC
DTSTART:20110101T000000
END:STANDARD
END:VTIMEZONE
BEGIN:VEVENT
DTSTART;TZID=UTC:20120619T190000
DTEND;TZID=UTC:20120619T210059
DTSTAMP:20260424T165210
CREATED:20120618T150345Z
LAST-MODIFIED:20120618T150345Z
UID:9223-1340132400-1340139659@parkslopeciviccouncil.org
SUMMARY:Kickoff meeting to organize a demonstration at Barclays Center's opening
DESCRIPTION:BrooklynSpeaks\, Develop Don’t Destroy Brooklyn\, Brown Memorial Baptist Church\, Brown Community Development Corporation and Occupy groups invite you to a kickoff meeting to organize a demonstration at the Barclays Center opening. \nThe Park Slope Civic Council is one of the founding sponsors of the community wide BrooklynSpeaks coalition. \nFrom more about this meeting\, read our post here.
URL:https://parkslopeciviccouncil.org/event/kickoff-meeting-to-organize-a-demonstration-at-barclays-centers-opening-2/
LOCATION:Brown Memorial Baptist Church\, 484 Washington Ave.\, Brooklyn\, NY\, United States
CATEGORIES:Atlantic Yards
END:VEVENT
BEGIN:VEVENT
DTSTART;TZID=UTC:20120619T190000
DTEND;TZID=UTC:20120619T210059
DTSTAMP:20260424T165210
CREATED:20120618T150345Z
LAST-MODIFIED:20120618T150345Z
UID:9941-1340132400-1340139659@parkslopeciviccouncil.org
SUMMARY:Kickoff meeting to organize a demonstration at Barclays Center's opening
DESCRIPTION:BrooklynSpeaks\, Develop Don’t Destroy Brooklyn\, Brown Memorial Baptist Church\, Brown Community Development Corporation and Occupy groups invite you to a kickoff meeting to organize a demonstration at the Barclays Center opening. \nThe Park Slope Civic Council is one of the founding sponsors of the community wide BrooklynSpeaks coalition. \nFrom more about this meeting\, read our post here.
URL:https://parkslopeciviccouncil.org/event/kickoff-meeting-to-organize-a-demonstration-at-barclays-centers-opening-4/
LOCATION:Brown Memorial Baptist Church\, 484 Washington Ave.\, Brooklyn\, NY\, United States
CATEGORIES:Atlantic Yards
END:VEVENT
BEGIN:VEVENT
DTSTART;TZID=UTC:20120619T190000
DTEND;TZID=UTC:20120619T210059
DTSTAMP:20260424T165210
CREATED:20120618T150345Z
LAST-MODIFIED:20120618T150345Z
UID:10611-1340132400-1340139659@parkslopeciviccouncil.org
SUMMARY:Kickoff meeting to organize a demonstration at Barclays Center's opening
DESCRIPTION:BrooklynSpeaks\, Develop Don’t Destroy Brooklyn\, Brown Memorial Baptist Church\, Brown Community Development Corporation and Occupy groups invite you to a kickoff meeting to organize a demonstration at the Barclays Center opening. \nThe Park Slope Civic Council is one of the founding sponsors of the community wide BrooklynSpeaks coalition. \nFrom more about this meeting\, read our post here.
URL:https://parkslopeciviccouncil.org/event/kickoff-meeting-to-organize-a-demonstration-at-barclays-centers-opening-6/
LOCATION:Brown Memorial Baptist Church\, 484 Washington Ave.\, Brooklyn\, NY\, United States
CATEGORIES:Atlantic Yards
END:VEVENT
BEGIN:VEVENT
DTSTART;TZID=UTC:20120619T190000
DTEND;TZID=UTC:20120619T210059
DTSTAMP:20260424T165210
CREATED:20120618T150345Z
LAST-MODIFIED:20120618T150345Z
UID:2271-1340132400-1340139659@parkslopeciviccouncil.org
SUMMARY:Kickoff meeting to organize a demonstration at Barclays Center's opening
DESCRIPTION:BrooklynSpeaks\, Develop Don’t Destroy Brooklyn\, Brown Memorial Baptist Church\, Brown Community Development Corporation and Occupy groups invite you to a kickoff meeting to organize a demonstration at the Barclays Center opening. \nThe Park Slope Civic Council is one of the founding sponsors of the community wide BrooklynSpeaks coalition. \nFrom more about this meeting\, read our post here.
URL:https://parkslopeciviccouncil.org/event/kickoff-meeting-to-organize-a-demonstration-at-barclays-centers-opening/
LOCATION:Brown Memorial Baptist Church\, 484 Washington Ave.\, Brooklyn\, NY\, United States
CATEGORIES:Atlantic Yards
END:VEVENT
BEGIN:VEVENT
DTSTART;TZID=UTC:20120619T190000
DTEND;TZID=UTC:20120619T210059
DTSTAMP:20260424T165210
CREATED:20120618T150345Z
LAST-MODIFIED:20120618T150345Z
UID:9583-1340132400-1340139659@parkslopeciviccouncil.org
SUMMARY:Kickoff meeting to organize a demonstration at Barclays Center's opening
DESCRIPTION:BrooklynSpeaks\, Develop Don’t Destroy Brooklyn\, Brown Memorial Baptist Church\, Brown Community Development Corporation and Occupy groups invite you to a kickoff meeting to organize a demonstration at the Barclays Center opening. \nThe Park Slope Civic Council is one of the founding sponsors of the community wide BrooklynSpeaks coalition. \nFrom more about this meeting\, read our post here.
URL:https://parkslopeciviccouncil.org/event/kickoff-meeting-to-organize-a-demonstration-at-barclays-centers-opening-3/
LOCATION:Brown Memorial Baptist Church\, 484 Washington Ave.\, Brooklyn\, NY\, United States
CATEGORIES:Atlantic Yards
END:VEVENT
BEGIN:VEVENT
DTSTART;TZID=UTC:20120619T190000
DTEND;TZID=UTC:20120619T210059
DTSTAMP:20260424T165210
CREATED:20120618T150345Z
LAST-MODIFIED:20120618T150345Z
UID:10290-1340132400-1340139659@parkslopeciviccouncil.org
SUMMARY:Kickoff meeting to organize a demonstration at Barclays Center's opening
DESCRIPTION:BrooklynSpeaks\, Develop Don’t Destroy Brooklyn\, Brown Memorial Baptist Church\, Brown Community Development Corporation and Occupy groups invite you to a kickoff meeting to organize a demonstration at the Barclays Center opening. \nThe Park Slope Civic Council is one of the founding sponsors of the community wide BrooklynSpeaks coalition. \nFrom more about this meeting\, read our post here.
URL:https://parkslopeciviccouncil.org/event/kickoff-meeting-to-organize-a-demonstration-at-barclays-centers-opening-5/
LOCATION:Brown Memorial Baptist Church\, 484 Washington Ave.\, Brooklyn\, NY\, United States
CATEGORIES:Atlantic Yards
END:VEVENT
BEGIN:VEVENT
DTSTART;TZID=UTC:20120619T190000
DTEND;TZID=UTC:20120619T210059
DTSTAMP:20260424T165210
CREATED:20120618T150345Z
LAST-MODIFIED:20120618T150345Z
UID:12096-1340132400-1340139659@parkslopeciviccouncil.org
SUMMARY:Kickoff meeting to organize a demonstration at Barclays Center\'s opening
DESCRIPTION:BrooklynSpeaks\, Develop Don’t Destroy Brooklyn\, Brown Memorial Baptist Church\, Brown Community Development Corporation and Occupy groups invite you to a kickoff meeting to organize a demonstration at the Barclays Center opening. \nThe Park Slope Civic Council is one of the founding sponsors of the community wide BrooklynSpeaks coalition. \nFrom more about this meeting\, read our post here.
URL:https://parkslopeciviccouncil.org/event/kickoff-meeting-to-organize-a-demonstration-at-barclays-centers-opening-7/
LOCATION:Brown Memorial Baptist Church\, 484 Washington Ave.\, Brooklyn\, NY\, United States
CATEGORIES:Atlantic Yards
END:VEVENT
BEGIN:VEVENT
DTSTART;TZID=UTC:20120610T150000
DTEND;TZID=UTC:20120610T170059
DTSTAMP:20260424T165210
CREATED:20120604T180113Z
LAST-MODIFIED:20120604T180113Z
UID:9939-1339340400-1339347659@parkslopeciviccouncil.org
SUMMARY:Rally for stronger oversight and promised benefits at Atlantic Yards
DESCRIPTION:Barclays Center opens in September\, but we have yet to see the benefits promised for our tax dollars. Brooklyn demands better! Join the Committee for Arena Justice\, community members\, religious leaders and local elected officials to demand stronger oversight and the housing and jobs promised. \nJoin local community organizations and BrooklynSpeaks at these important events to speak up for accountability and responsibility at Atlantic Yards and Barclays Center. Read more about this rally to demand stronger oversight and promised housing and jobs here.  \n 
URL:https://parkslopeciviccouncil.org/event/rally-for-stronger-oversight-and-promised-benefits-at-atlantic-yards-4/
LOCATION:Location of Rally:\, Atlantic and South Portland Avenues\, Brooklyn\, NY\, United States
CATEGORIES:Atlantic Yards
END:VEVENT
BEGIN:VEVENT
DTSTART;TZID=UTC:20120610T150000
DTEND;TZID=UTC:20120610T170059
DTSTAMP:20260424T165210
CREATED:20120604T180113Z
LAST-MODIFIED:20120604T180113Z
UID:10609-1339340400-1339347659@parkslopeciviccouncil.org
SUMMARY:Rally for stronger oversight and promised benefits at Atlantic Yards
DESCRIPTION:Barclays Center opens in September\, but we have yet to see the benefits promised for our tax dollars. Brooklyn demands better! Join the Committee for Arena Justice\, community members\, religious leaders and local elected officials to demand stronger oversight and the housing and jobs promised. \nJoin local community organizations and BrooklynSpeaks at these important events to speak up for accountability and responsibility at Atlantic Yards and Barclays Center. Read more about this rally to demand stronger oversight and promised housing and jobs here.  \n 
URL:https://parkslopeciviccouncil.org/event/rally-for-stronger-oversight-and-promised-benefits-at-atlantic-yards-6/
LOCATION:Location of Rally:\, Atlantic and South Portland Avenues\, Brooklyn\, NY\, United States
CATEGORIES:Atlantic Yards
END:VEVENT
BEGIN:VEVENT
DTSTART;TZID=UTC:20120610T150000
DTEND;TZID=UTC:20120610T170059
DTSTAMP:20260424T165210
CREATED:20120604T180113Z
LAST-MODIFIED:20120604T180113Z
UID:2240-1339340400-1339347659@parkslopeciviccouncil.org
SUMMARY:Rally for stronger oversight and promised benefits at Atlantic Yards
DESCRIPTION:Barclays Center opens in September\, but we have yet to see the benefits promised for our tax dollars. Brooklyn demands better! Join the Committee for Arena Justice\, community members\, religious leaders and local elected officials to demand stronger oversight and the housing and jobs promised. \nJoin local community organizations and BrooklynSpeaks at these important events to speak up for accountability and responsibility at Atlantic Yards and Barclays Center. Read more about this rally to demand stronger oversight and promised housing and jobs here.  \n 
URL:https://parkslopeciviccouncil.org/event/rally-for-stronger-oversight-and-promised-benefits-at-atlantic-yards/
LOCATION:Location of Rally:\, Atlantic and South Portland Avenues\, Brooklyn\, NY\, United States
CATEGORIES:Atlantic Yards
END:VEVENT
BEGIN:VEVENT
DTSTART;TZID=UTC:20120610T150000
DTEND;TZID=UTC:20120610T170059
DTSTAMP:20260424T165210
CREATED:20120604T180113Z
LAST-MODIFIED:20120604T180113Z
UID:9581-1339340400-1339347659@parkslopeciviccouncil.org
SUMMARY:Rally for stronger oversight and promised benefits at Atlantic Yards
DESCRIPTION:Barclays Center opens in September\, but we have yet to see the benefits promised for our tax dollars. Brooklyn demands better! Join the Committee for Arena Justice\, community members\, religious leaders and local elected officials to demand stronger oversight and the housing and jobs promised. \nJoin local community organizations and BrooklynSpeaks at these important events to speak up for accountability and responsibility at Atlantic Yards and Barclays Center. Read more about this rally to demand stronger oversight and promised housing and jobs here.  \n 
URL:https://parkslopeciviccouncil.org/event/rally-for-stronger-oversight-and-promised-benefits-at-atlantic-yards-3/
LOCATION:Location of Rally:\, Atlantic and South Portland Avenues\, Brooklyn\, NY\, United States
CATEGORIES:Atlantic Yards
END:VEVENT
BEGIN:VEVENT
DTSTART;TZID=UTC:20120610T150000
DTEND;TZID=UTC:20120610T170059
DTSTAMP:20260424T165210
CREATED:20120604T180113Z
LAST-MODIFIED:20120604T180113Z
UID:10288-1339340400-1339347659@parkslopeciviccouncil.org
SUMMARY:Rally for stronger oversight and promised benefits at Atlantic Yards
DESCRIPTION:Barclays Center opens in September\, but we have yet to see the benefits promised for our tax dollars. Brooklyn demands better! Join the Committee for Arena Justice\, community members\, religious leaders and local elected officials to demand stronger oversight and the housing and jobs promised. \nJoin local community organizations and BrooklynSpeaks at these important events to speak up for accountability and responsibility at Atlantic Yards and Barclays Center. Read more about this rally to demand stronger oversight and promised housing and jobs here.  \n 
URL:https://parkslopeciviccouncil.org/event/rally-for-stronger-oversight-and-promised-benefits-at-atlantic-yards-5/
LOCATION:Location of Rally:\, Atlantic and South Portland Avenues\, Brooklyn\, NY\, United States
CATEGORIES:Atlantic Yards
END:VEVENT
BEGIN:VEVENT
DTSTART;TZID=UTC:20120610T150000
DTEND;TZID=UTC:20120610T170059
DTSTAMP:20260424T165210
CREATED:20120604T180113Z
LAST-MODIFIED:20120604T180113Z
UID:12094-1339340400-1339347659@parkslopeciviccouncil.org
SUMMARY:Rally for stronger oversight and promised benefits at Atlantic Yards
DESCRIPTION:Barclays Center opens in September\, but we have yet to see the benefits promised for our tax dollars. Brooklyn demands better! Join the Committee for Arena Justice\, community members\, religious leaders and local elected officials to demand stronger oversight and the housing and jobs promised. \nJoin local community organizations and BrooklynSpeaks at these important events to speak up for accountability and responsibility at Atlantic Yards and Barclays Center. Read more about this rally to demand stronger oversight and promised housing and jobs here.  \n 
URL:https://parkslopeciviccouncil.org/event/rally-for-stronger-oversight-and-promised-benefits-at-atlantic-yards-7/
LOCATION:Location of Rally:\, Atlantic and South Portland Avenues\, Brooklyn\, NY\, United States
CATEGORIES:Atlantic Yards
END:VEVENT
BEGIN:VEVENT
DTSTART;TZID=UTC:20120610T150000
DTEND;TZID=UTC:20120610T170059
DTSTAMP:20260424T165210
CREATED:20120604T180113Z
LAST-MODIFIED:20120604T180113Z
UID:9221-1339340400-1339347659@parkslopeciviccouncil.org
SUMMARY:Rally for stronger oversight and promised benefits at Atlantic Yards
DESCRIPTION:Barclays Center opens in September\, but we have yet to see the benefits promised for our tax dollars. Brooklyn demands better! Join the Committee for Arena Justice\, community members\, religious leaders and local elected officials to demand stronger oversight and the housing and jobs promised. \nJoin local community organizations and BrooklynSpeaks at these important events to speak up for accountability and responsibility at Atlantic Yards and Barclays Center. Read more about this rally to demand stronger oversight and promised housing and jobs here.  \n 
URL:https://parkslopeciviccouncil.org/event/rally-for-stronger-oversight-and-promised-benefits-at-atlantic-yards-2/
LOCATION:Location of Rally:\, Atlantic and South Portland Avenues\, Brooklyn\, NY\, United States
CATEGORIES:Atlantic Yards
END:VEVENT
BEGIN:VEVENT
DTSTART;TZID=UTC:20120331T100000
DTEND;TZID=UTC:20120331T130059
DTSTAMP:20260424T165210
CREATED:20120323T170341Z
LAST-MODIFIED:20120323T170341Z
UID:738-1333188000-1333198859@parkslopeciviccouncil.org
SUMMARY:The BK Gateway Transportation Workshop
DESCRIPTION:The neighborhoods of Park Slope\, Prospect Heights\, Crown Heights\, Fort Greene\, Clinton Hill\, Downtown Brooklyn\, Carroll Gardens\, Red Hook\, and Brooklyn Heights face significant transportation challenges. Existing traffic and parking congestion\, demands on transit service\, and dangerous roads for cyclists and pedestrians already pose hurdles for residents\, businesses and the environment. The opening of the Barclays Center at Atlantic Yards will further compound these challenges. \nPlease join New York City Council Member Letitia James and the Prospect Heights Neighborhood Development Council for the BK Gateway Transportation Workshop\, which will lay the groundwork for developing community driven solutions to the transportation issues facing the area. \n\nDiscuss transportation issues affecting our community\nPlanning workshops with transportation experts\nAssist in developing a plan to help guide the New York City Department of Transportation\nHelp develop a plan for the future of transportation and transit in our community\n\nR.S.V.P: Due to limited space\, participants must register. If you would like to attend please e-mail bsherman@council.nyc.gov. \nCo-sponsored by: Councilmember Stephen Levin | Councilmember Brad Lander | Tri-State Transportation Campaign | Park Slope Civic Council | Boerum Hill Association | Transportation Alternatives | Community Board 2 \n  \n 
URL:https://parkslopeciviccouncil.org/event/the-bk-gateway-transportation-workshop/
LOCATION:To Be Determined\, Brooklyn\, NY\, United States
CATEGORIES:Atlantic Yards,Livable Streets
ATTACH;FMTTYPE=image/jpeg:https://parkslopeciviccouncil.org/wp-content/uploads/2012/03/AY-Flatbush-20120119.jpg
END:VEVENT
BEGIN:VEVENT
DTSTART;TZID=UTC:20120331T100000
DTEND;TZID=UTC:20120331T130059
DTSTAMP:20260424T165210
CREATED:20120323T170341Z
LAST-MODIFIED:20120323T170341Z
UID:9567-1333188000-1333198859@parkslopeciviccouncil.org
SUMMARY:The BK Gateway Transportation Workshop
DESCRIPTION:The neighborhoods of Park Slope\, Prospect Heights\, Crown Heights\, Fort Greene\, Clinton Hill\, Downtown Brooklyn\, Carroll Gardens\, Red Hook\, and Brooklyn Heights face significant transportation challenges. Existing traffic and parking congestion\, demands on transit service\, and dangerous roads for cyclists and pedestrians already pose hurdles for residents\, businesses and the environment. The opening of the Barclays Center at Atlantic Yards will further compound these challenges. \nPlease join New York City Council Member Letitia James and the Prospect Heights Neighborhood Development Council for the BK Gateway Transportation Workshop\, which will lay the groundwork for developing community driven solutions to the transportation issues facing the area. \n\nDiscuss transportation issues affecting our community\nPlanning workshops with transportation experts\nAssist in developing a plan to help guide the New York City Department of Transportation\nHelp develop a plan for the future of transportation and transit in our community\n\nR.S.V.P: Due to limited space\, participants must register. If you would like to attend please e-mail bsherman@council.nyc.gov. \nCo-sponsored by: Councilmember Stephen Levin | Councilmember Brad Lander | Tri-State Transportation Campaign | Park Slope Civic Council | Boerum Hill Association | Transportation Alternatives | Community Board 2 \n  \n 
URL:https://parkslopeciviccouncil.org/event/the-bk-gateway-transportation-workshop-3/
LOCATION:To Be Determined\, Brooklyn\, NY\, United States
CATEGORIES:Atlantic Yards,Livable Streets
ATTACH;FMTTYPE=image/jpeg:https://parkslopeciviccouncil.org/wp-content/uploads/2012/03/AY-Flatbush-20120119.jpg
END:VEVENT
BEGIN:VEVENT
DTSTART;TZID=UTC:20120331T100000
DTEND;TZID=UTC:20120331T130059
DTSTAMP:20260424T165210
CREATED:20120323T170341Z
LAST-MODIFIED:20120323T170341Z
UID:10274-1333188000-1333198859@parkslopeciviccouncil.org
SUMMARY:The BK Gateway Transportation Workshop
DESCRIPTION:The neighborhoods of Park Slope\, Prospect Heights\, Crown Heights\, Fort Greene\, Clinton Hill\, Downtown Brooklyn\, Carroll Gardens\, Red Hook\, and Brooklyn Heights face significant transportation challenges. Existing traffic and parking congestion\, demands on transit service\, and dangerous roads for cyclists and pedestrians already pose hurdles for residents\, businesses and the environment. The opening of the Barclays Center at Atlantic Yards will further compound these challenges. \nPlease join New York City Council Member Letitia James and the Prospect Heights Neighborhood Development Council for the BK Gateway Transportation Workshop\, which will lay the groundwork for developing community driven solutions to the transportation issues facing the area. \n\nDiscuss transportation issues affecting our community\nPlanning workshops with transportation experts\nAssist in developing a plan to help guide the New York City Department of Transportation\nHelp develop a plan for the future of transportation and transit in our community\n\nR.S.V.P: Due to limited space\, participants must register. If you would like to attend please e-mail bsherman@council.nyc.gov. \nCo-sponsored by: Councilmember Stephen Levin | Councilmember Brad Lander | Tri-State Transportation Campaign | Park Slope Civic Council | Boerum Hill Association | Transportation Alternatives | Community Board 2 \n  \n 
URL:https://parkslopeciviccouncil.org/event/the-bk-gateway-transportation-workshop-5/
LOCATION:To Be Determined\, Brooklyn\, NY\, United States
CATEGORIES:Atlantic Yards,Livable Streets
ATTACH;FMTTYPE=image/jpeg:https://parkslopeciviccouncil.org/wp-content/uploads/2012/03/AY-Flatbush-20120119.jpg
END:VEVENT
BEGIN:VEVENT
DTSTART;TZID=UTC:20120331T100000
DTEND;TZID=UTC:20120331T130059
DTSTAMP:20260424T165210
CREATED:20120323T170341Z
LAST-MODIFIED:20120323T170341Z
UID:12080-1333188000-1333198859@parkslopeciviccouncil.org
SUMMARY:The BK Gateway Transportation Workshop
DESCRIPTION:The neighborhoods of Park Slope\, Prospect Heights\, Crown Heights\, Fort Greene\, Clinton Hill\, Downtown Brooklyn\, Carroll Gardens\, Red Hook\, and Brooklyn Heights face significant transportation challenges. Existing traffic and parking congestion\, demands on transit service\, and dangerous roads for cyclists and pedestrians already pose hurdles for residents\, businesses and the environment. The opening of the Barclays Center at Atlantic Yards will further compound these challenges. \nPlease join New York City Council Member Letitia James and the Prospect Heights Neighborhood Development Council for the BK Gateway Transportation Workshop\, which will lay the groundwork for developing community driven solutions to the transportation issues facing the area. \n\nDiscuss transportation issues affecting our community\nPlanning workshops with transportation experts\nAssist in developing a plan to help guide the New York City Department of Transportation\nHelp develop a plan for the future of transportation and transit in our community\n\nR.S.V.P: Due to limited space\, participants must register. If you would like to attend please e-mail bsherman@council.nyc.gov. \nCo-sponsored by: Councilmember Stephen Levin | Councilmember Brad Lander | Tri-State Transportation Campaign | Park Slope Civic Council | Boerum Hill Association | Transportation Alternatives | Community Board 2 \n  \n 
URL:https://parkslopeciviccouncil.org/event/the-bk-gateway-transportation-workshop-7/
LOCATION:To Be Determined\, Brooklyn\, NY\, United States
CATEGORIES:Atlantic Yards,Livable Streets
ATTACH;FMTTYPE=image/jpeg:https://parkslopeciviccouncil.org/wp-content/uploads/2012/03/AY-Flatbush-20120119.jpg
END:VEVENT
BEGIN:VEVENT
DTSTART;TZID=UTC:20120331T100000
DTEND;TZID=UTC:20120331T130059
DTSTAMP:20260424T165210
CREATED:20120323T170341Z
LAST-MODIFIED:20120323T170341Z
UID:9207-1333188000-1333198859@parkslopeciviccouncil.org
SUMMARY:The BK Gateway Transportation Workshop
DESCRIPTION:The neighborhoods of Park Slope\, Prospect Heights\, Crown Heights\, Fort Greene\, Clinton Hill\, Downtown Brooklyn\, Carroll Gardens\, Red Hook\, and Brooklyn Heights face significant transportation challenges. Existing traffic and parking congestion\, demands on transit service\, and dangerous roads for cyclists and pedestrians already pose hurdles for residents\, businesses and the environment. The opening of the Barclays Center at Atlantic Yards will further compound these challenges. \nPlease join New York City Council Member Letitia James and the Prospect Heights Neighborhood Development Council for the BK Gateway Transportation Workshop\, which will lay the groundwork for developing community driven solutions to the transportation issues facing the area. \n\nDiscuss transportation issues affecting our community\nPlanning workshops with transportation experts\nAssist in developing a plan to help guide the New York City Department of Transportation\nHelp develop a plan for the future of transportation and transit in our community\n\nR.S.V.P: Due to limited space\, participants must register. If you would like to attend please e-mail bsherman@council.nyc.gov. \nCo-sponsored by: Councilmember Stephen Levin | Councilmember Brad Lander | Tri-State Transportation Campaign | Park Slope Civic Council | Boerum Hill Association | Transportation Alternatives | Community Board 2 \n  \n 
URL:https://parkslopeciviccouncil.org/event/the-bk-gateway-transportation-workshop-2/
LOCATION:To Be Determined\, Brooklyn\, NY\, United States
CATEGORIES:Atlantic Yards,Livable Streets
ATTACH;FMTTYPE=image/jpeg:https://parkslopeciviccouncil.org/wp-content/uploads/2012/03/AY-Flatbush-20120119.jpg
END:VEVENT
BEGIN:VEVENT
DTSTART;TZID=UTC:20120331T100000
DTEND;TZID=UTC:20120331T130059
DTSTAMP:20260424T165210
CREATED:20120323T170341Z
LAST-MODIFIED:20120323T170341Z
UID:9925-1333188000-1333198859@parkslopeciviccouncil.org
SUMMARY:The BK Gateway Transportation Workshop
DESCRIPTION:The neighborhoods of Park Slope\, Prospect Heights\, Crown Heights\, Fort Greene\, Clinton Hill\, Downtown Brooklyn\, Carroll Gardens\, Red Hook\, and Brooklyn Heights face significant transportation challenges. Existing traffic and parking congestion\, demands on transit service\, and dangerous roads for cyclists and pedestrians already pose hurdles for residents\, businesses and the environment. The opening of the Barclays Center at Atlantic Yards will further compound these challenges. \nPlease join New York City Council Member Letitia James and the Prospect Heights Neighborhood Development Council for the BK Gateway Transportation Workshop\, which will lay the groundwork for developing community driven solutions to the transportation issues facing the area. \n\nDiscuss transportation issues affecting our community\nPlanning workshops with transportation experts\nAssist in developing a plan to help guide the New York City Department of Transportation\nHelp develop a plan for the future of transportation and transit in our community\n\nR.S.V.P: Due to limited space\, participants must register. If you would like to attend please e-mail bsherman@council.nyc.gov. \nCo-sponsored by: Councilmember Stephen Levin | Councilmember Brad Lander | Tri-State Transportation Campaign | Park Slope Civic Council | Boerum Hill Association | Transportation Alternatives | Community Board 2 \n  \n 
URL:https://parkslopeciviccouncil.org/event/the-bk-gateway-transportation-workshop-4/
LOCATION:To Be Determined\, Brooklyn\, NY\, United States
CATEGORIES:Atlantic Yards,Livable Streets
ATTACH;FMTTYPE=image/jpeg:https://parkslopeciviccouncil.org/wp-content/uploads/2012/03/AY-Flatbush-20120119.jpg
END:VEVENT
BEGIN:VEVENT
DTSTART;TZID=UTC:20120331T100000
DTEND;TZID=UTC:20120331T130059
DTSTAMP:20260424T165210
CREATED:20120323T170341Z
LAST-MODIFIED:20120323T170341Z
UID:10595-1333188000-1333198859@parkslopeciviccouncil.org
SUMMARY:The BK Gateway Transportation Workshop
DESCRIPTION:The neighborhoods of Park Slope\, Prospect Heights\, Crown Heights\, Fort Greene\, Clinton Hill\, Downtown Brooklyn\, Carroll Gardens\, Red Hook\, and Brooklyn Heights face significant transportation challenges. Existing traffic and parking congestion\, demands on transit service\, and dangerous roads for cyclists and pedestrians already pose hurdles for residents\, businesses and the environment. The opening of the Barclays Center at Atlantic Yards will further compound these challenges. \nPlease join New York City Council Member Letitia James and the Prospect Heights Neighborhood Development Council for the BK Gateway Transportation Workshop\, which will lay the groundwork for developing community driven solutions to the transportation issues facing the area. \n\nDiscuss transportation issues affecting our community\nPlanning workshops with transportation experts\nAssist in developing a plan to help guide the New York City Department of Transportation\nHelp develop a plan for the future of transportation and transit in our community\n\nR.S.V.P: Due to limited space\, participants must register. If you would like to attend please e-mail bsherman@council.nyc.gov. \nCo-sponsored by: Councilmember Stephen Levin | Councilmember Brad Lander | Tri-State Transportation Campaign | Park Slope Civic Council | Boerum Hill Association | Transportation Alternatives | Community Board 2 \n  \n 
URL:https://parkslopeciviccouncil.org/event/the-bk-gateway-transportation-workshop-6/
LOCATION:To Be Determined\, Brooklyn\, NY\, United States
CATEGORIES:Atlantic Yards,Livable Streets
ATTACH;FMTTYPE=image/jpeg:https://parkslopeciviccouncil.org/wp-content/uploads/2012/03/AY-Flatbush-20120119.jpg
END:VEVENT
END:VCALENDAR