BEGIN:VCALENDAR
VERSION:2.0
PRODID:-//Park Slope Civic Council - ECPv6.15.20//NONSGML v1.0//EN
CALSCALE:GREGORIAN
METHOD:PUBLISH
X-ORIGINAL-URL:https://parkslopeciviccouncil.org
X-WR-CALDESC:Events for Park Slope Civic Council
REFRESH-INTERVAL;VALUE=DURATION:PT1H
X-Robots-Tag:noindex
X-PUBLISHED-TTL:PT1H
BEGIN:VTIMEZONE
TZID:UTC
BEGIN:STANDARD
TZOFFSETFROM:+0000
TZOFFSETTO:+0000
TZNAME:UTC
DTSTART:20120101T000000
END:STANDARD
END:VTIMEZONE
BEGIN:VEVENT
DTSTART;VALUE=DATE:20131019
DTEND;VALUE=DATE:20131020
DTSTAMP:20260424T233832
CREATED:20130808T202148Z
LAST-MODIFIED:20130808T202148Z
UID:9628-1382140800-1382227199@parkslopeciviccouncil.org
SUMMARY:Fall Civic Sweep
DESCRIPTION:
URL:https://parkslopeciviccouncil.org/event/fall-civic-sweep-5/
LOCATION:Da Nonna Rosa; Upstairs Room; 140 7th Ave.\, Fifth Avenue between Third and Fourth Streets\, Park Slope\, Brooklyn\, NY\, United States
CATEGORIES:Civic News,Livable Streets,Sustainability
END:VEVENT
BEGIN:VEVENT
DTSTART;VALUE=DATE:20131019
DTEND;VALUE=DATE:20131020
DTSTAMP:20260424T233832
CREATED:20130808T202148Z
LAST-MODIFIED:20130808T202148Z
UID:12141-1382140800-1382227199@parkslopeciviccouncil.org
SUMMARY:Fall Civic Sweep
DESCRIPTION:
URL:https://parkslopeciviccouncil.org/event/fall-civic-sweep-9/
LOCATION:Da Nonna Rosa; Upstairs Room; 140 7th Ave.\, Fifth Avenue between Third and Fourth Streets\, Park Slope\, Brooklyn\, NY\, United States
CATEGORIES:Civic News,Livable Streets,Sustainability
END:VEVENT
BEGIN:VEVENT
DTSTART;VALUE=DATE:20131019
DTEND;VALUE=DATE:20131020
DTSTAMP:20260424T233832
CREATED:20130808T202148Z
LAST-MODIFIED:20130808T202148Z
UID:9986-1382140800-1382227199@parkslopeciviccouncil.org
SUMMARY:Fall Civic Sweep
DESCRIPTION:
URL:https://parkslopeciviccouncil.org/event/fall-civic-sweep-6/
LOCATION:Da Nonna Rosa; Upstairs Room; 140 7th Ave.\, Fifth Avenue between Third and Fourth Streets\, Park Slope\, Brooklyn\, NY\, United States
CATEGORIES:Civic News,Livable Streets,Sustainability
END:VEVENT
BEGIN:VEVENT
DTSTART;VALUE=DATE:20131019
DTEND;VALUE=DATE:20131020
DTSTAMP:20260424T233832
CREATED:20130808T202148Z
LAST-MODIFIED:20130808T202148Z
UID:4733-1382140800-1382227199@parkslopeciviccouncil.org
SUMMARY:Fall Civic Sweep
DESCRIPTION:
URL:https://parkslopeciviccouncil.org/event/fall-civic-sweep/
LOCATION:Da Nonna Rosa; Upstairs Room; 140 7th Ave.\, Fifth Avenue between Third and Fourth Streets\, Park Slope\, Brooklyn\, NY\, United States
CATEGORIES:Civic News,Livable Streets,Sustainability
END:VEVENT
BEGIN:VEVENT
DTSTART;VALUE=DATE:20131019
DTEND;VALUE=DATE:20131020
DTSTAMP:20260424T233832
CREATED:20130808T202148Z
LAST-MODIFIED:20130808T202148Z
UID:10335-1382140800-1382227199@parkslopeciviccouncil.org
SUMMARY:Fall Civic Sweep
DESCRIPTION:
URL:https://parkslopeciviccouncil.org/event/fall-civic-sweep-7/
LOCATION:Da Nonna Rosa; Upstairs Room; 140 7th Ave.\, Fifth Avenue between Third and Fourth Streets\, Park Slope\, Brooklyn\, NY\, United States
CATEGORIES:Civic News,Livable Streets,Sustainability
END:VEVENT
BEGIN:VEVENT
DTSTART;VALUE=DATE:20131019
DTEND;VALUE=DATE:20131020
DTSTAMP:20260424T233832
CREATED:20130808T202148Z
LAST-MODIFIED:20130808T202148Z
UID:9268-1382140800-1382227199@parkslopeciviccouncil.org
SUMMARY:Fall Civic Sweep
DESCRIPTION:
URL:https://parkslopeciviccouncil.org/event/fall-civic-sweep-4/
LOCATION:Da Nonna Rosa; Upstairs Room; 140 7th Ave.\, Fifth Avenue between Third and Fourth Streets\, Park Slope\, Brooklyn\, NY\, United States
CATEGORIES:Civic News,Livable Streets,Sustainability
END:VEVENT
BEGIN:VEVENT
DTSTART;TZID=UTC:20131009T183000
DTEND;TZID=UTC:20131009T210000
DTSTAMP:20260424T233832
CREATED:20130722T185817Z
LAST-MODIFIED:20130722T185817Z
UID:12140-1381343400-1381352400@parkslopeciviccouncil.org
SUMMARY:Food for Thought
DESCRIPTION:
URL:https://parkslopeciviccouncil.org/event/save-the-date-food-for-thought-2-7/
LOCATION:Prospect Park Picnic House\, Prospect Park West and West Dr.\, Brooklyn\, NY\, 11215\, United States
CATEGORIES:Civic News,Community,Local business,Outreach
END:VEVENT
BEGIN:VEVENT
DTSTART;TZID=UTC:20131009T183000
DTEND;TZID=UTC:20131009T210000
DTSTAMP:20260424T233832
CREATED:20130722T185817Z
LAST-MODIFIED:20130722T185817Z
UID:9985-1381343400-1381352400@parkslopeciviccouncil.org
SUMMARY:Food for Thought
DESCRIPTION:
URL:https://parkslopeciviccouncil.org/event/save-the-date-food-for-thought-2-4/
LOCATION:Prospect Park Picnic House\, Prospect Park West and West Dr.\, Brooklyn\, NY\, 11215\, United States
CATEGORIES:Civic News,Community,Local business,Outreach
END:VEVENT
BEGIN:VEVENT
DTSTART;TZID=UTC:20131009T183000
DTEND;TZID=UTC:20131009T210000
DTSTAMP:20260424T233832
CREATED:20130722T185817Z
LAST-MODIFIED:20130722T185817Z
UID:4645-1381343400-1381352400@parkslopeciviccouncil.org
SUMMARY:Food for Thought
DESCRIPTION:
URL:https://parkslopeciviccouncil.org/event/save-the-date-food-for-thought-2/
LOCATION:Prospect Park Picnic House\, Prospect Park West and West Dr.\, Brooklyn\, NY\, 11215\, United States
CATEGORIES:Civic News,Community,Local business,Outreach
END:VEVENT
BEGIN:VEVENT
DTSTART;TZID=UTC:20131009T183000
DTEND;TZID=UTC:20131009T210000
DTSTAMP:20260424T233832
CREATED:20130722T185817Z
LAST-MODIFIED:20130722T185817Z
UID:10334-1381343400-1381352400@parkslopeciviccouncil.org
SUMMARY:Food for Thought
DESCRIPTION:
URL:https://parkslopeciviccouncil.org/event/save-the-date-food-for-thought-2-5/
LOCATION:Prospect Park Picnic House\, Prospect Park West and West Dr.\, Brooklyn\, NY\, 11215\, United States
CATEGORIES:Civic News,Community,Local business,Outreach
END:VEVENT
BEGIN:VEVENT
DTSTART;TZID=UTC:20131009T183000
DTEND;TZID=UTC:20131009T210000
DTSTAMP:20260424T233832
CREATED:20130722T185817Z
LAST-MODIFIED:20130722T185817Z
UID:9267-1381343400-1381352400@parkslopeciviccouncil.org
SUMMARY:Food for Thought
DESCRIPTION:
URL:https://parkslopeciviccouncil.org/event/save-the-date-food-for-thought-2-2/
LOCATION:Prospect Park Picnic House\, Prospect Park West and West Dr.\, Brooklyn\, NY\, 11215\, United States
CATEGORIES:Civic News,Community,Local business,Outreach
END:VEVENT
BEGIN:VEVENT
DTSTART;TZID=UTC:20131009T183000
DTEND;TZID=UTC:20131009T210000
DTSTAMP:20260424T233832
CREATED:20130722T185817Z
LAST-MODIFIED:20130722T185817Z
UID:10655-1381343400-1381352400@parkslopeciviccouncil.org
SUMMARY:Food for Thought
DESCRIPTION:
URL:https://parkslopeciviccouncil.org/event/save-the-date-food-for-thought-2-6/
LOCATION:Prospect Park Picnic House\, Prospect Park West and West Dr.\, Brooklyn\, NY\, 11215\, United States
CATEGORIES:Civic News,Community,Local business,Outreach
END:VEVENT
BEGIN:VEVENT
DTSTART;TZID=UTC:20131009T183000
DTEND;TZID=UTC:20131009T210000
DTSTAMP:20260424T233832
CREATED:20130722T185817Z
LAST-MODIFIED:20130722T185817Z
UID:9627-1381343400-1381352400@parkslopeciviccouncil.org
SUMMARY:Food for Thought
DESCRIPTION:
URL:https://parkslopeciviccouncil.org/event/save-the-date-food-for-thought-2-3/
LOCATION:Prospect Park Picnic House\, Prospect Park West and West Dr.\, Brooklyn\, NY\, 11215\, United States
CATEGORIES:Civic News,Community,Local business,Outreach
END:VEVENT
BEGIN:VEVENT
DTSTART;TZID=UTC:20131008T183000
DTEND;TZID=UTC:20131008T210000
DTSTAMP:20260424T233832
CREATED:20131001T195205Z
LAST-MODIFIED:20131001T195205Z
UID:9991-1381257000-1381266000@parkslopeciviccouncil.org
SUMMARY:Forth on Fourth Avenue Committee Meeting
DESCRIPTION:
URL:https://parkslopeciviccouncil.org/event/forth-on-fourth-avenue-committee-meeting-4-4/
LOCATION:Fifth Avenue Committee office\, 621 Degraw Street\, Brooklyn\, NY\, 11215\, United States
CATEGORIES:Civic News,Community,Forth on Fourth Avenue
END:VEVENT
BEGIN:VEVENT
DTSTART;TZID=UTC:20131008T183000
DTEND;TZID=UTC:20131008T210000
DTSTAMP:20260424T233832
CREATED:20131001T195205Z
LAST-MODIFIED:20131001T195205Z
UID:4812-1381257000-1381266000@parkslopeciviccouncil.org
SUMMARY:Forth on Fourth Avenue Committee Meeting
DESCRIPTION:
URL:https://parkslopeciviccouncil.org/event/forth-on-fourth-avenue-committee-meeting-4/
LOCATION:Fifth Avenue Committee office\, 621 Degraw Street\, Brooklyn\, NY\, 11215\, United States
CATEGORIES:Civic News,Community,Forth on Fourth Avenue
END:VEVENT
BEGIN:VEVENT
DTSTART;TZID=UTC:20131008T183000
DTEND;TZID=UTC:20131008T210000
DTSTAMP:20260424T233832
CREATED:20131001T195205Z
LAST-MODIFIED:20131001T195205Z
UID:10340-1381257000-1381266000@parkslopeciviccouncil.org
SUMMARY:Forth on Fourth Avenue Committee Meeting
DESCRIPTION:
URL:https://parkslopeciviccouncil.org/event/forth-on-fourth-avenue-committee-meeting-4-5/
LOCATION:Fifth Avenue Committee office\, 621 Degraw Street\, Brooklyn\, NY\, 11215\, United States
CATEGORIES:Civic News,Community,Forth on Fourth Avenue
END:VEVENT
BEGIN:VEVENT
DTSTART;TZID=UTC:20131008T183000
DTEND;TZID=UTC:20131008T210000
DTSTAMP:20260424T233832
CREATED:20131001T195205Z
LAST-MODIFIED:20131001T195205Z
UID:9273-1381257000-1381266000@parkslopeciviccouncil.org
SUMMARY:Forth on Fourth Avenue Committee Meeting
DESCRIPTION:
URL:https://parkslopeciviccouncil.org/event/forth-on-fourth-avenue-committee-meeting-4-2/
LOCATION:Fifth Avenue Committee office\, 621 Degraw Street\, Brooklyn\, NY\, 11215\, United States
CATEGORIES:Civic News,Community,Forth on Fourth Avenue
END:VEVENT
BEGIN:VEVENT
DTSTART;TZID=UTC:20131008T183000
DTEND;TZID=UTC:20131008T210000
DTSTAMP:20260424T233832
CREATED:20131001T195205Z
LAST-MODIFIED:20131001T195205Z
UID:10661-1381257000-1381266000@parkslopeciviccouncil.org
SUMMARY:Forth on Fourth Avenue Committee Meeting
DESCRIPTION:
URL:https://parkslopeciviccouncil.org/event/forth-on-fourth-avenue-committee-meeting-4-6/
LOCATION:Fifth Avenue Committee office\, 621 Degraw Street\, Brooklyn\, NY\, 11215\, United States
CATEGORIES:Civic News,Community,Forth on Fourth Avenue
END:VEVENT
BEGIN:VEVENT
DTSTART;TZID=UTC:20131008T183000
DTEND;TZID=UTC:20131008T210000
DTSTAMP:20260424T233832
CREATED:20131001T195205Z
LAST-MODIFIED:20131001T195205Z
UID:9633-1381257000-1381266000@parkslopeciviccouncil.org
SUMMARY:Forth on Fourth Avenue Committee Meeting
DESCRIPTION:
URL:https://parkslopeciviccouncil.org/event/forth-on-fourth-avenue-committee-meeting-4-3/
LOCATION:Fifth Avenue Committee office\, 621 Degraw Street\, Brooklyn\, NY\, 11215\, United States
CATEGORIES:Civic News,Community,Forth on Fourth Avenue
END:VEVENT
BEGIN:VEVENT
DTSTART;TZID=UTC:20131008T183000
DTEND;TZID=UTC:20131008T210000
DTSTAMP:20260424T233832
CREATED:20131001T195205Z
LAST-MODIFIED:20131001T195205Z
UID:12146-1381257000-1381266000@parkslopeciviccouncil.org
SUMMARY:Forth on Fourth Avenue Committee Meeting
DESCRIPTION:
URL:https://parkslopeciviccouncil.org/event/forth-on-fourth-avenue-committee-meeting-4-7/
LOCATION:Fifth Avenue Committee office\, 621 Degraw Street\, Brooklyn\, NY\, 11215\, United States
CATEGORIES:Civic News,Community,Forth on Fourth Avenue
END:VEVENT
BEGIN:VEVENT
DTSTART;TZID=UTC:20131003T190000
DTEND;TZID=UTC:20131003T210000
DTSTAMP:20260424T233832
CREATED:20131002T160330Z
LAST-MODIFIED:20131002T160330Z
UID:12147-1380826800-1380834000@parkslopeciviccouncil.org
SUMMARY:Board of Trustees Meeting
DESCRIPTION:All PSCC members invited
URL:https://parkslopeciviccouncil.org/event/board-of-trustees-meeting-3-7/
LOCATION:Brooklyn Conservatory of Music\, 58 Seventh Avenue & Lincoln Place\, Brooklyn\, NY\, 11217
CATEGORIES:Civic News,Community,Trustees Meeting
END:VEVENT
BEGIN:VEVENT
DTSTART;TZID=UTC:20131003T190000
DTEND;TZID=UTC:20131003T210000
DTSTAMP:20260424T233832
CREATED:20131002T160330Z
LAST-MODIFIED:20131002T160330Z
UID:9992-1380826800-1380834000@parkslopeciviccouncil.org
SUMMARY:Board of Trustees Meeting
DESCRIPTION:All PSCC members invited
URL:https://parkslopeciviccouncil.org/event/board-of-trustees-meeting-3-4/
LOCATION:Brooklyn Conservatory of Music\, 58 Seventh Avenue & Lincoln Place\, Brooklyn\, NY\, 11217
CATEGORIES:Civic News,Community,Trustees Meeting
END:VEVENT
BEGIN:VEVENT
DTSTART;TZID=UTC:20131003T190000
DTEND;TZID=UTC:20131003T210000
DTSTAMP:20260424T233832
CREATED:20131002T160330Z
LAST-MODIFIED:20131002T160330Z
UID:4816-1380826800-1380834000@parkslopeciviccouncil.org
SUMMARY:Board of Trustees Meeting
DESCRIPTION:All PSCC members invited
URL:https://parkslopeciviccouncil.org/event/board-of-trustees-meeting-3/
LOCATION:Brooklyn Conservatory of Music\, 58 Seventh Avenue & Lincoln Place\, Brooklyn\, NY\, 11217
CATEGORIES:Civic News,Community,Trustees Meeting
END:VEVENT
BEGIN:VEVENT
DTSTART;TZID=UTC:20131003T190000
DTEND;TZID=UTC:20131003T210000
DTSTAMP:20260424T233832
CREATED:20131002T160330Z
LAST-MODIFIED:20131002T160330Z
UID:10341-1380826800-1380834000@parkslopeciviccouncil.org
SUMMARY:Board of Trustees Meeting
DESCRIPTION:All PSCC members invited
URL:https://parkslopeciviccouncil.org/event/board-of-trustees-meeting-3-5/
LOCATION:Brooklyn Conservatory of Music\, 58 Seventh Avenue & Lincoln Place\, Brooklyn\, NY\, 11217
CATEGORIES:Civic News,Community,Trustees Meeting
END:VEVENT
BEGIN:VEVENT
DTSTART;TZID=UTC:20131003T190000
DTEND;TZID=UTC:20131003T210000
DTSTAMP:20260424T233832
CREATED:20131002T160330Z
LAST-MODIFIED:20131002T160330Z
UID:9274-1380826800-1380834000@parkslopeciviccouncil.org
SUMMARY:Board of Trustees Meeting
DESCRIPTION:All PSCC members invited
URL:https://parkslopeciviccouncil.org/event/board-of-trustees-meeting-3-2/
LOCATION:Brooklyn Conservatory of Music\, 58 Seventh Avenue & Lincoln Place\, Brooklyn\, NY\, 11217
CATEGORIES:Civic News,Community,Trustees Meeting
END:VEVENT
BEGIN:VEVENT
DTSTART;TZID=UTC:20131003T190000
DTEND;TZID=UTC:20131003T210000
DTSTAMP:20260424T233832
CREATED:20131002T160330Z
LAST-MODIFIED:20131002T160330Z
UID:10662-1380826800-1380834000@parkslopeciviccouncil.org
SUMMARY:Board of Trustees Meeting
DESCRIPTION:All PSCC members invited
URL:https://parkslopeciviccouncil.org/event/board-of-trustees-meeting-3-6/
LOCATION:Brooklyn Conservatory of Music\, 58 Seventh Avenue & Lincoln Place\, Brooklyn\, NY\, 11217
CATEGORIES:Civic News,Community,Trustees Meeting
END:VEVENT
BEGIN:VEVENT
DTSTART;TZID=UTC:20131003T190000
DTEND;TZID=UTC:20131003T210000
DTSTAMP:20260424T233832
CREATED:20131002T160330Z
LAST-MODIFIED:20131002T160330Z
UID:9634-1380826800-1380834000@parkslopeciviccouncil.org
SUMMARY:Board of Trustees Meeting
DESCRIPTION:All PSCC members invited
URL:https://parkslopeciviccouncil.org/event/board-of-trustees-meeting-3-3/
LOCATION:Brooklyn Conservatory of Music\, 58 Seventh Avenue & Lincoln Place\, Brooklyn\, NY\, 11217
CATEGORIES:Civic News,Community,Trustees Meeting
END:VEVENT
BEGIN:VEVENT
DTSTART;TZID=UTC:20130930T183000
DTEND;TZID=UTC:20130930T210000
DTSTAMP:20260424T233832
CREATED:20130817T142323Z
LAST-MODIFIED:20130817T142323Z
UID:9269-1380565800-1380574800@parkslopeciviccouncil.org
SUMMARY:Public Forum
DESCRIPTION:The Civic Council will hold a public forum on the proposed expansion of New York Methodist Hospital.  For further information\, please click here.
URL:https://parkslopeciviccouncil.org/event/public-forum-2/
LOCATION:Congregation Beth Elohim\, 274 Garfield Pl. (Eighth Avenue)\, Brooklyn\, NY\, 11215\, United States
CATEGORIES:Civic News,Community
END:VEVENT
BEGIN:VEVENT
DTSTART;TZID=UTC:20130930T183000
DTEND;TZID=UTC:20130930T210000
DTSTAMP:20260424T233832
CREATED:20130817T142323Z
LAST-MODIFIED:20130817T142323Z
UID:10657-1380565800-1380574800@parkslopeciviccouncil.org
SUMMARY:Public Forum
DESCRIPTION:The Civic Council will hold a public forum on the proposed expansion of New York Methodist Hospital.  For further information\, please click here.
URL:https://parkslopeciviccouncil.org/event/public-forum-6/
LOCATION:Congregation Beth Elohim\, 274 Garfield Pl. (Eighth Avenue)\, Brooklyn\, NY\, 11215\, United States
CATEGORIES:Civic News,Community
END:VEVENT
BEGIN:VEVENT
DTSTART;TZID=UTC:20130930T183000
DTEND;TZID=UTC:20130930T210000
DTSTAMP:20260424T233832
CREATED:20130817T142323Z
LAST-MODIFIED:20130817T142323Z
UID:9629-1380565800-1380574800@parkslopeciviccouncil.org
SUMMARY:Public Forum
DESCRIPTION:The Civic Council will hold a public forum on the proposed expansion of New York Methodist Hospital.  For further information\, please click here.
URL:https://parkslopeciviccouncil.org/event/public-forum-3/
LOCATION:Congregation Beth Elohim\, 274 Garfield Pl. (Eighth Avenue)\, Brooklyn\, NY\, 11215\, United States
CATEGORIES:Civic News,Community
END:VEVENT
END:VCALENDAR