BEGIN:VCALENDAR
VERSION:2.0
PRODID:-//Park Slope Civic Council - ECPv6.15.20//NONSGML v1.0//EN
CALSCALE:GREGORIAN
METHOD:PUBLISH
X-WR-CALNAME:Park Slope Civic Council
X-ORIGINAL-URL:https://parkslopeciviccouncil.org
X-WR-CALDESC:Events for Park Slope Civic Council
REFRESH-INTERVAL;VALUE=DURATION:PT1H
X-Robots-Tag:noindex
X-PUBLISHED-TTL:PT1H
BEGIN:VTIMEZONE
TZID:America/New_York
BEGIN:DAYLIGHT
TZOFFSETFROM:-0500
TZOFFSETTO:-0400
TZNAME:EDT
DTSTART:20250309T070000
END:DAYLIGHT
BEGIN:STANDARD
TZOFFSETFROM:-0400
TZOFFSETTO:-0500
TZNAME:EST
DTSTART:20251102T060000
END:STANDARD
BEGIN:DAYLIGHT
TZOFFSETFROM:-0500
TZOFFSETTO:-0400
TZNAME:EDT
DTSTART:20260308T070000
END:DAYLIGHT
BEGIN:STANDARD
TZOFFSETFROM:-0400
TZOFFSETTO:-0500
TZNAME:EST
DTSTART:20261101T060000
END:STANDARD
BEGIN:DAYLIGHT
TZOFFSETFROM:-0500
TZOFFSETTO:-0400
TZNAME:EDT
DTSTART:20270314T070000
END:DAYLIGHT
BEGIN:STANDARD
TZOFFSETFROM:-0400
TZOFFSETTO:-0500
TZNAME:EST
DTSTART:20271107T060000
END:STANDARD
END:VTIMEZONE
BEGIN:VEVENT
DTSTART;TZID=America/New_York:20260425T100000
DTEND;TZID=America/New_York:20260425T140000
DTSTAMP:20260423T042350
CREATED:20251216T212407Z
LAST-MODIFIED:20260329T041305Z
UID:16044-1777111200-1777125600@parkslopeciviccouncil.org
SUMMARY:Spring Civic Sweep
DESCRIPTION:Celebrate Earth Day by beautifying Park Slope! Come help keep Park Slope clean. Sign up for a One-Hour Litter Clean-Up Shift (with all the tools you need)* Seed Packet Giveaway* Household Composting Information* Music for Kids* Hygiene Kit Collection* for CHiPs \n\n\n\nIt’s a hands on way to care for our streets. Show up\, pitch in\, and make a difference.
URL:https://parkslopeciviccouncil.org/event/spring-civic-sweep-12/
LOCATION:Old Stone House and Washington Square Park\, 4th Avenue and 3rd Street\, Park Slope\, Brooklyn\, 11215
CATEGORIES:Civic Sweep,Old Stone House
END:VEVENT
END:VCALENDAR