BEGIN:VCALENDAR
VERSION:2.0
PRODID:-//Park Slope Civic Council - ECPv6.15.20//NONSGML v1.0//EN
CALSCALE:GREGORIAN
METHOD:PUBLISH
X-ORIGINAL-URL:https://parkslopeciviccouncil.org
X-WR-CALDESC:Events for Park Slope Civic Council
REFRESH-INTERVAL;VALUE=DURATION:PT1H
X-Robots-Tag:noindex
X-PUBLISHED-TTL:PT1H
BEGIN:VTIMEZONE
TZID:America/New_York
BEGIN:DAYLIGHT
TZOFFSETFROM:-0500
TZOFFSETTO:-0400
TZNAME:EDT
DTSTART:20170312T070000
END:DAYLIGHT
BEGIN:STANDARD
TZOFFSETFROM:-0400
TZOFFSETTO:-0500
TZNAME:EST
DTSTART:20171105T060000
END:STANDARD
BEGIN:DAYLIGHT
TZOFFSETFROM:-0500
TZOFFSETTO:-0400
TZNAME:EDT
DTSTART:20180311T070000
END:DAYLIGHT
BEGIN:STANDARD
TZOFFSETFROM:-0400
TZOFFSETTO:-0500
TZNAME:EST
DTSTART:20181104T060000
END:STANDARD
BEGIN:DAYLIGHT
TZOFFSETFROM:-0500
TZOFFSETTO:-0400
TZNAME:EDT
DTSTART:20190310T070000
END:DAYLIGHT
BEGIN:STANDARD
TZOFFSETFROM:-0400
TZOFFSETTO:-0500
TZNAME:EST
DTSTART:20191103T060000
END:STANDARD
END:VTIMEZONE
BEGIN:VEVENT
DTSTART;TZID=America/New_York:20181104T100000
DTEND;TZID=America/New_York:20181104T130000
DTSTAMP:20260423T213919
CREATED:20181101T233613Z
LAST-MODIFIED:20181101T233613Z
UID:12414-1541325600-1541336400@parkslopeciviccouncil.org
SUMMARY:Free Flu Vaccine Event: Assemblymember Robert Carroll Hosting
DESCRIPTION:Assemblymember Robert Carroll Hosting \nFree Flu Vaccine Event  \nin Partnership with SUNY Downstate \n  \nLocation \nDistrict Office of Assemblymember Carroll \n416 7th Ave (between 13th and 14th Streets in Park Slope) \nDate and time \nSunday\, November 4th \n10am to 1pm \nThis event is in partnership with SUNY Downstate Medical Center. Quantities are limited – please call Assemblymember Robert Carroll’s District Office for an appointment at 718 788-7221.
URL:https://parkslopeciviccouncil.org/event/free-flu-vaccine-event-assemblymember-robert-carroll-hosting-5/
LOCATION:Assemblymember’s Robert Carroll’s District Office 416 7th Avenue\, Brooklyn\, NY 11215 (between 13th and 14th Streets in Park Slope)\, 416 7th Avenue\, Brooklyn\, 11215
CATEGORIES:Community,Electeds
END:VEVENT
BEGIN:VEVENT
DTSTART;TZID=America/New_York:20181031T183000
DTEND;TZID=America/New_York:20181031T183000
DTSTAMP:20260423T213919
CREATED:20180725T024455Z
LAST-MODIFIED:20180725T024455Z
UID:9530-1541010600-1541010600@parkslopeciviccouncil.org
SUMMARY:Annual Halloween Parade
DESCRIPTION:Join us for the annual Park Slope Civic Council Halloween Parade on Wednesday\, October 31\, 2018\, kicking off from 14th Street and 7th Avenue at 6:30 pm. The parade will head north on 7th Avenue\, turn left on 3rd Street and end in J.J. Byrne Playground at the Old Stone House.  This is a family-friendly event with a focus on children.
URL:https://parkslopeciviccouncil.org/event/annual-halloween-parade-2/
LOCATION:Starting Point: 14th Street and 7th Avenue\, Head North on 7th Ave\, Turn Left on 3rd St\, End at J.J. Byrne Playground\, Brooklyn\, NY 11215\, Brooklyn\, NY\, 11215\, United States
CATEGORIES:Community,Halloween Parade,Old Stone House
END:VEVENT
BEGIN:VEVENT
DTSTART;TZID=America/New_York:20181031T183000
DTEND;TZID=America/New_York:20181031T183000
DTSTAMP:20260423T213919
CREATED:20180725T024455Z
LAST-MODIFIED:20180725T024455Z
UID:9889-1541010600-1541010600@parkslopeciviccouncil.org
SUMMARY:Annual Halloween Parade
DESCRIPTION:Join us for the annual Park Slope Civic Council Halloween Parade on Wednesday\, October 31\, 2018\, kicking off from 14th Street and 7th Avenue at 6:30 pm. The parade will head north on 7th Avenue\, turn left on 3rd Street and end in J.J. Byrne Playground at the Old Stone House.  This is a family-friendly event with a focus on children.
URL:https://parkslopeciviccouncil.org/event/annual-halloween-parade-3/
LOCATION:Starting Point: 14th Street and 7th Avenue\, Head North on 7th Ave\, Turn Left on 3rd St\, End at J.J. Byrne Playground\, Brooklyn\, NY 11215\, Brooklyn\, NY\, 11215\, United States
CATEGORIES:Community,Halloween Parade,Old Stone House
END:VEVENT
BEGIN:VEVENT
DTSTART;TZID=America/New_York:20181031T183000
DTEND;TZID=America/New_York:20181031T183000
DTSTAMP:20260423T213919
CREATED:20180725T024455Z
LAST-MODIFIED:20180725T024455Z
UID:10917-1541010600-1541010600@parkslopeciviccouncil.org
SUMMARY:Annual Halloween Parade
DESCRIPTION:Join us for the annual Park Slope Civic Council Halloween Parade on Wednesday\, October 31\, 2018\, kicking off from 14th Street and 7th Avenue at 6:30 pm. The parade will head north on 7th Avenue\, turn left on 3rd Street and end in J.J. Byrne Playground at the Old Stone House.  This is a family-friendly event with a focus on children.
URL:https://parkslopeciviccouncil.org/event/annual-halloween-parade-5/
LOCATION:Starting Point: 14th Street and 7th Avenue\, Head North on 7th Ave\, Turn Left on 3rd St\, End at J.J. Byrne Playground\, Brooklyn\, NY 11215\, Brooklyn\, NY\, 11215\, United States
CATEGORIES:Community,Halloween Parade,Old Stone House
END:VEVENT
BEGIN:VEVENT
DTSTART;TZID=America/New_York:20181031T183000
DTEND;TZID=America/New_York:20181031T183000
DTSTAMP:20260423T213919
CREATED:20180725T024455Z
LAST-MODIFIED:20180725T024455Z
UID:10249-1541010600-1541010600@parkslopeciviccouncil.org
SUMMARY:Annual Halloween Parade
DESCRIPTION:Join us for the annual Park Slope Civic Council Halloween Parade on Wednesday\, October 31\, 2018\, kicking off from 14th Street and 7th Avenue at 6:30 pm. The parade will head north on 7th Avenue\, turn left on 3rd Street and end in J.J. Byrne Playground at the Old Stone House.  This is a family-friendly event with a focus on children.
URL:https://parkslopeciviccouncil.org/event/annual-halloween-parade-4/
LOCATION:Starting Point: 14th Street and 7th Avenue\, Head North on 7th Ave\, Turn Left on 3rd St\, End at J.J. Byrne Playground\, Brooklyn\, NY 11215\, Brooklyn\, NY\, 11215\, United States
CATEGORIES:Community,Halloween Parade,Old Stone House
END:VEVENT
BEGIN:VEVENT
DTSTART;TZID=America/New_York:20181031T183000
DTEND;TZID=America/New_York:20181031T183000
DTSTAMP:20260423T213919
CREATED:20180725T024455Z
LAST-MODIFIED:20180725T024455Z
UID:7617-1541010600-1541010600@parkslopeciviccouncil.org
SUMMARY:Annual Halloween Parade
DESCRIPTION:Join us for the annual Park Slope Civic Council Halloween Parade on Wednesday\, October 31\, 2018\, kicking off from 14th Street and 7th Avenue at 6:30 pm. The parade will head north on 7th Avenue\, turn left on 3rd Street and end in J.J. Byrne Playground at the Old Stone House.  This is a family-friendly event with a focus on children.
URL:https://parkslopeciviccouncil.org/event/annual-halloween-parade/
LOCATION:Starting Point: 14th Street and 7th Avenue\, Head North on 7th Ave\, Turn Left on 3rd St\, End at J.J. Byrne Playground\, Brooklyn\, NY 11215\, Brooklyn\, NY\, 11215\, United States
CATEGORIES:Community,Halloween Parade,Old Stone House
END:VEVENT
BEGIN:VEVENT
DTSTART;TZID=America/New_York:20181031T183000
DTEND;TZID=America/New_York:20181031T183000
DTSTAMP:20260423T213919
CREATED:20180725T024455Z
LAST-MODIFIED:20180725T024455Z
UID:12402-1541010600-1541010600@parkslopeciviccouncil.org
SUMMARY:Annual Halloween Parade
DESCRIPTION:Join us for the annual Park Slope Civic Council Halloween Parade on Wednesday\, October 31\, 2018\, kicking off from 14th Street and 7th Avenue at 6:30 pm. The parade will head north on 7th Avenue\, turn left on 3rd Street and end in J.J. Byrne Playground at the Old Stone House.  This is a family-friendly event with a focus on children.
URL:https://parkslopeciviccouncil.org/event/annual-halloween-parade-6/
LOCATION:Starting Point: 14th Street and 7th Avenue\, Head North on 7th Ave\, Turn Left on 3rd St\, End at J.J. Byrne Playground\, Brooklyn\, NY 11215\, Brooklyn\, NY\, 11215\, United States
CATEGORIES:Community,Halloween Parade,Old Stone House
END:VEVENT
BEGIN:VEVENT
DTSTART;TZID=America/New_York:20181023T190000
DTEND;TZID=America/New_York:20181023T210000
DTSTAMP:20260423T213919
CREATED:20180326T222744Z
LAST-MODIFIED:20180326T222744Z
UID:10579-1540321200-1540328400@parkslopeciviccouncil.org
SUMMARY:Office Hours at The Commissioner
DESCRIPTION:Please join us for Office Hours at The Commissioner! Office Hours is an informal gathering of PSCC trustees\, members\, and neighbors. It’s a great time to meet your neighbors and make new friends.
URL:https://parkslopeciviccouncil.org/event/office-hours-at-the-commissioner-2-2-2-6/
LOCATION:The Commissioner\, 247 5th Avenue\, Brooklyn\, New York\, 11215
CATEGORIES:Community,Local business,Office Hours,Outreach
ORGANIZER;CN="Park Slope Civic Council":MAILTO:membership@parkslopecouncil.org
END:VEVENT
BEGIN:VEVENT
DTSTART;TZID=America/New_York:20181023T190000
DTEND;TZID=America/New_York:20181023T210000
DTSTAMP:20260423T213919
CREATED:20180326T222744Z
LAST-MODIFIED:20180326T222744Z
UID:7622-1540321200-1540328400@parkslopeciviccouncil.org
SUMMARY:Office Hours at The Commissioner
DESCRIPTION:Please join us for Office Hours at The Commissioner! Office Hours is an informal gathering of PSCC trustees\, members\, and neighbors. It’s a great time to meet your neighbors and make new friends.
URL:https://parkslopeciviccouncil.org/event/office-hours-at-the-commissioner-2-2-2/
LOCATION:The Commissioner\, 247 5th Avenue\, Brooklyn\, New York\, 11215
CATEGORIES:Community,Local business,Office Hours,Outreach
ORGANIZER;CN="Park Slope Civic Council":MAILTO:membership@parkslopecouncil.org
END:VEVENT
BEGIN:VEVENT
DTSTART;TZID=America/New_York:20181023T190000
DTEND;TZID=America/New_York:20181023T210000
DTSTAMP:20260423T213919
CREATED:20180326T222744Z
LAST-MODIFIED:20180326T222744Z
UID:12383-1540321200-1540328400@parkslopeciviccouncil.org
SUMMARY:Office Hours at The Commissioner
DESCRIPTION:Please join us for Office Hours at The Commissioner! Office Hours is an informal gathering of PSCC trustees\, members\, and neighbors. It’s a great time to meet your neighbors and make new friends.
URL:https://parkslopeciviccouncil.org/event/office-hours-at-the-commissioner-2-2-2-8/
LOCATION:The Commissioner\, 247 5th Avenue\, Brooklyn\, New York\, 11215
CATEGORIES:Community,Local business,Office Hours,Outreach
ORGANIZER;CN="Park Slope Civic Council":MAILTO:membership@parkslopecouncil.org
END:VEVENT
BEGIN:VEVENT
DTSTART;TZID=America/New_York:20181023T190000
DTEND;TZID=America/New_York:20181023T210000
DTSTAMP:20260423T213919
CREATED:20180326T222744Z
LAST-MODIFIED:20180326T222744Z
UID:9512-1540321200-1540328400@parkslopeciviccouncil.org
SUMMARY:Office Hours at The Commissioner
DESCRIPTION:Please join us for Office Hours at The Commissioner! Office Hours is an informal gathering of PSCC trustees\, members\, and neighbors. It’s a great time to meet your neighbors and make new friends.
URL:https://parkslopeciviccouncil.org/event/office-hours-at-the-commissioner-2-2-2-3/
LOCATION:The Commissioner\, 247 5th Avenue\, Brooklyn\, New York\, 11215
CATEGORIES:Community,Local business,Office Hours,Outreach
ORGANIZER;CN="Park Slope Civic Council":MAILTO:membership@parkslopecouncil.org
END:VEVENT
BEGIN:VEVENT
DTSTART;TZID=America/New_York:20181023T190000
DTEND;TZID=America/New_York:20181023T210000
DTSTAMP:20260423T213919
CREATED:20180326T222744Z
LAST-MODIFIED:20180326T222744Z
UID:9871-1540321200-1540328400@parkslopeciviccouncil.org
SUMMARY:Office Hours at The Commissioner
DESCRIPTION:Please join us for Office Hours at The Commissioner! Office Hours is an informal gathering of PSCC trustees\, members\, and neighbors. It’s a great time to meet your neighbors and make new friends.
URL:https://parkslopeciviccouncil.org/event/office-hours-at-the-commissioner-2-2-2-4/
LOCATION:The Commissioner\, 247 5th Avenue\, Brooklyn\, New York\, 11215
CATEGORIES:Community,Local business,Office Hours,Outreach
ORGANIZER;CN="Park Slope Civic Council":MAILTO:membership@parkslopecouncil.org
END:VEVENT
BEGIN:VEVENT
DTSTART;TZID=America/New_York:20181023T190000
DTEND;TZID=America/New_York:20181023T210000
DTSTAMP:20260423T213919
CREATED:20180326T222744Z
LAST-MODIFIED:20180326T222744Z
UID:10899-1540321200-1540328400@parkslopeciviccouncil.org
SUMMARY:Office Hours at The Commissioner
DESCRIPTION:Please join us for Office Hours at The Commissioner! Office Hours is an informal gathering of PSCC trustees\, members\, and neighbors. It’s a great time to meet your neighbors and make new friends.
URL:https://parkslopeciviccouncil.org/event/office-hours-at-the-commissioner-2-2-2-7/
LOCATION:The Commissioner\, 247 5th Avenue\, Brooklyn\, New York\, 11215
CATEGORIES:Community,Local business,Office Hours,Outreach
ORGANIZER;CN="Park Slope Civic Council":MAILTO:membership@parkslopecouncil.org
END:VEVENT
BEGIN:VEVENT
DTSTART;TZID=America/New_York:20181023T190000
DTEND;TZID=America/New_York:20181023T210000
DTSTAMP:20260423T213919
CREATED:20180326T222744Z
LAST-MODIFIED:20180326T222744Z
UID:10231-1540321200-1540328400@parkslopeciviccouncil.org
SUMMARY:Office Hours at The Commissioner
DESCRIPTION:Please join us for Office Hours at The Commissioner! Office Hours is an informal gathering of PSCC trustees\, members\, and neighbors. It’s a great time to meet your neighbors and make new friends.
URL:https://parkslopeciviccouncil.org/event/office-hours-at-the-commissioner-2-2-2-5/
LOCATION:The Commissioner\, 247 5th Avenue\, Brooklyn\, New York\, 11215
CATEGORIES:Community,Local business,Office Hours,Outreach
ORGANIZER;CN="Park Slope Civic Council":MAILTO:membership@parkslopecouncil.org
END:VEVENT
BEGIN:VEVENT
DTSTART;TZID=America/New_York:20181003T080000
DTEND;TZID=America/New_York:20181003T100000
DTSTAMP:20260423T213919
CREATED:20180924T233132Z
LAST-MODIFIED:20180924T233132Z
UID:9899-1538553600-1538560800@parkslopeciviccouncil.org
SUMMARY:Java with Jo Anne - Morning Coffee with Assemblymember Jo Ann Simon
DESCRIPTION:Join PSCC and Assemblymember Jo Anne Simon for a cup of coffee to chat about current events or local issues in our neighborhood.\n\n\n\n\n\n\n\n\n\n\n\n\n\n\n\n\n\n\n\n\n\n\n\n\nDATE:  Wednesday\, October 3rd\nTIME:  8:00 AM to 10:00 AM\n\n\n\n\n\n\n\n\nLOCATION:  Velvette Brew\, 279 5th Avenue\n\n\n(between Garfield Place and Carroll Street)\n\n\n\nBrooklyn\, NY 11215
URL:https://parkslopeciviccouncil.org/event/java-with-jo-anne-morning-coffee-with-assemblymember-jo-ann-simon-3/
LOCATION:Velvette Brew\, 279 5th Avenue (btwn 1st St and Garfield Place)\, Brooklyn\, NY\, 11215
CATEGORIES:Community,Electeds,Outreach
END:VEVENT
BEGIN:VEVENT
DTSTART;TZID=America/New_York:20181003T080000
DTEND;TZID=America/New_York:20181003T100000
DTSTAMP:20260423T213919
CREATED:20180924T233132Z
LAST-MODIFIED:20180924T233132Z
UID:10259-1538553600-1538560800@parkslopeciviccouncil.org
SUMMARY:Java with Jo Anne - Morning Coffee with Assemblymember Jo Ann Simon
DESCRIPTION:Join PSCC and Assemblymember Jo Anne Simon for a cup of coffee to chat about current events or local issues in our neighborhood.\n\n\n\n\n\n\n\n\n\n\n\n\n\n\n\n\n\n\n\n\n\n\n\n\nDATE:  Wednesday\, October 3rd\nTIME:  8:00 AM to 10:00 AM\n\n\n\n\n\n\n\n\nLOCATION:  Velvette Brew\, 279 5th Avenue\n\n\n(between Garfield Place and Carroll Street)\n\n\n\nBrooklyn\, NY 11215
URL:https://parkslopeciviccouncil.org/event/java-with-jo-anne-morning-coffee-with-assemblymember-jo-ann-simon-4/
LOCATION:Velvette Brew\, 279 5th Avenue (btwn 1st St and Garfield Place)\, Brooklyn\, NY\, 11215
CATEGORIES:Community,Electeds,Outreach
END:VEVENT
BEGIN:VEVENT
DTSTART;TZID=America/New_York:20181003T080000
DTEND;TZID=America/New_York:20181003T100000
DTSTAMP:20260423T213919
CREATED:20180924T233132Z
LAST-MODIFIED:20180924T233132Z
UID:12412-1538553600-1538560800@parkslopeciviccouncil.org
SUMMARY:Java with Jo Anne - Morning Coffee with Assemblymember Jo Ann Simon
DESCRIPTION:Join PSCC and Assemblymember Jo Anne Simon for a cup of coffee to chat about current events or local issues in our neighborhood.\n\n\n\n\n\n\n\n\n\n\n\n\n\n\n\n\n\n\n\n\n\n\n\n\nDATE:  Wednesday\, October 3rd\nTIME:  8:00 AM to 10:00 AM\n\n\n\n\n\n\n\n\nLOCATION:  Velvette Brew\, 279 5th Avenue\n\n\n(between Garfield Place and Carroll Street)\n\n\n\nBrooklyn\, NY 11215
URL:https://parkslopeciviccouncil.org/event/java-with-jo-anne-morning-coffee-with-assemblymember-jo-ann-simon-5/
LOCATION:Velvette Brew\, 279 5th Avenue (btwn 1st St and Garfield Place)\, Brooklyn\, NY\, 11215
CATEGORIES:Community,Electeds,Outreach
END:VEVENT
BEGIN:VEVENT
DTSTART;TZID=America/New_York:20181003T080000
DTEND;TZID=America/New_York:20181003T100000
DTSTAMP:20260423T213919
CREATED:20180924T233132Z
LAST-MODIFIED:20180924T233132Z
UID:7672-1538553600-1538560800@parkslopeciviccouncil.org
SUMMARY:Java with Jo Anne - Morning Coffee with Assemblymember Jo Ann Simon
DESCRIPTION:Join PSCC and Assemblymember Jo Anne Simon for a cup of coffee to chat about current events or local issues in our neighborhood.\n\n\n\n\n\n\n\n\n\n\n\n\n\n\n\n\n\n\n\n\n\n\n\n\nDATE:  Wednesday\, October 3rd\nTIME:  8:00 AM to 10:00 AM\n\n\n\n\n\n\n\n\nLOCATION:  Velvette Brew\, 279 5th Avenue\n\n\n(between Garfield Place and Carroll Street)\n\n\n\nBrooklyn\, NY 11215
URL:https://parkslopeciviccouncil.org/event/java-with-jo-anne-morning-coffee-with-assemblymember-jo-ann-simon/
LOCATION:Velvette Brew\, 279 5th Avenue (btwn 1st St and Garfield Place)\, Brooklyn\, NY\, 11215
CATEGORIES:Community,Electeds,Outreach
END:VEVENT
BEGIN:VEVENT
DTSTART;TZID=America/New_York:20181003T080000
DTEND;TZID=America/New_York:20181003T100000
DTSTAMP:20260423T213919
CREATED:20180924T233132Z
LAST-MODIFIED:20180924T233132Z
UID:9540-1538553600-1538560800@parkslopeciviccouncil.org
SUMMARY:Java with Jo Anne - Morning Coffee with Assemblymember Jo Ann Simon
DESCRIPTION:Join PSCC and Assemblymember Jo Anne Simon for a cup of coffee to chat about current events or local issues in our neighborhood.\n\n\n\n\n\n\n\n\n\n\n\n\n\n\n\n\n\n\n\n\n\n\n\n\nDATE:  Wednesday\, October 3rd\nTIME:  8:00 AM to 10:00 AM\n\n\n\n\n\n\n\n\nLOCATION:  Velvette Brew\, 279 5th Avenue\n\n\n(between Garfield Place and Carroll Street)\n\n\n\nBrooklyn\, NY 11215
URL:https://parkslopeciviccouncil.org/event/java-with-jo-anne-morning-coffee-with-assemblymember-jo-ann-simon-2/
LOCATION:Velvette Brew\, 279 5th Avenue (btwn 1st St and Garfield Place)\, Brooklyn\, NY\, 11215
CATEGORIES:Community,Electeds,Outreach
END:VEVENT
BEGIN:VEVENT
DTSTART;TZID=America/New_York:20180927T183000
DTEND;TZID=America/New_York:20180927T203000
DTSTAMP:20260423T213919
CREATED:20180922T192414Z
LAST-MODIFIED:20180922T192414Z
UID:12411-1538073000-1538080200@parkslopeciviccouncil.org
SUMMARY:NYPD\'s 78th Precinct \"Build the Block\" Neighborhood Policing Meeting
DESCRIPTION:Meeting on community policing and public safety.\nNYPD\’s 78th Precinct \”Build the Block\” Neighborhood Policing and Safety Meeting for Sector 78C\, Park Slope\n\n\n\nDATE: Thursday\, September 27th\nTIME: Doors Open at 6:30 PM for refreshments; \nMeeting Starts at 7:00 PM\n\n\n\n\nLOCATION:  97 Lincoln Pl\, Brooklyn\, NY 11217\n(Sixth Avenue Bible Baptist Church\, the red brick church at the corner of 6th Avenue)\n\n\nGOAL: To identify community policing and public safety needs.\nNEIGHBORHOOD COORDINATION OFFICERS:\nPolice Officer William Gonzalez\nPolice Officer Kareem Abdelaziz\n\n\n\n\nThis site contains more information on this program.
URL:https://parkslopeciviccouncil.org/event/nypds-78th-precinct-build-the-block-neighborhood-policing-meeting-park-slope-5/
LOCATION:Sixth Avenue Bible Baptist Church\, 97 Lincoln Pl\, Brooklyn\, NY\, 11217
CATEGORIES:Community,NYPD,Outreach
END:VEVENT
BEGIN:VEVENT
DTSTART;TZID=America/New_York:20180927T183000
DTEND;TZID=America/New_York:20180927T203000
DTSTAMP:20260423T213919
CREATED:20180922T192414Z
LAST-MODIFIED:20180922T192414Z
UID:7669-1538073000-1538080200@parkslopeciviccouncil.org
SUMMARY:NYPD's 78th Precinct "Build the Block" Neighborhood Policing Meeting
DESCRIPTION:Meeting on community policing and public safety.\nNYPD’s 78th Precinct “Build the Block” Neighborhood Policing and Safety Meeting for Sector 78C\, Park Slope\n\n\n\nDATE: Thursday\, September 27th\nTIME: Doors Open at 6:30 PM for refreshments; \nMeeting Starts at 7:00 PM\n\n\n\n\nLOCATION:  97 Lincoln Pl\, Brooklyn\, NY 11217\n(Sixth Avenue Bible Baptist Church\, the red brick church at the corner of 6th Avenue)\n\n\nGOAL: To identify community policing and public safety needs.\nNEIGHBORHOOD COORDINATION OFFICERS:\nPolice Officer William Gonzalez\nPolice Officer Kareem Abdelaziz\n\n\n\n\nThis site contains more information on this program.
URL:https://parkslopeciviccouncil.org/event/nypds-78th-precinct-build-the-block-neighborhood-policing-meeting-park-slope/
LOCATION:Sixth Avenue Bible Baptist Church\, 97 Lincoln Pl\, Brooklyn\, NY\, 11217
CATEGORIES:Community,NYPD,Outreach
END:VEVENT
BEGIN:VEVENT
DTSTART;TZID=America/New_York:20180927T183000
DTEND;TZID=America/New_York:20180927T203000
DTSTAMP:20260423T213919
CREATED:20180922T192414Z
LAST-MODIFIED:20180922T192414Z
UID:9539-1538073000-1538080200@parkslopeciviccouncil.org
SUMMARY:NYPD's 78th Precinct "Build the Block" Neighborhood Policing Meeting
DESCRIPTION:Meeting on community policing and public safety.\nNYPD’s 78th Precinct “Build the Block” Neighborhood Policing and Safety Meeting for Sector 78C\, Park Slope\n\n\n\nDATE: Thursday\, September 27th\nTIME: Doors Open at 6:30 PM for refreshments; \nMeeting Starts at 7:00 PM\n\n\n\n\nLOCATION:  97 Lincoln Pl\, Brooklyn\, NY 11217\n(Sixth Avenue Bible Baptist Church\, the red brick church at the corner of 6th Avenue)\n\n\nGOAL: To identify community policing and public safety needs.\nNEIGHBORHOOD COORDINATION OFFICERS:\nPolice Officer William Gonzalez\nPolice Officer Kareem Abdelaziz\n\n\n\n\nThis site contains more information on this program.
URL:https://parkslopeciviccouncil.org/event/nypds-78th-precinct-build-the-block-neighborhood-policing-meeting-park-slope-2/
LOCATION:Sixth Avenue Bible Baptist Church\, 97 Lincoln Pl\, Brooklyn\, NY\, 11217
CATEGORIES:Community,NYPD,Outreach
END:VEVENT
BEGIN:VEVENT
DTSTART;TZID=America/New_York:20180927T183000
DTEND;TZID=America/New_York:20180927T203000
DTSTAMP:20260423T213919
CREATED:20180922T192414Z
LAST-MODIFIED:20180922T192414Z
UID:9898-1538073000-1538080200@parkslopeciviccouncil.org
SUMMARY:NYPD's 78th Precinct "Build the Block" Neighborhood Policing Meeting
DESCRIPTION:Meeting on community policing and public safety.\nNYPD’s 78th Precinct “Build the Block” Neighborhood Policing and Safety Meeting for Sector 78C\, Park Slope\n\n\n\nDATE: Thursday\, September 27th\nTIME: Doors Open at 6:30 PM for refreshments; \nMeeting Starts at 7:00 PM\n\n\n\n\nLOCATION:  97 Lincoln Pl\, Brooklyn\, NY 11217\n(Sixth Avenue Bible Baptist Church\, the red brick church at the corner of 6th Avenue)\n\n\nGOAL: To identify community policing and public safety needs.\nNEIGHBORHOOD COORDINATION OFFICERS:\nPolice Officer William Gonzalez\nPolice Officer Kareem Abdelaziz\n\n\n\n\nThis site contains more information on this program.
URL:https://parkslopeciviccouncil.org/event/nypds-78th-precinct-build-the-block-neighborhood-policing-meeting-park-slope-3/
LOCATION:Sixth Avenue Bible Baptist Church\, 97 Lincoln Pl\, Brooklyn\, NY\, 11217
CATEGORIES:Community,NYPD,Outreach
END:VEVENT
BEGIN:VEVENT
DTSTART;TZID=America/New_York:20180927T183000
DTEND;TZID=America/New_York:20180927T203000
DTSTAMP:20260423T213919
CREATED:20180922T192414Z
LAST-MODIFIED:20180922T192414Z
UID:10258-1538073000-1538080200@parkslopeciviccouncil.org
SUMMARY:NYPD's 78th Precinct "Build the Block" Neighborhood Policing Meeting
DESCRIPTION:Meeting on community policing and public safety.\nNYPD’s 78th Precinct “Build the Block” Neighborhood Policing and Safety Meeting for Sector 78C\, Park Slope\n\n\n\nDATE: Thursday\, September 27th\nTIME: Doors Open at 6:30 PM for refreshments; \nMeeting Starts at 7:00 PM\n\n\n\n\nLOCATION:  97 Lincoln Pl\, Brooklyn\, NY 11217\n(Sixth Avenue Bible Baptist Church\, the red brick church at the corner of 6th Avenue)\n\n\nGOAL: To identify community policing and public safety needs.\nNEIGHBORHOOD COORDINATION OFFICERS:\nPolice Officer William Gonzalez\nPolice Officer Kareem Abdelaziz\n\n\n\n\nThis site contains more information on this program.
URL:https://parkslopeciviccouncil.org/event/nypds-78th-precinct-build-the-block-neighborhood-policing-meeting-park-slope-4/
LOCATION:Sixth Avenue Bible Baptist Church\, 97 Lincoln Pl\, Brooklyn\, NY\, 11217
CATEGORIES:Community,NYPD,Outreach
END:VEVENT
BEGIN:VEVENT
DTSTART;TZID=America/New_York:20180921T153000
DTEND;TZID=America/New_York:20180921T180000
DTSTAMP:20260423T213919
CREATED:20180921T011632Z
LAST-MODIFIED:20180921T011632Z
UID:12408-1537543800-1537552800@parkslopeciviccouncil.org
SUMMARY:Heights and Hills Caregiver Program: Canes\, Walkers and Environment
DESCRIPTION:
URL:https://parkslopeciviccouncil.org/event/heights-and-hills-caregiver-program-canes-walkers-and-environment-6/
CATEGORIES:Age Friendly,Community
END:VEVENT
BEGIN:VEVENT
DTSTART;TZID=America/New_York:20180921T153000
DTEND;TZID=America/New_York:20180921T180000
DTSTAMP:20260423T213919
CREATED:20180921T011632Z
LAST-MODIFIED:20180921T011632Z
UID:7658-1537543800-1537552800@parkslopeciviccouncil.org
SUMMARY:Heights and Hills Caregiver Program: Canes\, Walkers and Environment
DESCRIPTION:
URL:https://parkslopeciviccouncil.org/event/heights-and-hills-caregiver-program-canes-walkers-and-environment/
CATEGORIES:Age Friendly,Community
END:VEVENT
BEGIN:VEVENT
DTSTART;TZID=America/New_York:20180921T153000
DTEND;TZID=America/New_York:20180921T180000
DTSTAMP:20260423T213919
CREATED:20180921T011632Z
LAST-MODIFIED:20180921T011632Z
UID:9536-1537543800-1537552800@parkslopeciviccouncil.org
SUMMARY:Heights and Hills Caregiver Program: Canes\, Walkers and Environment
DESCRIPTION:
URL:https://parkslopeciviccouncil.org/event/heights-and-hills-caregiver-program-canes-walkers-and-environment-2/
CATEGORIES:Age Friendly,Community
END:VEVENT
BEGIN:VEVENT
DTSTART;TZID=America/New_York:20180921T153000
DTEND;TZID=America/New_York:20180921T180000
DTSTAMP:20260423T213919
CREATED:20180921T011632Z
LAST-MODIFIED:20180921T011632Z
UID:9895-1537543800-1537552800@parkslopeciviccouncil.org
SUMMARY:Heights and Hills Caregiver Program: Canes\, Walkers and Environment
DESCRIPTION:
URL:https://parkslopeciviccouncil.org/event/heights-and-hills-caregiver-program-canes-walkers-and-environment-3/
CATEGORIES:Age Friendly,Community
END:VEVENT
BEGIN:VEVENT
DTSTART;TZID=America/New_York:20180921T153000
DTEND;TZID=America/New_York:20180921T180000
DTSTAMP:20260423T213919
CREATED:20180921T011632Z
LAST-MODIFIED:20180921T011632Z
UID:10255-1537543800-1537552800@parkslopeciviccouncil.org
SUMMARY:Heights and Hills Caregiver Program: Canes\, Walkers and Environment
DESCRIPTION:
URL:https://parkslopeciviccouncil.org/event/heights-and-hills-caregiver-program-canes-walkers-and-environment-4/
CATEGORIES:Age Friendly,Community
END:VEVENT
BEGIN:VEVENT
DTSTART;TZID=America/New_York:20180918T190000
DTEND;TZID=America/New_York:20180918T210000
DTSTAMP:20260423T213919
CREATED:20180326T222744Z
LAST-MODIFIED:20180326T222744Z
UID:12382-1537297200-1537304400@parkslopeciviccouncil.org
SUMMARY:Office Hours at The Commissioner
DESCRIPTION:Please join us for Office Hours at The Commissioner! Office Hours is an informal gathering of PSCC trustees\, members\, and neighbors. It’s a great time to meet your neighbors and make new friends.
URL:https://parkslopeciviccouncil.org/event/office-hours-at-the-commissioner-2-2-8/
LOCATION:The Commissioner\, 247 5th Avenue\, Brooklyn\, New York\, 11215
CATEGORIES:Community,Local business,Office Hours,Outreach
ORGANIZER;CN="Park Slope Civic Council":MAILTO:membership@parkslopecouncil.org
END:VEVENT
END:VCALENDAR