BEGIN:VCALENDAR
VERSION:2.0
PRODID:-//Park Slope Civic Council - ECPv6.15.20//NONSGML v1.0//EN
CALSCALE:GREGORIAN
METHOD:PUBLISH
X-ORIGINAL-URL:https://parkslopeciviccouncil.org
X-WR-CALDESC:Events for Park Slope Civic Council
REFRESH-INTERVAL;VALUE=DURATION:PT1H
X-Robots-Tag:noindex
X-PUBLISHED-TTL:PT1H
BEGIN:VTIMEZONE
TZID:America/New_York
BEGIN:DAYLIGHT
TZOFFSETFROM:-0500
TZOFFSETTO:-0400
TZNAME:EDT
DTSTART:20180311T070000
END:DAYLIGHT
BEGIN:STANDARD
TZOFFSETFROM:-0400
TZOFFSETTO:-0500
TZNAME:EST
DTSTART:20181104T060000
END:STANDARD
BEGIN:DAYLIGHT
TZOFFSETFROM:-0500
TZOFFSETTO:-0400
TZNAME:EDT
DTSTART:20190310T070000
END:DAYLIGHT
BEGIN:STANDARD
TZOFFSETFROM:-0400
TZOFFSETTO:-0500
TZNAME:EST
DTSTART:20191103T060000
END:STANDARD
BEGIN:DAYLIGHT
TZOFFSETFROM:-0500
TZOFFSETTO:-0400
TZNAME:EDT
DTSTART:20200308T070000
END:DAYLIGHT
BEGIN:STANDARD
TZOFFSETFROM:-0400
TZOFFSETTO:-0500
TZNAME:EST
DTSTART:20201101T060000
END:STANDARD
END:VTIMEZONE
BEGIN:VEVENT
DTSTART;TZID=America/New_York:20190416T190000
DTEND;TZID=America/New_York:20190416T210000
DTSTAMP:20260423T071127
CREATED:20180326T222744Z
LAST-MODIFIED:20180326T222744Z
UID:9877-1555441200-1555448400@parkslopeciviccouncil.org
SUMMARY:Office Hours at The Commissioner
DESCRIPTION:Please join us for Office Hours at The Commissioner! Office Hours is an informal gathering of PSCC trustees\, members\, and neighbors. It’s a great time to meet your neighbors and make new friends.
URL:https://parkslopeciviccouncil.org/event/office-hours-at-the-commissioner-2-2-2-2-2-2-2-2-2-4/
LOCATION:The Commissioner\, 247 5th Avenue\, Brooklyn\, New York\, 11215
CATEGORIES:Community,Local business,Office Hours,Outreach
ORGANIZER;CN="Park Slope Civic Council":MAILTO:membership@parkslopecouncil.org
END:VEVENT
BEGIN:VEVENT
DTSTART;TZID=America/New_York:20190416T190000
DTEND;TZID=America/New_York:20190416T210000
DTSTAMP:20260423T071127
CREATED:20180326T222744Z
LAST-MODIFIED:20180326T222744Z
UID:10905-1555441200-1555448400@parkslopeciviccouncil.org
SUMMARY:Office Hours at The Commissioner
DESCRIPTION:Please join us for Office Hours at The Commissioner! Office Hours is an informal gathering of PSCC trustees\, members\, and neighbors. It’s a great time to meet your neighbors and make new friends.
URL:https://parkslopeciviccouncil.org/event/office-hours-at-the-commissioner-2-2-2-2-2-2-2-2-2-7/
LOCATION:The Commissioner\, 247 5th Avenue\, Brooklyn\, New York\, 11215
CATEGORIES:Community,Local business,Office Hours,Outreach
ORGANIZER;CN="Park Slope Civic Council":MAILTO:membership@parkslopecouncil.org
END:VEVENT
BEGIN:VEVENT
DTSTART;TZID=America/New_York:20190416T190000
DTEND;TZID=America/New_York:20190416T210000
DTSTAMP:20260423T071127
CREATED:20180326T222744Z
LAST-MODIFIED:20180326T222744Z
UID:10237-1555441200-1555448400@parkslopeciviccouncil.org
SUMMARY:Office Hours at The Commissioner
DESCRIPTION:Please join us for Office Hours at The Commissioner! Office Hours is an informal gathering of PSCC trustees\, members\, and neighbors. It’s a great time to meet your neighbors and make new friends.
URL:https://parkslopeciviccouncil.org/event/office-hours-at-the-commissioner-2-2-2-2-2-2-2-2-2-5/
LOCATION:The Commissioner\, 247 5th Avenue\, Brooklyn\, New York\, 11215
CATEGORIES:Community,Local business,Office Hours,Outreach
ORGANIZER;CN="Park Slope Civic Council":MAILTO:membership@parkslopecouncil.org
END:VEVENT
BEGIN:VEVENT
DTSTART;TZID=America/New_York:20190416T190000
DTEND;TZID=America/New_York:20190416T210000
DTSTAMP:20260423T071127
CREATED:20180326T222744Z
LAST-MODIFIED:20180326T222744Z
UID:7633-1555441200-1555448400@parkslopeciviccouncil.org
SUMMARY:Office Hours at The Commissioner
DESCRIPTION:Please join us for Office Hours at The Commissioner! Office Hours is an informal gathering of PSCC trustees\, members\, and neighbors. It’s a great time to meet your neighbors and make new friends.
URL:https://parkslopeciviccouncil.org/event/office-hours-at-the-commissioner-2-2-2-2-2-2-2-2-2/
LOCATION:The Commissioner\, 247 5th Avenue\, Brooklyn\, New York\, 11215
CATEGORIES:Community,Local business,Office Hours,Outreach
ORGANIZER;CN="Park Slope Civic Council":MAILTO:membership@parkslopecouncil.org
END:VEVENT
BEGIN:VEVENT
DTSTART;TZID=America/New_York:20190416T190000
DTEND;TZID=America/New_York:20190416T210000
DTSTAMP:20260423T071127
CREATED:20180326T222744Z
LAST-MODIFIED:20180326T222744Z
UID:10585-1555441200-1555448400@parkslopeciviccouncil.org
SUMMARY:Office Hours at The Commissioner
DESCRIPTION:Please join us for Office Hours at The Commissioner! Office Hours is an informal gathering of PSCC trustees\, members\, and neighbors. It’s a great time to meet your neighbors and make new friends.
URL:https://parkslopeciviccouncil.org/event/office-hours-at-the-commissioner-2-2-2-2-2-2-2-2-2-6/
LOCATION:The Commissioner\, 247 5th Avenue\, Brooklyn\, New York\, 11215
CATEGORIES:Community,Local business,Office Hours,Outreach
ORGANIZER;CN="Park Slope Civic Council":MAILTO:membership@parkslopecouncil.org
END:VEVENT
BEGIN:VEVENT
DTSTART;TZID=America/New_York:20190416T190000
DTEND;TZID=America/New_York:20190416T210000
DTSTAMP:20260423T071127
CREATED:20180326T222744Z
LAST-MODIFIED:20180326T222744Z
UID:12389-1555441200-1555448400@parkslopeciviccouncil.org
SUMMARY:Office Hours at The Commissioner
DESCRIPTION:Please join us for Office Hours at The Commissioner! Office Hours is an informal gathering of PSCC trustees\, members\, and neighbors. It’s a great time to meet your neighbors and make new friends.
URL:https://parkslopeciviccouncil.org/event/office-hours-at-the-commissioner-2-2-2-2-2-2-2-2-2-8/
LOCATION:The Commissioner\, 247 5th Avenue\, Brooklyn\, New York\, 11215
CATEGORIES:Community,Local business,Office Hours,Outreach
ORGANIZER;CN="Park Slope Civic Council":MAILTO:membership@parkslopecouncil.org
END:VEVENT
BEGIN:VEVENT
DTSTART;TZID=America/New_York:20190416T190000
DTEND;TZID=America/New_York:20190416T210000
DTSTAMP:20260423T071127
CREATED:20180326T222744Z
LAST-MODIFIED:20180326T222744Z
UID:9518-1555441200-1555448400@parkslopeciviccouncil.org
SUMMARY:Office Hours at The Commissioner
DESCRIPTION:Please join us for Office Hours at The Commissioner! Office Hours is an informal gathering of PSCC trustees\, members\, and neighbors. It’s a great time to meet your neighbors and make new friends.
URL:https://parkslopeciviccouncil.org/event/office-hours-at-the-commissioner-2-2-2-2-2-2-2-2-2-3/
LOCATION:The Commissioner\, 247 5th Avenue\, Brooklyn\, New York\, 11215
CATEGORIES:Community,Local business,Office Hours,Outreach
ORGANIZER;CN="Park Slope Civic Council":MAILTO:membership@parkslopecouncil.org
END:VEVENT
BEGIN:VEVENT
DTSTART;TZID=America/New_York:20190414T100000
DTEND;TZID=America/New_York:20190414T140000
DTSTAMP:20260423T071127
CREATED:20181211T182853Z
LAST-MODIFIED:20181211T182853Z
UID:12417-1555236000-1555250400@parkslopeciviccouncil.org
SUMMARY:Spring Civic Sweep
DESCRIPTION:Put on your old clothes and please join PSCC as we sweep the streets of Park Slope clean\, paint out graffiti\, tend tree beds\, and more! \n10am – 2pm\, rain or shine!
URL:https://parkslopeciviccouncil.org/event/spring-civic-sweep-4-5/
LOCATION:In Front of the Old Stone House and J.J. Byrne Playground\, In Front of Old Stone House/J.J. Byrne Park\, 5th Avenue between 3rd and 4th Streets\, Brooklyn\, NY\, 11215\, United States
CATEGORIES:Civic Sweep,Community
END:VEVENT
BEGIN:VEVENT
DTSTART;TZID=America/New_York:20190414T100000
DTEND;TZID=America/New_York:20190414T140000
DTSTAMP:20260423T071127
CREATED:20181211T182853Z
LAST-MODIFIED:20181211T182853Z
UID:7733-1555236000-1555250400@parkslopeciviccouncil.org
SUMMARY:Spring Civic Sweep
DESCRIPTION:Put on your old clothes and please join PSCC as we sweep the streets of Park Slope clean\, paint out graffiti\, tend tree beds\, and more! \n10am – 2pm\, rain or shine!
URL:https://parkslopeciviccouncil.org/event/spring-civic-sweep-4/
LOCATION:In Front of the Old Stone House and J.J. Byrne Playground\, In Front of Old Stone House/J.J. Byrne Park\, 5th Avenue between 3rd and 4th Streets\, Brooklyn\, NY\, 11215\, United States
CATEGORIES:Civic Sweep,Community
END:VEVENT
BEGIN:VEVENT
DTSTART;TZID=America/New_York:20190414T100000
DTEND;TZID=America/New_York:20190414T140000
DTSTAMP:20260423T071127
CREATED:20181211T182853Z
LAST-MODIFIED:20181211T182853Z
UID:9545-1555236000-1555250400@parkslopeciviccouncil.org
SUMMARY:Spring Civic Sweep
DESCRIPTION:Put on your old clothes and please join PSCC as we sweep the streets of Park Slope clean\, paint out graffiti\, tend tree beds\, and more! \n10am – 2pm\, rain or shine!
URL:https://parkslopeciviccouncil.org/event/spring-civic-sweep-4-2/
LOCATION:In Front of the Old Stone House and J.J. Byrne Playground\, In Front of Old Stone House/J.J. Byrne Park\, 5th Avenue between 3rd and 4th Streets\, Brooklyn\, NY\, 11215\, United States
CATEGORIES:Civic Sweep,Community
END:VEVENT
BEGIN:VEVENT
DTSTART;TZID=America/New_York:20190414T100000
DTEND;TZID=America/New_York:20190414T140000
DTSTAMP:20260423T071127
CREATED:20181211T182853Z
LAST-MODIFIED:20181211T182853Z
UID:9904-1555236000-1555250400@parkslopeciviccouncil.org
SUMMARY:Spring Civic Sweep
DESCRIPTION:Put on your old clothes and please join PSCC as we sweep the streets of Park Slope clean\, paint out graffiti\, tend tree beds\, and more! \n10am – 2pm\, rain or shine!
URL:https://parkslopeciviccouncil.org/event/spring-civic-sweep-4-3/
LOCATION:In Front of the Old Stone House and J.J. Byrne Playground\, In Front of Old Stone House/J.J. Byrne Park\, 5th Avenue between 3rd and 4th Streets\, Brooklyn\, NY\, 11215\, United States
CATEGORIES:Civic Sweep,Community
END:VEVENT
BEGIN:VEVENT
DTSTART;TZID=America/New_York:20190414T100000
DTEND;TZID=America/New_York:20190414T140000
DTSTAMP:20260423T071127
CREATED:20181211T182853Z
LAST-MODIFIED:20181211T182853Z
UID:10264-1555236000-1555250400@parkslopeciviccouncil.org
SUMMARY:Spring Civic Sweep
DESCRIPTION:Put on your old clothes and please join PSCC as we sweep the streets of Park Slope clean\, paint out graffiti\, tend tree beds\, and more! \n10am – 2pm\, rain or shine!
URL:https://parkslopeciviccouncil.org/event/spring-civic-sweep-4-4/
LOCATION:In Front of the Old Stone House and J.J. Byrne Playground\, In Front of Old Stone House/J.J. Byrne Park\, 5th Avenue between 3rd and 4th Streets\, Brooklyn\, NY\, 11215\, United States
CATEGORIES:Civic Sweep,Community
END:VEVENT
BEGIN:VEVENT
DTSTART;TZID=America/New_York:20190404T190000
DTEND;TZID=America/New_York:20190404T210000
DTSTAMP:20260423T071127
CREATED:20180724T220321Z
LAST-MODIFIED:20180724T220321Z
UID:9533-1554404400-1554411600@parkslopeciviccouncil.org
SUMMARY:Monthly Trustees' Meeting
DESCRIPTION:Please join us for our monthly trustees’ meeting\, 7-9pm at the Old Stone House\, open to all.
URL:https://parkslopeciviccouncil.org/event/monthly-trustees-meeting-4-2-2-2-3/
LOCATION:Old Stone House\, 336 3rd St\, Brooklyn\, NY\, 11215\, United States
CATEGORIES:Community,Old Stone House,Trustees Meeting
END:VEVENT
BEGIN:VEVENT
DTSTART;TZID=America/New_York:20190404T190000
DTEND;TZID=America/New_York:20190404T210000
DTSTAMP:20260423T071127
CREATED:20180724T220321Z
LAST-MODIFIED:20180724T220321Z
UID:9892-1554404400-1554411600@parkslopeciviccouncil.org
SUMMARY:Monthly Trustees' Meeting
DESCRIPTION:Please join us for our monthly trustees’ meeting\, 7-9pm at the Old Stone House\, open to all.
URL:https://parkslopeciviccouncil.org/event/monthly-trustees-meeting-4-2-2-2-4/
LOCATION:Old Stone House\, 336 3rd St\, Brooklyn\, NY\, 11215\, United States
CATEGORIES:Community,Old Stone House,Trustees Meeting
END:VEVENT
BEGIN:VEVENT
DTSTART;TZID=America/New_York:20190404T190000
DTEND;TZID=America/New_York:20190404T210000
DTSTAMP:20260423T071127
CREATED:20180724T220321Z
LAST-MODIFIED:20180724T220321Z
UID:10920-1554404400-1554411600@parkslopeciviccouncil.org
SUMMARY:Monthly Trustees' Meeting
DESCRIPTION:Please join us for our monthly trustees’ meeting\, 7-9pm at the Old Stone House\, open to all.
URL:https://parkslopeciviccouncil.org/event/monthly-trustees-meeting-4-2-2-2-6/
LOCATION:Old Stone House\, 336 3rd St\, Brooklyn\, NY\, 11215\, United States
CATEGORIES:Community,Old Stone House,Trustees Meeting
END:VEVENT
BEGIN:VEVENT
DTSTART;TZID=America/New_York:20190404T190000
DTEND;TZID=America/New_York:20190404T210000
DTSTAMP:20260423T071127
CREATED:20180724T220321Z
LAST-MODIFIED:20180724T220321Z
UID:10252-1554404400-1554411600@parkslopeciviccouncil.org
SUMMARY:Monthly Trustees' Meeting
DESCRIPTION:Please join us for our monthly trustees’ meeting\, 7-9pm at the Old Stone House\, open to all.
URL:https://parkslopeciviccouncil.org/event/monthly-trustees-meeting-4-2-2-2-5/
LOCATION:Old Stone House\, 336 3rd St\, Brooklyn\, NY\, 11215\, United States
CATEGORIES:Community,Old Stone House,Trustees Meeting
END:VEVENT
BEGIN:VEVENT
DTSTART;TZID=America/New_York:20190404T190000
DTEND;TZID=America/New_York:20190404T210000
DTSTAMP:20260423T071127
CREATED:20180724T220321Z
LAST-MODIFIED:20180724T220321Z
UID:7628-1554404400-1554411600@parkslopeciviccouncil.org
SUMMARY:Monthly Trustees' Meeting
DESCRIPTION:Please join us for our monthly trustees’ meeting\, 7-9pm at the Old Stone House\, open to all.
URL:https://parkslopeciviccouncil.org/event/monthly-trustees-meeting-4-2-2-2/
LOCATION:Old Stone House\, 336 3rd St\, Brooklyn\, NY\, 11215\, United States
CATEGORIES:Community,Old Stone House,Trustees Meeting
END:VEVENT
BEGIN:VEVENT
DTSTART;TZID=America/New_York:20190404T190000
DTEND;TZID=America/New_York:20190404T210000
DTSTAMP:20260423T071127
CREATED:20180724T220321Z
LAST-MODIFIED:20180724T220321Z
UID:12405-1554404400-1554411600@parkslopeciviccouncil.org
SUMMARY:Monthly Trustees\' Meeting
DESCRIPTION:Please join us for our monthly trustees\’ meeting\, 7-9pm at the Old Stone House\, open to all.
URL:https://parkslopeciviccouncil.org/event/monthly-trustees-meeting-4-2-2-2-7/
LOCATION:Old Stone House\, 336 3rd St\, Brooklyn\, NY\, 11215\, United States
CATEGORIES:Community,Old Stone House,Trustees Meeting
END:VEVENT
BEGIN:VEVENT
DTSTART;TZID=America/New_York:20190319T190000
DTEND;TZID=America/New_York:20190319T210000
DTSTAMP:20260423T071127
CREATED:20180326T222744Z
LAST-MODIFIED:20180326T222744Z
UID:12388-1553022000-1553029200@parkslopeciviccouncil.org
SUMMARY:Office Hours at The Commissioner
DESCRIPTION:Please join us for Office Hours at The Commissioner! Office Hours is an informal gathering of PSCC trustees\, members\, and neighbors. It’s a great time to meet your neighbors and make new friends.
URL:https://parkslopeciviccouncil.org/event/office-hours-at-the-commissioner-2-2-2-2-2-2-2-2-8/
LOCATION:The Commissioner\, 247 5th Avenue\, Brooklyn\, New York\, 11215
CATEGORIES:Community,Local business,Office Hours,Outreach
ORGANIZER;CN="Park Slope Civic Council":MAILTO:membership@parkslopecouncil.org
END:VEVENT
BEGIN:VEVENT
DTSTART;TZID=America/New_York:20190319T190000
DTEND;TZID=America/New_York:20190319T210000
DTSTAMP:20260423T071127
CREATED:20180326T222744Z
LAST-MODIFIED:20180326T222744Z
UID:9517-1553022000-1553029200@parkslopeciviccouncil.org
SUMMARY:Office Hours at The Commissioner
DESCRIPTION:Please join us for Office Hours at The Commissioner! Office Hours is an informal gathering of PSCC trustees\, members\, and neighbors. It’s a great time to meet your neighbors and make new friends.
URL:https://parkslopeciviccouncil.org/event/office-hours-at-the-commissioner-2-2-2-2-2-2-2-2-3/
LOCATION:The Commissioner\, 247 5th Avenue\, Brooklyn\, New York\, 11215
CATEGORIES:Community,Local business,Office Hours,Outreach
ORGANIZER;CN="Park Slope Civic Council":MAILTO:membership@parkslopecouncil.org
END:VEVENT
BEGIN:VEVENT
DTSTART;TZID=America/New_York:20190319T190000
DTEND;TZID=America/New_York:20190319T210000
DTSTAMP:20260423T071127
CREATED:20180326T222744Z
LAST-MODIFIED:20180326T222744Z
UID:9876-1553022000-1553029200@parkslopeciviccouncil.org
SUMMARY:Office Hours at The Commissioner
DESCRIPTION:Please join us for Office Hours at The Commissioner! Office Hours is an informal gathering of PSCC trustees\, members\, and neighbors. It’s a great time to meet your neighbors and make new friends.
URL:https://parkslopeciviccouncil.org/event/office-hours-at-the-commissioner-2-2-2-2-2-2-2-2-4/
LOCATION:The Commissioner\, 247 5th Avenue\, Brooklyn\, New York\, 11215
CATEGORIES:Community,Local business,Office Hours,Outreach
ORGANIZER;CN="Park Slope Civic Council":MAILTO:membership@parkslopecouncil.org
END:VEVENT
BEGIN:VEVENT
DTSTART;TZID=America/New_York:20190319T190000
DTEND;TZID=America/New_York:20190319T210000
DTSTAMP:20260423T071127
CREATED:20180326T222744Z
LAST-MODIFIED:20180326T222744Z
UID:10904-1553022000-1553029200@parkslopeciviccouncil.org
SUMMARY:Office Hours at The Commissioner
DESCRIPTION:Please join us for Office Hours at The Commissioner! Office Hours is an informal gathering of PSCC trustees\, members\, and neighbors. It’s a great time to meet your neighbors and make new friends.
URL:https://parkslopeciviccouncil.org/event/office-hours-at-the-commissioner-2-2-2-2-2-2-2-2-7/
LOCATION:The Commissioner\, 247 5th Avenue\, Brooklyn\, New York\, 11215
CATEGORIES:Community,Local business,Office Hours,Outreach
ORGANIZER;CN="Park Slope Civic Council":MAILTO:membership@parkslopecouncil.org
END:VEVENT
BEGIN:VEVENT
DTSTART;TZID=America/New_York:20190319T190000
DTEND;TZID=America/New_York:20190319T210000
DTSTAMP:20260423T071127
CREATED:20180326T222744Z
LAST-MODIFIED:20180326T222744Z
UID:10236-1553022000-1553029200@parkslopeciviccouncil.org
SUMMARY:Office Hours at The Commissioner
DESCRIPTION:Please join us for Office Hours at The Commissioner! Office Hours is an informal gathering of PSCC trustees\, members\, and neighbors. It’s a great time to meet your neighbors and make new friends.
URL:https://parkslopeciviccouncil.org/event/office-hours-at-the-commissioner-2-2-2-2-2-2-2-2-5/
LOCATION:The Commissioner\, 247 5th Avenue\, Brooklyn\, New York\, 11215
CATEGORIES:Community,Local business,Office Hours,Outreach
ORGANIZER;CN="Park Slope Civic Council":MAILTO:membership@parkslopecouncil.org
END:VEVENT
BEGIN:VEVENT
DTSTART;TZID=America/New_York:20190319T190000
DTEND;TZID=America/New_York:20190319T210000
DTSTAMP:20260423T071127
CREATED:20180326T222744Z
LAST-MODIFIED:20180326T222744Z
UID:7632-1553022000-1553029200@parkslopeciviccouncil.org
SUMMARY:Office Hours at The Commissioner
DESCRIPTION:Please join us for Office Hours at The Commissioner! Office Hours is an informal gathering of PSCC trustees\, members\, and neighbors. It’s a great time to meet your neighbors and make new friends.
URL:https://parkslopeciviccouncil.org/event/office-hours-at-the-commissioner-2-2-2-2-2-2-2-2/
LOCATION:The Commissioner\, 247 5th Avenue\, Brooklyn\, New York\, 11215
CATEGORIES:Community,Local business,Office Hours,Outreach
ORGANIZER;CN="Park Slope Civic Council":MAILTO:membership@parkslopecouncil.org
END:VEVENT
BEGIN:VEVENT
DTSTART;TZID=America/New_York:20190319T190000
DTEND;TZID=America/New_York:20190319T210000
DTSTAMP:20260423T071127
CREATED:20180326T222744Z
LAST-MODIFIED:20180326T222744Z
UID:10584-1553022000-1553029200@parkslopeciviccouncil.org
SUMMARY:Office Hours at The Commissioner
DESCRIPTION:Please join us for Office Hours at The Commissioner! Office Hours is an informal gathering of PSCC trustees\, members\, and neighbors. It’s a great time to meet your neighbors and make new friends.
URL:https://parkslopeciviccouncil.org/event/office-hours-at-the-commissioner-2-2-2-2-2-2-2-2-6/
LOCATION:The Commissioner\, 247 5th Avenue\, Brooklyn\, New York\, 11215
CATEGORIES:Community,Local business,Office Hours,Outreach
ORGANIZER;CN="Park Slope Civic Council":MAILTO:membership@parkslopecouncil.org
END:VEVENT
BEGIN:VEVENT
DTSTART;TZID=America/New_York:20190307T190000
DTEND;TZID=America/New_York:20190307T210000
DTSTAMP:20260423T071127
CREATED:20180724T220321Z
LAST-MODIFIED:20180724T220321Z
UID:7627-1551985200-1551992400@parkslopeciviccouncil.org
SUMMARY:Monthly Trustees' Meeting
DESCRIPTION:Please join us for our monthly trustees’ meeting\, 7-9pm at the Old Stone House\, open to all.
URL:https://parkslopeciviccouncil.org/event/monthly-trustees-meeting-4-2-2/
LOCATION:Old Stone House\, 336 3rd St\, Brooklyn\, NY\, 11215\, United States
CATEGORIES:Community,Old Stone House,Trustees Meeting
END:VEVENT
BEGIN:VEVENT
DTSTART;TZID=America/New_York:20190307T190000
DTEND;TZID=America/New_York:20190307T210000
DTSTAMP:20260423T071127
CREATED:20180724T220321Z
LAST-MODIFIED:20180724T220321Z
UID:12404-1551985200-1551992400@parkslopeciviccouncil.org
SUMMARY:Monthly Trustees\' Meeting
DESCRIPTION:Please join us for our monthly trustees\’ meeting\, 7-9pm at the Old Stone House\, open to all.
URL:https://parkslopeciviccouncil.org/event/monthly-trustees-meeting-4-2-2-7/
LOCATION:Old Stone House\, 336 3rd St\, Brooklyn\, NY\, 11215\, United States
CATEGORIES:Community,Old Stone House,Trustees Meeting
END:VEVENT
BEGIN:VEVENT
DTSTART;TZID=America/New_York:20190307T190000
DTEND;TZID=America/New_York:20190307T210000
DTSTAMP:20260423T071127
CREATED:20180724T220321Z
LAST-MODIFIED:20180724T220321Z
UID:9532-1551985200-1551992400@parkslopeciviccouncil.org
SUMMARY:Monthly Trustees' Meeting
DESCRIPTION:Please join us for our monthly trustees’ meeting\, 7-9pm at the Old Stone House\, open to all.
URL:https://parkslopeciviccouncil.org/event/monthly-trustees-meeting-4-2-2-3/
LOCATION:Old Stone House\, 336 3rd St\, Brooklyn\, NY\, 11215\, United States
CATEGORIES:Community,Old Stone House,Trustees Meeting
END:VEVENT
BEGIN:VEVENT
DTSTART;TZID=America/New_York:20190307T190000
DTEND;TZID=America/New_York:20190307T210000
DTSTAMP:20260423T071127
CREATED:20180724T220321Z
LAST-MODIFIED:20180724T220321Z
UID:9891-1551985200-1551992400@parkslopeciviccouncil.org
SUMMARY:Monthly Trustees' Meeting
DESCRIPTION:Please join us for our monthly trustees’ meeting\, 7-9pm at the Old Stone House\, open to all.
URL:https://parkslopeciviccouncil.org/event/monthly-trustees-meeting-4-2-2-4/
LOCATION:Old Stone House\, 336 3rd St\, Brooklyn\, NY\, 11215\, United States
CATEGORIES:Community,Old Stone House,Trustees Meeting
END:VEVENT
BEGIN:VEVENT
DTSTART;TZID=America/New_York:20190307T190000
DTEND;TZID=America/New_York:20190307T210000
DTSTAMP:20260423T071127
CREATED:20180724T220321Z
LAST-MODIFIED:20180724T220321Z
UID:10919-1551985200-1551992400@parkslopeciviccouncil.org
SUMMARY:Monthly Trustees' Meeting
DESCRIPTION:Please join us for our monthly trustees’ meeting\, 7-9pm at the Old Stone House\, open to all.
URL:https://parkslopeciviccouncil.org/event/monthly-trustees-meeting-4-2-2-6/
LOCATION:Old Stone House\, 336 3rd St\, Brooklyn\, NY\, 11215\, United States
CATEGORIES:Community,Old Stone House,Trustees Meeting
END:VEVENT
END:VCALENDAR