BEGIN:VCALENDAR
VERSION:2.0
PRODID:-//Park Slope Civic Council - ECPv6.15.20//NONSGML v1.0//EN
CALSCALE:GREGORIAN
METHOD:PUBLISH
X-WR-CALNAME:Park Slope Civic Council
X-ORIGINAL-URL:https://parkslopeciviccouncil.org
X-WR-CALDESC:Events for Park Slope Civic Council
REFRESH-INTERVAL;VALUE=DURATION:PT1H
X-Robots-Tag:noindex
X-PUBLISHED-TTL:PT1H
BEGIN:VTIMEZONE
TZID:America/New_York
BEGIN:DAYLIGHT
TZOFFSETFROM:-0500
TZOFFSETTO:-0400
TZNAME:EDT
DTSTART:20170312T070000
END:DAYLIGHT
BEGIN:STANDARD
TZOFFSETFROM:-0400
TZOFFSETTO:-0500
TZNAME:EST
DTSTART:20171105T060000
END:STANDARD
BEGIN:DAYLIGHT
TZOFFSETFROM:-0500
TZOFFSETTO:-0400
TZNAME:EDT
DTSTART:20180311T070000
END:DAYLIGHT
BEGIN:STANDARD
TZOFFSETFROM:-0400
TZOFFSETTO:-0500
TZNAME:EST
DTSTART:20181104T060000
END:STANDARD
BEGIN:DAYLIGHT
TZOFFSETFROM:-0500
TZOFFSETTO:-0400
TZNAME:EDT
DTSTART:20190310T070000
END:DAYLIGHT
BEGIN:STANDARD
TZOFFSETFROM:-0400
TZOFFSETTO:-0500
TZNAME:EST
DTSTART:20191103T060000
END:STANDARD
BEGIN:DAYLIGHT
TZOFFSETFROM:-0500
TZOFFSETTO:-0400
TZNAME:EDT
DTSTART:20200308T070000
END:DAYLIGHT
BEGIN:STANDARD
TZOFFSETFROM:-0400
TZOFFSETTO:-0500
TZNAME:EST
DTSTART:20201101T060000
END:STANDARD
END:VTIMEZONE
BEGIN:VEVENT
DTSTART;TZID=America/New_York:20190110T190000
DTEND;TZID=America/New_York:20190110T210000
DTSTAMP:20260423T165440
CREATED:20180724T220321Z
LAST-MODIFIED:20180724T220321Z
UID:7616-1547146800-1547154000@parkslopeciviccouncil.org
SUMMARY:Monthly Trustees' Meeting
DESCRIPTION:Please join us for our monthly trustees’ meeting\, 7-9pm at the Old Stone House\, open to all.
URL:https://parkslopeciviccouncil.org/event/monthly-trustees-meeting-4/
LOCATION:Old Stone House\, 336 3rd St\, Brooklyn\, NY\, 11215\, United States
CATEGORIES:Community,Old Stone House,Trustees Meeting
END:VEVENT
BEGIN:VEVENT
DTSTART;TZID=America/New_York:20190110T190000
DTEND;TZID=America/New_York:20190110T210000
DTSTAMP:20260423T165440
CREATED:20180724T220321Z
LAST-MODIFIED:20180724T220321Z
UID:12401-1547146800-1547154000@parkslopeciviccouncil.org
SUMMARY:Monthly Trustees\' Meeting
DESCRIPTION:Please join us for our monthly trustees\’ meeting\, 7-9pm at the Old Stone House\, open to all.
URL:https://parkslopeciviccouncil.org/event/monthly-trustees-meeting-4-7/
LOCATION:Old Stone House\, 336 3rd St\, Brooklyn\, NY\, 11215\, United States
CATEGORIES:Community,Old Stone House,Trustees Meeting
END:VEVENT
BEGIN:VEVENT
DTSTART;TZID=America/New_York:20181218T190000
DTEND;TZID=America/New_York:20181218T210000
DTSTAMP:20260423T165440
CREATED:20180326T222744Z
LAST-MODIFIED:20180326T222744Z
UID:9514-1545159600-1545166800@parkslopeciviccouncil.org
SUMMARY:Office Hours at The Commissioner
DESCRIPTION:Please join us for Office Hours at The Commissioner! Office Hours is an informal gathering of PSCC trustees\, members\, and neighbors. It’s a great time to meet your neighbors and make new friends.
URL:https://parkslopeciviccouncil.org/event/office-hours-at-the-commissioner-2-2-2-2-2-3/
LOCATION:The Commissioner\, 247 5th Avenue\, Brooklyn\, New York\, 11215
CATEGORIES:Community,Local business,Office Hours,Outreach
ORGANIZER;CN="Park Slope Civic Council":MAILTO:membership@parkslopecouncil.org
END:VEVENT
BEGIN:VEVENT
DTSTART;TZID=America/New_York:20181218T190000
DTEND;TZID=America/New_York:20181218T210000
DTSTAMP:20260423T165440
CREATED:20180326T222744Z
LAST-MODIFIED:20180326T222744Z
UID:10901-1545159600-1545166800@parkslopeciviccouncil.org
SUMMARY:Office Hours at The Commissioner
DESCRIPTION:Please join us for Office Hours at The Commissioner! Office Hours is an informal gathering of PSCC trustees\, members\, and neighbors. It’s a great time to meet your neighbors and make new friends.
URL:https://parkslopeciviccouncil.org/event/office-hours-at-the-commissioner-2-2-2-2-2-7/
LOCATION:The Commissioner\, 247 5th Avenue\, Brooklyn\, New York\, 11215
CATEGORIES:Community,Local business,Office Hours,Outreach
ORGANIZER;CN="Park Slope Civic Council":MAILTO:membership@parkslopecouncil.org
END:VEVENT
BEGIN:VEVENT
DTSTART;TZID=America/New_York:20181218T190000
DTEND;TZID=America/New_York:20181218T210000
DTSTAMP:20260423T165440
CREATED:20180326T222744Z
LAST-MODIFIED:20180326T222744Z
UID:9873-1545159600-1545166800@parkslopeciviccouncil.org
SUMMARY:Office Hours at The Commissioner
DESCRIPTION:Please join us for Office Hours at The Commissioner! Office Hours is an informal gathering of PSCC trustees\, members\, and neighbors. It’s a great time to meet your neighbors and make new friends.
URL:https://parkslopeciviccouncil.org/event/office-hours-at-the-commissioner-2-2-2-2-2-4/
LOCATION:The Commissioner\, 247 5th Avenue\, Brooklyn\, New York\, 11215
CATEGORIES:Community,Local business,Office Hours,Outreach
ORGANIZER;CN="Park Slope Civic Council":MAILTO:membership@parkslopecouncil.org
END:VEVENT
BEGIN:VEVENT
DTSTART;TZID=America/New_York:20181218T190000
DTEND;TZID=America/New_York:20181218T210000
DTSTAMP:20260423T165440
CREATED:20180326T222744Z
LAST-MODIFIED:20180326T222744Z
UID:10233-1545159600-1545166800@parkslopeciviccouncil.org
SUMMARY:Office Hours at The Commissioner
DESCRIPTION:Please join us for Office Hours at The Commissioner! Office Hours is an informal gathering of PSCC trustees\, members\, and neighbors. It’s a great time to meet your neighbors and make new friends.
URL:https://parkslopeciviccouncil.org/event/office-hours-at-the-commissioner-2-2-2-2-2-5/
LOCATION:The Commissioner\, 247 5th Avenue\, Brooklyn\, New York\, 11215
CATEGORIES:Community,Local business,Office Hours,Outreach
ORGANIZER;CN="Park Slope Civic Council":MAILTO:membership@parkslopecouncil.org
END:VEVENT
BEGIN:VEVENT
DTSTART;TZID=America/New_York:20181218T190000
DTEND;TZID=America/New_York:20181218T210000
DTSTAMP:20260423T165440
CREATED:20180326T222744Z
LAST-MODIFIED:20180326T222744Z
UID:10581-1545159600-1545166800@parkslopeciviccouncil.org
SUMMARY:Office Hours at The Commissioner
DESCRIPTION:Please join us for Office Hours at The Commissioner! Office Hours is an informal gathering of PSCC trustees\, members\, and neighbors. It’s a great time to meet your neighbors and make new friends.
URL:https://parkslopeciviccouncil.org/event/office-hours-at-the-commissioner-2-2-2-2-2-6/
LOCATION:The Commissioner\, 247 5th Avenue\, Brooklyn\, New York\, 11215
CATEGORIES:Community,Local business,Office Hours,Outreach
ORGANIZER;CN="Park Slope Civic Council":MAILTO:membership@parkslopecouncil.org
END:VEVENT
BEGIN:VEVENT
DTSTART;TZID=America/New_York:20181218T190000
DTEND;TZID=America/New_York:20181218T210000
DTSTAMP:20260423T165440
CREATED:20180326T222744Z
LAST-MODIFIED:20180326T222744Z
UID:7624-1545159600-1545166800@parkslopeciviccouncil.org
SUMMARY:Office Hours at The Commissioner
DESCRIPTION:Please join us for Office Hours at The Commissioner! Office Hours is an informal gathering of PSCC trustees\, members\, and neighbors. It’s a great time to meet your neighbors and make new friends.
URL:https://parkslopeciviccouncil.org/event/office-hours-at-the-commissioner-2-2-2-2-2/
LOCATION:The Commissioner\, 247 5th Avenue\, Brooklyn\, New York\, 11215
CATEGORIES:Community,Local business,Office Hours,Outreach
ORGANIZER;CN="Park Slope Civic Council":MAILTO:membership@parkslopecouncil.org
END:VEVENT
BEGIN:VEVENT
DTSTART;TZID=America/New_York:20181218T190000
DTEND;TZID=America/New_York:20181218T210000
DTSTAMP:20260423T165440
CREATED:20180326T222744Z
LAST-MODIFIED:20180326T222744Z
UID:12385-1545159600-1545166800@parkslopeciviccouncil.org
SUMMARY:Office Hours at The Commissioner
DESCRIPTION:Please join us for Office Hours at The Commissioner! Office Hours is an informal gathering of PSCC trustees\, members\, and neighbors. It’s a great time to meet your neighbors and make new friends.
URL:https://parkslopeciviccouncil.org/event/office-hours-at-the-commissioner-2-2-2-2-2-8/
LOCATION:The Commissioner\, 247 5th Avenue\, Brooklyn\, New York\, 11215
CATEGORIES:Community,Local business,Office Hours,Outreach
ORGANIZER;CN="Park Slope Civic Council":MAILTO:membership@parkslopecouncil.org
END:VEVENT
BEGIN:VEVENT
DTSTART;TZID=America/New_York:20181206T190000
DTEND;TZID=America/New_York:20181206T210000
DTSTAMP:20260423T165440
CREATED:20180724T220204Z
LAST-MODIFIED:20180724T220204Z
UID:9528-1544122800-1544130000@parkslopeciviccouncil.org
SUMMARY:Monthly Trustees' Meeting
DESCRIPTION:Please join us for our monthly trustees’ meeting\, 7-9pm at the Old Stone House\, open to all.
URL:https://parkslopeciviccouncil.org/event/monthly-trustees-meeting-3-2/
LOCATION:Old Stone House\, 336 3rd St\, Brooklyn\, NY\, 11215\, United States
CATEGORIES:Community,Old Stone House,Trustees Meeting
END:VEVENT
BEGIN:VEVENT
DTSTART;TZID=America/New_York:20181206T190000
DTEND;TZID=America/New_York:20181206T210000
DTSTAMP:20260423T165440
CREATED:20180724T220204Z
LAST-MODIFIED:20180724T220204Z
UID:10915-1544122800-1544130000@parkslopeciviccouncil.org
SUMMARY:Monthly Trustees' Meeting
DESCRIPTION:Please join us for our monthly trustees’ meeting\, 7-9pm at the Old Stone House\, open to all.
URL:https://parkslopeciviccouncil.org/event/monthly-trustees-meeting-3-5/
LOCATION:Old Stone House\, 336 3rd St\, Brooklyn\, NY\, 11215\, United States
CATEGORIES:Community,Old Stone House,Trustees Meeting
END:VEVENT
BEGIN:VEVENT
DTSTART;TZID=America/New_York:20181206T190000
DTEND;TZID=America/New_York:20181206T210000
DTSTAMP:20260423T165440
CREATED:20180724T220204Z
LAST-MODIFIED:20180724T220204Z
UID:9887-1544122800-1544130000@parkslopeciviccouncil.org
SUMMARY:Monthly Trustees' Meeting
DESCRIPTION:Please join us for our monthly trustees’ meeting\, 7-9pm at the Old Stone House\, open to all.
URL:https://parkslopeciviccouncil.org/event/monthly-trustees-meeting-3-3/
LOCATION:Old Stone House\, 336 3rd St\, Brooklyn\, NY\, 11215\, United States
CATEGORIES:Community,Old Stone House,Trustees Meeting
END:VEVENT
BEGIN:VEVENT
DTSTART;TZID=America/New_York:20181206T190000
DTEND;TZID=America/New_York:20181206T210000
DTSTAMP:20260423T165440
CREATED:20180724T220204Z
LAST-MODIFIED:20180724T220204Z
UID:10247-1544122800-1544130000@parkslopeciviccouncil.org
SUMMARY:Monthly Trustees' Meeting
DESCRIPTION:Please join us for our monthly trustees’ meeting\, 7-9pm at the Old Stone House\, open to all.
URL:https://parkslopeciviccouncil.org/event/monthly-trustees-meeting-3-4/
LOCATION:Old Stone House\, 336 3rd St\, Brooklyn\, NY\, 11215\, United States
CATEGORIES:Community,Old Stone House,Trustees Meeting
END:VEVENT
BEGIN:VEVENT
DTSTART;TZID=America/New_York:20181206T190000
DTEND;TZID=America/New_York:20181206T210000
DTSTAMP:20260423T165440
CREATED:20180724T220204Z
LAST-MODIFIED:20180724T220204Z
UID:7615-1544122800-1544130000@parkslopeciviccouncil.org
SUMMARY:Monthly Trustees' Meeting
DESCRIPTION:Please join us for our monthly trustees’ meeting\, 7-9pm at the Old Stone House\, open to all.
URL:https://parkslopeciviccouncil.org/event/monthly-trustees-meeting-3/
LOCATION:Old Stone House\, 336 3rd St\, Brooklyn\, NY\, 11215\, United States
CATEGORIES:Community,Old Stone House,Trustees Meeting
END:VEVENT
BEGIN:VEVENT
DTSTART;TZID=America/New_York:20181206T190000
DTEND;TZID=America/New_York:20181206T210000
DTSTAMP:20260423T165440
CREATED:20180724T220204Z
LAST-MODIFIED:20180724T220204Z
UID:12400-1544122800-1544130000@parkslopeciviccouncil.org
SUMMARY:Monthly Trustees\' Meeting
DESCRIPTION:Please join us for our monthly trustees\’ meeting\, 7-9pm at the Old Stone House\, open to all.
URL:https://parkslopeciviccouncil.org/event/monthly-trustees-meeting-3-6/
LOCATION:Old Stone House\, 336 3rd St\, Brooklyn\, NY\, 11215\, United States
CATEGORIES:Community,Old Stone House,Trustees Meeting
END:VEVENT
BEGIN:VEVENT
DTSTART;TZID=America/New_York:20181113T190000
DTEND;TZID=America/New_York:20181113T210000
DTSTAMP:20260423T165440
CREATED:20180326T222744Z
LAST-MODIFIED:20180326T222744Z
UID:9513-1542135600-1542142800@parkslopeciviccouncil.org
SUMMARY:Office Hours at The Commissioner
DESCRIPTION:Please join us for Office Hours at The Commissioner! Office Hours is an informal gathering of PSCC trustees\, members\, and neighbors. It’s a great time to meet your neighbors and make new friends.
URL:https://parkslopeciviccouncil.org/event/office-hours-at-the-commissioner-2-2-2-2-3/
LOCATION:The Commissioner\, 247 5th Avenue\, Brooklyn\, New York\, 11215
CATEGORIES:Community,Local business,Office Hours,Outreach
ORGANIZER;CN="Park Slope Civic Council":MAILTO:membership@parkslopecouncil.org
END:VEVENT
BEGIN:VEVENT
DTSTART;TZID=America/New_York:20181113T190000
DTEND;TZID=America/New_York:20181113T210000
DTSTAMP:20260423T165440
CREATED:20180326T222744Z
LAST-MODIFIED:20180326T222744Z
UID:10900-1542135600-1542142800@parkslopeciviccouncil.org
SUMMARY:Office Hours at The Commissioner
DESCRIPTION:Please join us for Office Hours at The Commissioner! Office Hours is an informal gathering of PSCC trustees\, members\, and neighbors. It’s a great time to meet your neighbors and make new friends.
URL:https://parkslopeciviccouncil.org/event/office-hours-at-the-commissioner-2-2-2-2-7/
LOCATION:The Commissioner\, 247 5th Avenue\, Brooklyn\, New York\, 11215
CATEGORIES:Community,Local business,Office Hours,Outreach
ORGANIZER;CN="Park Slope Civic Council":MAILTO:membership@parkslopecouncil.org
END:VEVENT
BEGIN:VEVENT
DTSTART;TZID=America/New_York:20181113T190000
DTEND;TZID=America/New_York:20181113T210000
DTSTAMP:20260423T165440
CREATED:20180326T222744Z
LAST-MODIFIED:20180326T222744Z
UID:9872-1542135600-1542142800@parkslopeciviccouncil.org
SUMMARY:Office Hours at The Commissioner
DESCRIPTION:Please join us for Office Hours at The Commissioner! Office Hours is an informal gathering of PSCC trustees\, members\, and neighbors. It’s a great time to meet your neighbors and make new friends.
URL:https://parkslopeciviccouncil.org/event/office-hours-at-the-commissioner-2-2-2-2-4/
LOCATION:The Commissioner\, 247 5th Avenue\, Brooklyn\, New York\, 11215
CATEGORIES:Community,Local business,Office Hours,Outreach
ORGANIZER;CN="Park Slope Civic Council":MAILTO:membership@parkslopecouncil.org
END:VEVENT
BEGIN:VEVENT
DTSTART;TZID=America/New_York:20181113T190000
DTEND;TZID=America/New_York:20181113T210000
DTSTAMP:20260423T165440
CREATED:20180326T222744Z
LAST-MODIFIED:20180326T222744Z
UID:10232-1542135600-1542142800@parkslopeciviccouncil.org
SUMMARY:Office Hours at The Commissioner
DESCRIPTION:Please join us for Office Hours at The Commissioner! Office Hours is an informal gathering of PSCC trustees\, members\, and neighbors. It’s a great time to meet your neighbors and make new friends.
URL:https://parkslopeciviccouncil.org/event/office-hours-at-the-commissioner-2-2-2-2-5/
LOCATION:The Commissioner\, 247 5th Avenue\, Brooklyn\, New York\, 11215
CATEGORIES:Community,Local business,Office Hours,Outreach
ORGANIZER;CN="Park Slope Civic Council":MAILTO:membership@parkslopecouncil.org
END:VEVENT
BEGIN:VEVENT
DTSTART;TZID=America/New_York:20181113T190000
DTEND;TZID=America/New_York:20181113T210000
DTSTAMP:20260423T165440
CREATED:20180326T222744Z
LAST-MODIFIED:20180326T222744Z
UID:10580-1542135600-1542142800@parkslopeciviccouncil.org
SUMMARY:Office Hours at The Commissioner
DESCRIPTION:Please join us for Office Hours at The Commissioner! Office Hours is an informal gathering of PSCC trustees\, members\, and neighbors. It’s a great time to meet your neighbors and make new friends.
URL:https://parkslopeciviccouncil.org/event/office-hours-at-the-commissioner-2-2-2-2-6/
LOCATION:The Commissioner\, 247 5th Avenue\, Brooklyn\, New York\, 11215
CATEGORIES:Community,Local business,Office Hours,Outreach
ORGANIZER;CN="Park Slope Civic Council":MAILTO:membership@parkslopecouncil.org
END:VEVENT
BEGIN:VEVENT
DTSTART;TZID=America/New_York:20181113T190000
DTEND;TZID=America/New_York:20181113T210000
DTSTAMP:20260423T165440
CREATED:20180326T222744Z
LAST-MODIFIED:20180326T222744Z
UID:7623-1542135600-1542142800@parkslopeciviccouncil.org
SUMMARY:Office Hours at The Commissioner
DESCRIPTION:Please join us for Office Hours at The Commissioner! Office Hours is an informal gathering of PSCC trustees\, members\, and neighbors. It’s a great time to meet your neighbors and make new friends.
URL:https://parkslopeciviccouncil.org/event/office-hours-at-the-commissioner-2-2-2-2/
LOCATION:The Commissioner\, 247 5th Avenue\, Brooklyn\, New York\, 11215
CATEGORIES:Community,Local business,Office Hours,Outreach
ORGANIZER;CN="Park Slope Civic Council":MAILTO:membership@parkslopecouncil.org
END:VEVENT
BEGIN:VEVENT
DTSTART;TZID=America/New_York:20181113T190000
DTEND;TZID=America/New_York:20181113T210000
DTSTAMP:20260423T165440
CREATED:20180326T222744Z
LAST-MODIFIED:20180326T222744Z
UID:12384-1542135600-1542142800@parkslopeciviccouncil.org
SUMMARY:Office Hours at The Commissioner
DESCRIPTION:Please join us for Office Hours at The Commissioner! Office Hours is an informal gathering of PSCC trustees\, members\, and neighbors. It’s a great time to meet your neighbors and make new friends.
URL:https://parkslopeciviccouncil.org/event/office-hours-at-the-commissioner-2-2-2-2-8/
LOCATION:The Commissioner\, 247 5th Avenue\, Brooklyn\, New York\, 11215
CATEGORIES:Community,Local business,Office Hours,Outreach
ORGANIZER;CN="Park Slope Civic Council":MAILTO:membership@parkslopecouncil.org
END:VEVENT
BEGIN:VEVENT
DTSTART;TZID=America/New_York:20181109T100000
DTEND;TZID=America/New_York:20181109T130000
DTSTAMP:20260423T165440
CREATED:20181108T192644Z
LAST-MODIFIED:20181108T192644Z
UID:7708-1541757600-1541768400@parkslopeciviccouncil.org
SUMMARY:Make Your Business Accessible
DESCRIPTION:Make Your Business Accessible\nThe Mayor’s Office for People with Disabilities will present information about accessibility requirements and talk individually with business owners to address their specific concerns.\n\n\n\n\n\n\n\nDATE: TOMORROW\, November 9th \n\n\n\nTIME:  10:00 AM – 1:00 PM\n10:00 AM – 11:00 AM: Presentation\n11:00 AM – 11:30 AM: Q + A\n11:30 AM – 1:00 PM: Accessibility Clinic\n\n\n\n\n\n\nLOCATION:  Park Slope Library\, 431 6th Avenue\, Brooklyn\, NY\n\n\n\n\n\n\n\n\n\n\nRSVP TO:  lander@council.nyc.gov\n\nHosted by Mayor’s Office for People with Disabilities and NYC Council Member Brad Lander’s Office.
URL:https://parkslopeciviccouncil.org/event/make-your-business-accessible/
LOCATION:Park Slope Library\, 431 6th Avenue\, Brooklyn\, NY\, 11215
CATEGORIES:Accessibility,Community,Electeds,Outreach
END:VEVENT
BEGIN:VEVENT
DTSTART;TZID=America/New_York:20181109T100000
DTEND;TZID=America/New_York:20181109T130000
DTSTAMP:20260423T165440
CREATED:20181108T192644Z
LAST-MODIFIED:20181108T192644Z
UID:9544-1541757600-1541768400@parkslopeciviccouncil.org
SUMMARY:Make Your Business Accessible
DESCRIPTION:Make Your Business Accessible\nThe Mayor’s Office for People with Disabilities will present information about accessibility requirements and talk individually with business owners to address their specific concerns.\n\n\n\n\n\n\n\nDATE: TOMORROW\, November 9th \n\n\n\nTIME:  10:00 AM – 1:00 PM\n10:00 AM – 11:00 AM: Presentation\n11:00 AM – 11:30 AM: Q + A\n11:30 AM – 1:00 PM: Accessibility Clinic\n\n\n\n\n\n\nLOCATION:  Park Slope Library\, 431 6th Avenue\, Brooklyn\, NY\n\n\n\n\n\n\n\n\n\n\nRSVP TO:  lander@council.nyc.gov\n\nHosted by Mayor’s Office for People with Disabilities and NYC Council Member Brad Lander’s Office.
URL:https://parkslopeciviccouncil.org/event/make-your-business-accessible-2/
LOCATION:Park Slope Library\, 431 6th Avenue\, Brooklyn\, NY\, 11215
CATEGORIES:Accessibility,Community,Electeds,Outreach
END:VEVENT
BEGIN:VEVENT
DTSTART;TZID=America/New_York:20181109T100000
DTEND;TZID=America/New_York:20181109T130000
DTSTAMP:20260423T165440
CREATED:20181108T192644Z
LAST-MODIFIED:20181108T192644Z
UID:9903-1541757600-1541768400@parkslopeciviccouncil.org
SUMMARY:Make Your Business Accessible
DESCRIPTION:Make Your Business Accessible\nThe Mayor’s Office for People with Disabilities will present information about accessibility requirements and talk individually with business owners to address their specific concerns.\n\n\n\n\n\n\n\nDATE: TOMORROW\, November 9th \n\n\n\nTIME:  10:00 AM – 1:00 PM\n10:00 AM – 11:00 AM: Presentation\n11:00 AM – 11:30 AM: Q + A\n11:30 AM – 1:00 PM: Accessibility Clinic\n\n\n\n\n\n\nLOCATION:  Park Slope Library\, 431 6th Avenue\, Brooklyn\, NY\n\n\n\n\n\n\n\n\n\n\nRSVP TO:  lander@council.nyc.gov\n\nHosted by Mayor’s Office for People with Disabilities and NYC Council Member Brad Lander’s Office.
URL:https://parkslopeciviccouncil.org/event/make-your-business-accessible-3/
LOCATION:Park Slope Library\, 431 6th Avenue\, Brooklyn\, NY\, 11215
CATEGORIES:Accessibility,Community,Electeds,Outreach
END:VEVENT
BEGIN:VEVENT
DTSTART;TZID=America/New_York:20181109T100000
DTEND;TZID=America/New_York:20181109T130000
DTSTAMP:20260423T165440
CREATED:20181108T192644Z
LAST-MODIFIED:20181108T192644Z
UID:10263-1541757600-1541768400@parkslopeciviccouncil.org
SUMMARY:Make Your Business Accessible
DESCRIPTION:Make Your Business Accessible\nThe Mayor’s Office for People with Disabilities will present information about accessibility requirements and talk individually with business owners to address their specific concerns.\n\n\n\n\n\n\n\nDATE: TOMORROW\, November 9th \n\n\n\nTIME:  10:00 AM – 1:00 PM\n10:00 AM – 11:00 AM: Presentation\n11:00 AM – 11:30 AM: Q + A\n11:30 AM – 1:00 PM: Accessibility Clinic\n\n\n\n\n\n\nLOCATION:  Park Slope Library\, 431 6th Avenue\, Brooklyn\, NY\n\n\n\n\n\n\n\n\n\n\nRSVP TO:  lander@council.nyc.gov\n\nHosted by Mayor’s Office for People with Disabilities and NYC Council Member Brad Lander’s Office.
URL:https://parkslopeciviccouncil.org/event/make-your-business-accessible-4/
LOCATION:Park Slope Library\, 431 6th Avenue\, Brooklyn\, NY\, 11215
CATEGORIES:Accessibility,Community,Electeds,Outreach
END:VEVENT
BEGIN:VEVENT
DTSTART;TZID=America/New_York:20181109T100000
DTEND;TZID=America/New_York:20181109T130000
DTSTAMP:20260423T165440
CREATED:20181108T192644Z
LAST-MODIFIED:20181108T192644Z
UID:12416-1541757600-1541768400@parkslopeciviccouncil.org
SUMMARY:Make Your Business Accessible
DESCRIPTION:Make Your Business Accessible\nThe Mayor\’s Office for People with Disabilities will present information about accessibility requirements and talk individually with business owners to address their specific concerns.\n\n\n\n\n\n\n\nDATE: TOMORROW\, November 9th \n\n\n\nTIME:  10:00 AM – 1:00 PM\n10:00 AM – 11:00 AM: Presentation\n11:00 AM – 11:30 AM: Q + A\n11:30 AM – 1:00 PM: Accessibility Clinic\n\n\n\n\n\n\nLOCATION:  Park Slope Library\, 431 6th Avenue\, Brooklyn\, NY\n\n\n\n\n\n\n\n\n\n\nRSVP TO:  lander@council.nyc.gov\n\nHosted by Mayor\’s Office for People with Disabilities and NYC Council Member Brad Lander\’s Office.
URL:https://parkslopeciviccouncil.org/event/make-your-business-accessible-5/
LOCATION:Park Slope Library\, 431 6th Avenue\, Brooklyn\, NY\, 11215
CATEGORIES:Accessibility,Community,Electeds,Outreach
END:VEVENT
BEGIN:VEVENT
DTSTART;TZID=America/New_York:20181109T090000
DTEND;TZID=America/New_York:20181109T163000
DTSTAMP:20260423T165440
CREATED:20181101T233902Z
LAST-MODIFIED:20181101T233902Z
UID:7706-1541754000-1541781000@parkslopeciviccouncil.org
SUMMARY:Mobile No-Cost Breast Cancer Screening Program - Assemblymember Robert Carroll Hosting
DESCRIPTION:Assemblymember Robert Carroll Hosting \nMobile No-Cost Breast Cancer Screening Program \nprovided by the \nAmerican Italian Cancer Foundation \n  \nLocation \nMammogram Bus will be at Assemblymember Robert Carroll’s District Office \n416 7th Avenue (between 13th and 14th Streets in Park Slope) \nDate and Time \nFriday\, November 9 \n9am to 4:30pm \nFor an appointment\, please call  877-628-9090 (English and Spanish). Walk-ins may be available but best to schedule an appointment. All women 40-79\, currently living in New York City\, who have not had a mammogram in the past 12 months are eligible. The services are provided at no cost – no co-pays required\, deductibles are waived\, and uninsured patients are welcomed. Please bring insurance information\, if available. \n  \nThe AICF Mammogram Bus is equipped with state of the art digital GE mammography equipment that is comparable to those found at most hospitals or radiology centers. Compassionate and qualified professionals provide mammograms\, clinical breast exams and breast health education. AICF contracts with Multi Diagnostic Services\, Inc.\, a licensed\, accredited mammography provider\, who performs the medical services and operates the mobile mammography equipment. Screening results are mailed out to patients within 10 business days. \n  \nFor additional information please call the American Italian Cancer Foundation at 877-628-9090 or the District Office of Assemblymember Robert Carroll at 718-788-7221.
URL:https://parkslopeciviccouncil.org/event/mobile-no-cost-breast-cancer-screening-program-assemblymember-robert-carroll-hosting/
LOCATION:Assemblymember’s Robert Carroll’s District Office 416 7th Avenue\, Brooklyn\, NY 11215 (between 13th and 14th Streets in Park Slope)\, 416 7th Avenue\, Brooklyn\, 11215
CATEGORIES:Community,Electeds
END:VEVENT
BEGIN:VEVENT
DTSTART;TZID=America/New_York:20181109T090000
DTEND;TZID=America/New_York:20181109T163000
DTSTAMP:20260423T165440
CREATED:20181101T233902Z
LAST-MODIFIED:20181101T233902Z
UID:9543-1541754000-1541781000@parkslopeciviccouncil.org
SUMMARY:Mobile No-Cost Breast Cancer Screening Program - Assemblymember Robert Carroll Hosting
DESCRIPTION:Assemblymember Robert Carroll Hosting \nMobile No-Cost Breast Cancer Screening Program \nprovided by the \nAmerican Italian Cancer Foundation \n  \nLocation \nMammogram Bus will be at Assemblymember Robert Carroll’s District Office \n416 7th Avenue (between 13th and 14th Streets in Park Slope) \nDate and Time \nFriday\, November 9 \n9am to 4:30pm \nFor an appointment\, please call  877-628-9090 (English and Spanish). Walk-ins may be available but best to schedule an appointment. All women 40-79\, currently living in New York City\, who have not had a mammogram in the past 12 months are eligible. The services are provided at no cost – no co-pays required\, deductibles are waived\, and uninsured patients are welcomed. Please bring insurance information\, if available. \n  \nThe AICF Mammogram Bus is equipped with state of the art digital GE mammography equipment that is comparable to those found at most hospitals or radiology centers. Compassionate and qualified professionals provide mammograms\, clinical breast exams and breast health education. AICF contracts with Multi Diagnostic Services\, Inc.\, a licensed\, accredited mammography provider\, who performs the medical services and operates the mobile mammography equipment. Screening results are mailed out to patients within 10 business days. \n  \nFor additional information please call the American Italian Cancer Foundation at 877-628-9090 or the District Office of Assemblymember Robert Carroll at 718-788-7221.
URL:https://parkslopeciviccouncil.org/event/mobile-no-cost-breast-cancer-screening-program-assemblymember-robert-carroll-hosting-2/
LOCATION:Assemblymember’s Robert Carroll’s District Office 416 7th Avenue\, Brooklyn\, NY 11215 (between 13th and 14th Streets in Park Slope)\, 416 7th Avenue\, Brooklyn\, 11215
CATEGORIES:Community,Electeds
END:VEVENT
BEGIN:VEVENT
DTSTART;TZID=America/New_York:20181109T090000
DTEND;TZID=America/New_York:20181109T163000
DTSTAMP:20260423T165440
CREATED:20181101T233902Z
LAST-MODIFIED:20181101T233902Z
UID:9902-1541754000-1541781000@parkslopeciviccouncil.org
SUMMARY:Mobile No-Cost Breast Cancer Screening Program - Assemblymember Robert Carroll Hosting
DESCRIPTION:Assemblymember Robert Carroll Hosting \nMobile No-Cost Breast Cancer Screening Program \nprovided by the \nAmerican Italian Cancer Foundation \n  \nLocation \nMammogram Bus will be at Assemblymember Robert Carroll’s District Office \n416 7th Avenue (between 13th and 14th Streets in Park Slope) \nDate and Time \nFriday\, November 9 \n9am to 4:30pm \nFor an appointment\, please call  877-628-9090 (English and Spanish). Walk-ins may be available but best to schedule an appointment. All women 40-79\, currently living in New York City\, who have not had a mammogram in the past 12 months are eligible. The services are provided at no cost – no co-pays required\, deductibles are waived\, and uninsured patients are welcomed. Please bring insurance information\, if available. \n  \nThe AICF Mammogram Bus is equipped with state of the art digital GE mammography equipment that is comparable to those found at most hospitals or radiology centers. Compassionate and qualified professionals provide mammograms\, clinical breast exams and breast health education. AICF contracts with Multi Diagnostic Services\, Inc.\, a licensed\, accredited mammography provider\, who performs the medical services and operates the mobile mammography equipment. Screening results are mailed out to patients within 10 business days. \n  \nFor additional information please call the American Italian Cancer Foundation at 877-628-9090 or the District Office of Assemblymember Robert Carroll at 718-788-7221.
URL:https://parkslopeciviccouncil.org/event/mobile-no-cost-breast-cancer-screening-program-assemblymember-robert-carroll-hosting-3/
LOCATION:Assemblymember’s Robert Carroll’s District Office 416 7th Avenue\, Brooklyn\, NY 11215 (between 13th and 14th Streets in Park Slope)\, 416 7th Avenue\, Brooklyn\, 11215
CATEGORIES:Community,Electeds
END:VEVENT
END:VCALENDAR