BEGIN:VCALENDAR
VERSION:2.0
PRODID:-//Park Slope Civic Council - ECPv6.15.20//NONSGML v1.0//EN
CALSCALE:GREGORIAN
METHOD:PUBLISH
X-WR-CALNAME:Park Slope Civic Council
X-ORIGINAL-URL:https://parkslopeciviccouncil.org
X-WR-CALDESC:Events for Park Slope Civic Council
REFRESH-INTERVAL;VALUE=DURATION:PT1H
X-Robots-Tag:noindex
X-PUBLISHED-TTL:PT1H
BEGIN:VTIMEZONE
TZID:America/New_York
BEGIN:DAYLIGHT
TZOFFSETFROM:-0500
TZOFFSETTO:-0400
TZNAME:EDT
DTSTART:20170312T070000
END:DAYLIGHT
BEGIN:STANDARD
TZOFFSETFROM:-0400
TZOFFSETTO:-0500
TZNAME:EST
DTSTART:20171105T060000
END:STANDARD
BEGIN:DAYLIGHT
TZOFFSETFROM:-0500
TZOFFSETTO:-0400
TZNAME:EDT
DTSTART:20180311T070000
END:DAYLIGHT
BEGIN:STANDARD
TZOFFSETFROM:-0400
TZOFFSETTO:-0500
TZNAME:EST
DTSTART:20181104T060000
END:STANDARD
BEGIN:DAYLIGHT
TZOFFSETFROM:-0500
TZOFFSETTO:-0400
TZNAME:EDT
DTSTART:20190310T070000
END:DAYLIGHT
BEGIN:STANDARD
TZOFFSETFROM:-0400
TZOFFSETTO:-0500
TZNAME:EST
DTSTART:20191103T060000
END:STANDARD
END:VTIMEZONE
BEGIN:VEVENT
DTSTART;TZID=America/New_York:20180418T183000
DTEND;TZID=America/New_York:20180418T210000
DTSTAMP:20260423T071608
CREATED:20180315T161806Z
LAST-MODIFIED:20180315T161806Z
UID:9857-1524076200-1524085200@parkslopeciviccouncil.org
SUMMARY:CHiPS 3rd Annual Gala
DESCRIPTION:Please join CHiPS (Community Help in Park Slope) for their 3rd Annual Spring Gala. The event will be hosted at The Green Building (452 Union St. Brooklyn\, NY 11231) from 6:30 pm to 9:00 pm on April 18\, 2018. They will be honoring Jane Brody\, Renown Health and Nutrition Author and Susan Fox\, Community Organizer and Founder of Park Slope Parents. \nIt will be a fun evening of food (organized by Peter Endriss\, Co-Founder & Head Baker at Runner & Stone and CHiPS Board Member) and music in a beautiful atmosphere – the Green Building – (provided for the event by Akiva Reich\, Founder of Gowanus Hospitality Corp. and CHiPS Board Member). \nProceeds for this event benefit CHiPS (Community Help in Park Slope)\, a soup kitchen and women’s shelter in Park Slope\, Brooklyn. \nPlease click here to PURCHASE TICKETS. \nPlease click here for more information. \n  \n \n 
URL:https://parkslopeciviccouncil.org/event/chips-3rd-annual-gala-3/
LOCATION:The Green Building\, 452 Union St. Brooklyn\, NY 11231\, 452 Union Street\, Brooklyn\, NY\, 11231
CATEGORIES:Community,Entertainment,Outreach
END:VEVENT
BEGIN:VEVENT
DTSTART;TZID=America/New_York:20180418T183000
DTEND;TZID=America/New_York:20180418T210000
DTSTAMP:20260423T071608
CREATED:20180315T161806Z
LAST-MODIFIED:20180315T161806Z
UID:10885-1524076200-1524085200@parkslopeciviccouncil.org
SUMMARY:CHiPS 3rd Annual Gala
DESCRIPTION:Please join CHiPS (Community Help in Park Slope) for their 3rd Annual Spring Gala. The event will be hosted at The Green Building (452 Union St. Brooklyn\, NY 11231) from 6:30 pm to 9:00 pm on April 18\, 2018. They will be honoring Jane Brody\, Renown Health and Nutrition Author and Susan Fox\, Community Organizer and Founder of Park Slope Parents. \nIt will be a fun evening of food (organized by Peter Endriss\, Co-Founder & Head Baker at Runner & Stone and CHiPS Board Member) and music in a beautiful atmosphere – the Green Building – (provided for the event by Akiva Reich\, Founder of Gowanus Hospitality Corp. and CHiPS Board Member). \nProceeds for this event benefit CHiPS (Community Help in Park Slope)\, a soup kitchen and women’s shelter in Park Slope\, Brooklyn. \nPlease click here to PURCHASE TICKETS. \nPlease click here for more information. \n  \n \n 
URL:https://parkslopeciviccouncil.org/event/chips-3rd-annual-gala-6/
LOCATION:The Green Building\, 452 Union St. Brooklyn\, NY 11231\, 452 Union Street\, Brooklyn\, NY\, 11231
CATEGORIES:Community,Entertainment,Outreach
END:VEVENT
BEGIN:VEVENT
DTSTART;TZID=America/New_York:20180418T183000
DTEND;TZID=America/New_York:20180418T210000
DTSTAMP:20260423T071608
CREATED:20180315T161806Z
LAST-MODIFIED:20180315T161806Z
UID:7419-1524076200-1524085200@parkslopeciviccouncil.org
SUMMARY:CHiPS 3rd Annual Gala
DESCRIPTION:Please join CHiPS (Community Help in Park Slope) for their 3rd Annual Spring Gala. The event will be hosted at The Green Building (452 Union St. Brooklyn\, NY 11231) from 6:30 pm to 9:00 pm on April 18\, 2018. They will be honoring Jane Brody\, Renown Health and Nutrition Author and Susan Fox\, Community Organizer and Founder of Park Slope Parents. \nIt will be a fun evening of food (organized by Peter Endriss\, Co-Founder & Head Baker at Runner & Stone and CHiPS Board Member) and music in a beautiful atmosphere – the Green Building – (provided for the event by Akiva Reich\, Founder of Gowanus Hospitality Corp. and CHiPS Board Member). \nProceeds for this event benefit CHiPS (Community Help in Park Slope)\, a soup kitchen and women’s shelter in Park Slope\, Brooklyn. \nPlease click here to PURCHASE TICKETS. \nPlease click here for more information. \n  \n \n 
URL:https://parkslopeciviccouncil.org/event/chips-3rd-annual-gala/
LOCATION:The Green Building\, 452 Union St. Brooklyn\, NY 11231\, 452 Union Street\, Brooklyn\, NY\, 11231
CATEGORIES:Community,Entertainment,Outreach
END:VEVENT
BEGIN:VEVENT
DTSTART;TZID=America/New_York:20180418T183000
DTEND;TZID=America/New_York:20180418T210000
DTSTAMP:20260423T071608
CREATED:20180315T161806Z
LAST-MODIFIED:20180315T161806Z
UID:10217-1524076200-1524085200@parkslopeciviccouncil.org
SUMMARY:CHiPS 3rd Annual Gala
DESCRIPTION:Please join CHiPS (Community Help in Park Slope) for their 3rd Annual Spring Gala. The event will be hosted at The Green Building (452 Union St. Brooklyn\, NY 11231) from 6:30 pm to 9:00 pm on April 18\, 2018. They will be honoring Jane Brody\, Renown Health and Nutrition Author and Susan Fox\, Community Organizer and Founder of Park Slope Parents. \nIt will be a fun evening of food (organized by Peter Endriss\, Co-Founder & Head Baker at Runner & Stone and CHiPS Board Member) and music in a beautiful atmosphere – the Green Building – (provided for the event by Akiva Reich\, Founder of Gowanus Hospitality Corp. and CHiPS Board Member). \nProceeds for this event benefit CHiPS (Community Help in Park Slope)\, a soup kitchen and women’s shelter in Park Slope\, Brooklyn. \nPlease click here to PURCHASE TICKETS. \nPlease click here for more information. \n  \n \n 
URL:https://parkslopeciviccouncil.org/event/chips-3rd-annual-gala-4/
LOCATION:The Green Building\, 452 Union St. Brooklyn\, NY 11231\, 452 Union Street\, Brooklyn\, NY\, 11231
CATEGORIES:Community,Entertainment,Outreach
END:VEVENT
BEGIN:VEVENT
DTSTART;TZID=America/New_York:20180418T183000
DTEND;TZID=America/New_York:20180418T210000
DTSTAMP:20260423T071608
CREATED:20180315T161806Z
LAST-MODIFIED:20180315T161806Z
UID:12370-1524076200-1524085200@parkslopeciviccouncil.org
SUMMARY:CHiPS 3rd Annual Gala
DESCRIPTION:Please join CHiPS (Community Help in Park Slope) for their 3rd Annual Spring Gala. The event will be hosted at The Green Building (452 Union St. Brooklyn\, NY 11231) from 6:30 pm to 9:00 pm on April 18\, 2018. They will be honoring Jane Brody\, Renown Health and Nutrition Author and Susan Fox\, Community Organizer and Founder of Park Slope Parents. \nIt will be a fun evening of food (organized by Peter Endriss\, Co-Founder & Head Baker at Runner & Stone and CHiPS Board Member) and music in a beautiful atmosphere – the Green Building – (provided for the event by Akiva Reich\, Founder of Gowanus Hospitality Corp. and CHiPS Board Member). \nProceeds for this event benefit CHiPS (Community Help in Park Slope)\, a soup kitchen and women\’s shelter in Park Slope\, Brooklyn. \nPlease click here to PURCHASE TICKETS. \nPlease click here for more information. \n  \n \n 
URL:https://parkslopeciviccouncil.org/event/chips-3rd-annual-gala-7/
LOCATION:The Green Building\, 452 Union St. Brooklyn\, NY 11231\, 452 Union Street\, Brooklyn\, NY\, 11231
CATEGORIES:Community,Entertainment,Outreach
END:VEVENT
BEGIN:VEVENT
DTSTART;TZID=America/New_York:20180418T183000
DTEND;TZID=America/New_York:20180418T210000
DTSTAMP:20260423T071608
CREATED:20180315T161806Z
LAST-MODIFIED:20180315T161806Z
UID:9497-1524076200-1524085200@parkslopeciviccouncil.org
SUMMARY:CHiPS 3rd Annual Gala
DESCRIPTION:Please join CHiPS (Community Help in Park Slope) for their 3rd Annual Spring Gala. The event will be hosted at The Green Building (452 Union St. Brooklyn\, NY 11231) from 6:30 pm to 9:00 pm on April 18\, 2018. They will be honoring Jane Brody\, Renown Health and Nutrition Author and Susan Fox\, Community Organizer and Founder of Park Slope Parents. \nIt will be a fun evening of food (organized by Peter Endriss\, Co-Founder & Head Baker at Runner & Stone and CHiPS Board Member) and music in a beautiful atmosphere – the Green Building – (provided for the event by Akiva Reich\, Founder of Gowanus Hospitality Corp. and CHiPS Board Member). \nProceeds for this event benefit CHiPS (Community Help in Park Slope)\, a soup kitchen and women’s shelter in Park Slope\, Brooklyn. \nPlease click here to PURCHASE TICKETS. \nPlease click here for more information. \n  \n \n 
URL:https://parkslopeciviccouncil.org/event/chips-3rd-annual-gala-2/
LOCATION:The Green Building\, 452 Union St. Brooklyn\, NY 11231\, 452 Union Street\, Brooklyn\, NY\, 11231
CATEGORIES:Community,Entertainment,Outreach
END:VEVENT
BEGIN:VEVENT
DTSTART;TZID=America/New_York:20180418T183000
DTEND;TZID=America/New_York:20180418T210000
DTSTAMP:20260423T071608
CREATED:20180315T161806Z
LAST-MODIFIED:20180315T161806Z
UID:10565-1524076200-1524085200@parkslopeciviccouncil.org
SUMMARY:CHiPS 3rd Annual Gala
DESCRIPTION:Please join CHiPS (Community Help in Park Slope) for their 3rd Annual Spring Gala. The event will be hosted at The Green Building (452 Union St. Brooklyn\, NY 11231) from 6:30 pm to 9:00 pm on April 18\, 2018. They will be honoring Jane Brody\, Renown Health and Nutrition Author and Susan Fox\, Community Organizer and Founder of Park Slope Parents. \nIt will be a fun evening of food (organized by Peter Endriss\, Co-Founder & Head Baker at Runner & Stone and CHiPS Board Member) and music in a beautiful atmosphere – the Green Building – (provided for the event by Akiva Reich\, Founder of Gowanus Hospitality Corp. and CHiPS Board Member). \nProceeds for this event benefit CHiPS (Community Help in Park Slope)\, a soup kitchen and women’s shelter in Park Slope\, Brooklyn. \nPlease click here to PURCHASE TICKETS. \nPlease click here for more information. \n  \n \n 
URL:https://parkslopeciviccouncil.org/event/chips-3rd-annual-gala-5/
LOCATION:The Green Building\, 452 Union St. Brooklyn\, NY 11231\, 452 Union Street\, Brooklyn\, NY\, 11231
CATEGORIES:Community,Entertainment,Outreach
END:VEVENT
BEGIN:VEVENT
DTSTART;TZID=America/New_York:20180324T190000
DTEND;TZID=America/New_York:20180324T220000
DTSTAMP:20260423T071608
CREATED:20180306T022626Z
LAST-MODIFIED:20180306T022626Z
UID:10876-1521918000-1521928800@parkslopeciviccouncil.org
SUMMARY:Piper Theatre's 6th Annual Cabaret
DESCRIPTION:Piper Theatre Productions Presents Piper’s 18th year of presenting\nFree Outdoor Theater for All\nAngels and Devils – Heroes and Villains – Muses and Monsters with performers from Piper’s Priscilla\, Sweeney Todd\, Bloody Bloody Andrew Jackson \nPiper’s 6th Annual Cabaret\nSaturday\, March 24th\nat the Brooklyn Conservatory of Music\n58 Seventh Avenue (corner Lincoln)\nDoors open at 7 pm | Performance begins at 7:30 pm  \nPurchase Your Tickets at pipercabaret18.brownpapertickets.com \nPiper Inner Circle @$200 includes open bar\, reserved premium seating and program listing plus season benefits |  General Admission Tickets @ $100 \nCan’t attend? Donate at pipercabaret18.brownpapertickets.com \n  \nhttp://pipertheatre.org/
URL:https://parkslopeciviccouncil.org/event/pipers-6th-annual-cabaret-saturday-march-24th-6/
LOCATION:Brooklyn Conservatory of Music\, 58 Seventh Avenue & Lincoln Place\, Brooklyn\, NY\, 11217
CATEGORIES:Entertainment,Local business
ORGANIZER;CN="Piper Theatre":MAILTO:register@pipertheatre.org
END:VEVENT
BEGIN:VEVENT
DTSTART;TZID=America/New_York:20180324T190000
DTEND;TZID=America/New_York:20180324T220000
DTSTAMP:20260423T071608
CREATED:20180306T022626Z
LAST-MODIFIED:20180306T022626Z
UID:7387-1521918000-1521928800@parkslopeciviccouncil.org
SUMMARY:Piper Theatre's 6th Annual Cabaret
DESCRIPTION:Piper Theatre Productions Presents Piper’s 18th year of presenting\nFree Outdoor Theater for All\nAngels and Devils – Heroes and Villains – Muses and Monsters with performers from Piper’s Priscilla\, Sweeney Todd\, Bloody Bloody Andrew Jackson \nPiper’s 6th Annual Cabaret\nSaturday\, March 24th\nat the Brooklyn Conservatory of Music\n58 Seventh Avenue (corner Lincoln)\nDoors open at 7 pm | Performance begins at 7:30 pm  \nPurchase Your Tickets at pipercabaret18.brownpapertickets.com \nPiper Inner Circle @$200 includes open bar\, reserved premium seating and program listing plus season benefits |  General Admission Tickets @ $100 \nCan’t attend? Donate at pipercabaret18.brownpapertickets.com \n  \nhttp://pipertheatre.org/
URL:https://parkslopeciviccouncil.org/event/pipers-6th-annual-cabaret-saturday-march-24th/
LOCATION:Brooklyn Conservatory of Music\, 58 Seventh Avenue & Lincoln Place\, Brooklyn\, NY\, 11217
CATEGORIES:Entertainment,Local business
ORGANIZER;CN="Piper Theatre":MAILTO:register@pipertheatre.org
END:VEVENT
BEGIN:VEVENT
DTSTART;TZID=America/New_York:20180324T190000
DTEND;TZID=America/New_York:20180324T220000
DTSTAMP:20260423T071608
CREATED:20180306T022626Z
LAST-MODIFIED:20180306T022626Z
UID:10208-1521918000-1521928800@parkslopeciviccouncil.org
SUMMARY:Piper Theatre's 6th Annual Cabaret
DESCRIPTION:Piper Theatre Productions Presents Piper’s 18th year of presenting\nFree Outdoor Theater for All\nAngels and Devils – Heroes and Villains – Muses and Monsters with performers from Piper’s Priscilla\, Sweeney Todd\, Bloody Bloody Andrew Jackson \nPiper’s 6th Annual Cabaret\nSaturday\, March 24th\nat the Brooklyn Conservatory of Music\n58 Seventh Avenue (corner Lincoln)\nDoors open at 7 pm | Performance begins at 7:30 pm  \nPurchase Your Tickets at pipercabaret18.brownpapertickets.com \nPiper Inner Circle @$200 includes open bar\, reserved premium seating and program listing plus season benefits |  General Admission Tickets @ $100 \nCan’t attend? Donate at pipercabaret18.brownpapertickets.com \n  \nhttp://pipertheatre.org/
URL:https://parkslopeciviccouncil.org/event/pipers-6th-annual-cabaret-saturday-march-24th-4/
LOCATION:Brooklyn Conservatory of Music\, 58 Seventh Avenue & Lincoln Place\, Brooklyn\, NY\, 11217
CATEGORIES:Entertainment,Local business
ORGANIZER;CN="Piper Theatre":MAILTO:register@pipertheatre.org
END:VEVENT
BEGIN:VEVENT
DTSTART;TZID=America/New_York:20180324T190000
DTEND;TZID=America/New_York:20180324T220000
DTSTAMP:20260423T071608
CREATED:20180306T022626Z
LAST-MODIFIED:20180306T022626Z
UID:12361-1521918000-1521928800@parkslopeciviccouncil.org
SUMMARY:Piper Theatre\'s 6th Annual Cabaret
DESCRIPTION:Piper Theatre Productions Presents Piper\’s 18th year of presenting\nFree Outdoor Theater for All\nAngels and Devils – Heroes and Villains – Muses and Monsters with performers from Piper\’s Priscilla\, Sweeney Todd\, Bloody Bloody Andrew Jackson \nPiper\’s 6th Annual Cabaret\nSaturday\, March 24th\nat the Brooklyn Conservatory of Music\n58 Seventh Avenue (corner Lincoln)\nDoors open at 7 pm | Performance begins at 7:30 pm  \nPurchase Your Tickets at pipercabaret18.brownpapertickets.com \nPiper Inner Circle @$200 includes open bar\, reserved premium seating and program listing plus season benefits |  General Admission Tickets @ $100 \nCan\’t attend? Donate at pipercabaret18.brownpapertickets.com \n  \nhttp://pipertheatre.org/
URL:https://parkslopeciviccouncil.org/event/pipers-6th-annual-cabaret-saturday-march-24th-7/
LOCATION:Brooklyn Conservatory of Music\, 58 Seventh Avenue & Lincoln Place\, Brooklyn\, NY\, 11217
CATEGORIES:Entertainment,Local business
ORGANIZER;CN="Piper Theatre":MAILTO:register@pipertheatre.org
END:VEVENT
BEGIN:VEVENT
DTSTART;TZID=America/New_York:20180324T190000
DTEND;TZID=America/New_York:20180324T220000
DTSTAMP:20260423T071609
CREATED:20180306T022626Z
LAST-MODIFIED:20180306T022626Z
UID:9488-1521918000-1521928800@parkslopeciviccouncil.org
SUMMARY:Piper Theatre's 6th Annual Cabaret
DESCRIPTION:Piper Theatre Productions Presents Piper’s 18th year of presenting\nFree Outdoor Theater for All\nAngels and Devils – Heroes and Villains – Muses and Monsters with performers from Piper’s Priscilla\, Sweeney Todd\, Bloody Bloody Andrew Jackson \nPiper’s 6th Annual Cabaret\nSaturday\, March 24th\nat the Brooklyn Conservatory of Music\n58 Seventh Avenue (corner Lincoln)\nDoors open at 7 pm | Performance begins at 7:30 pm  \nPurchase Your Tickets at pipercabaret18.brownpapertickets.com \nPiper Inner Circle @$200 includes open bar\, reserved premium seating and program listing plus season benefits |  General Admission Tickets @ $100 \nCan’t attend? Donate at pipercabaret18.brownpapertickets.com \n  \nhttp://pipertheatre.org/
URL:https://parkslopeciviccouncil.org/event/pipers-6th-annual-cabaret-saturday-march-24th-2/
LOCATION:Brooklyn Conservatory of Music\, 58 Seventh Avenue & Lincoln Place\, Brooklyn\, NY\, 11217
CATEGORIES:Entertainment,Local business
ORGANIZER;CN="Piper Theatre":MAILTO:register@pipertheatre.org
END:VEVENT
BEGIN:VEVENT
DTSTART;TZID=America/New_York:20180324T190000
DTEND;TZID=America/New_York:20180324T220000
DTSTAMP:20260423T071609
CREATED:20180306T022626Z
LAST-MODIFIED:20180306T022626Z
UID:10556-1521918000-1521928800@parkslopeciviccouncil.org
SUMMARY:Piper Theatre's 6th Annual Cabaret
DESCRIPTION:Piper Theatre Productions Presents Piper’s 18th year of presenting\nFree Outdoor Theater for All\nAngels and Devils – Heroes and Villains – Muses and Monsters with performers from Piper’s Priscilla\, Sweeney Todd\, Bloody Bloody Andrew Jackson \nPiper’s 6th Annual Cabaret\nSaturday\, March 24th\nat the Brooklyn Conservatory of Music\n58 Seventh Avenue (corner Lincoln)\nDoors open at 7 pm | Performance begins at 7:30 pm  \nPurchase Your Tickets at pipercabaret18.brownpapertickets.com \nPiper Inner Circle @$200 includes open bar\, reserved premium seating and program listing plus season benefits |  General Admission Tickets @ $100 \nCan’t attend? Donate at pipercabaret18.brownpapertickets.com \n  \nhttp://pipertheatre.org/
URL:https://parkslopeciviccouncil.org/event/pipers-6th-annual-cabaret-saturday-march-24th-5/
LOCATION:Brooklyn Conservatory of Music\, 58 Seventh Avenue & Lincoln Place\, Brooklyn\, NY\, 11217
CATEGORIES:Entertainment,Local business
ORGANIZER;CN="Piper Theatre":MAILTO:register@pipertheatre.org
END:VEVENT
BEGIN:VEVENT
DTSTART;TZID=America/New_York:20180324T190000
DTEND;TZID=America/New_York:20180324T220000
DTSTAMP:20260423T071609
CREATED:20180306T022626Z
LAST-MODIFIED:20180306T022626Z
UID:9848-1521918000-1521928800@parkslopeciviccouncil.org
SUMMARY:Piper Theatre's 6th Annual Cabaret
DESCRIPTION:Piper Theatre Productions Presents Piper’s 18th year of presenting\nFree Outdoor Theater for All\nAngels and Devils – Heroes and Villains – Muses and Monsters with performers from Piper’s Priscilla\, Sweeney Todd\, Bloody Bloody Andrew Jackson \nPiper’s 6th Annual Cabaret\nSaturday\, March 24th\nat the Brooklyn Conservatory of Music\n58 Seventh Avenue (corner Lincoln)\nDoors open at 7 pm | Performance begins at 7:30 pm  \nPurchase Your Tickets at pipercabaret18.brownpapertickets.com \nPiper Inner Circle @$200 includes open bar\, reserved premium seating and program listing plus season benefits |  General Admission Tickets @ $100 \nCan’t attend? Donate at pipercabaret18.brownpapertickets.com \n  \nhttp://pipertheatre.org/
URL:https://parkslopeciviccouncil.org/event/pipers-6th-annual-cabaret-saturday-march-24th-3/
LOCATION:Brooklyn Conservatory of Music\, 58 Seventh Avenue & Lincoln Place\, Brooklyn\, NY\, 11217
CATEGORIES:Entertainment,Local business
ORGANIZER;CN="Piper Theatre":MAILTO:register@pipertheatre.org
END:VEVENT
END:VCALENDAR