BEGIN:VCALENDAR
VERSION:2.0
PRODID:-//Park Slope Civic Council - ECPv6.15.20//NONSGML v1.0//EN
CALSCALE:GREGORIAN
METHOD:PUBLISH
X-ORIGINAL-URL:https://parkslopeciviccouncil.org
X-WR-CALDESC:Events for Park Slope Civic Council
REFRESH-INTERVAL;VALUE=DURATION:PT1H
X-Robots-Tag:noindex
X-PUBLISHED-TTL:PT1H
BEGIN:VTIMEZONE
TZID:UTC
BEGIN:STANDARD
TZOFFSETFROM:+0000
TZOFFSETTO:+0000
TZNAME:UTC
DTSTART:20120101T000000
END:STANDARD
END:VTIMEZONE
BEGIN:VEVENT
DTSTART;TZID=UTC:20140507T190000
DTEND;TZID=UTC:20140507T200000
DTSTAMP:20260424T055204
CREATED:20140411T010243Z
LAST-MODIFIED:20140411T010243Z
UID:9347-1399489200-1399492800@parkslopeciviccouncil.org
SUMMARY:A River Runs Through It
DESCRIPTION:You can download the flyer HERE
URL:https://parkslopeciviccouncil.org/event/a-river-runs-through-it-2/
LOCATION:Old Stone House\, 336 3rd St\, Brooklyn\, NY\, 11215\, United States
CATEGORIES:Civic News,Community,Forth on Fourth Avenue,Fourth Avenue,Sustainability
END:VEVENT
BEGIN:VEVENT
DTSTART;TZID=UTC:20140507T190000
DTEND;TZID=UTC:20140507T200000
DTSTAMP:20260424T055204
CREATED:20140411T010243Z
LAST-MODIFIED:20140411T010243Z
UID:9707-1399489200-1399492800@parkslopeciviccouncil.org
SUMMARY:A River Runs Through It
DESCRIPTION:You can download the flyer HERE
URL:https://parkslopeciviccouncil.org/event/a-river-runs-through-it-3/
LOCATION:Old Stone House\, 336 3rd St\, Brooklyn\, NY\, 11215\, United States
CATEGORIES:Civic News,Community,Forth on Fourth Avenue,Fourth Avenue,Sustainability
END:VEVENT
BEGIN:VEVENT
DTSTART;TZID=UTC:20140507T190000
DTEND;TZID=UTC:20140507T200000
DTSTAMP:20260424T055204
CREATED:20140411T010243Z
LAST-MODIFIED:20140411T010243Z
UID:10066-1399489200-1399492800@parkslopeciviccouncil.org
SUMMARY:A River Runs Through It
DESCRIPTION:You can download the flyer HERE
URL:https://parkslopeciviccouncil.org/event/a-river-runs-through-it-4/
LOCATION:Old Stone House\, 336 3rd St\, Brooklyn\, NY\, 11215\, United States
CATEGORIES:Civic News,Community,Forth on Fourth Avenue,Fourth Avenue,Sustainability
END:VEVENT
BEGIN:VEVENT
DTSTART;TZID=UTC:20140507T190000
DTEND;TZID=UTC:20140507T200000
DTSTAMP:20260424T055204
CREATED:20140411T010243Z
LAST-MODIFIED:20140411T010243Z
UID:10415-1399489200-1399492800@parkslopeciviccouncil.org
SUMMARY:A River Runs Through It
DESCRIPTION:You can download the flyer HERE
URL:https://parkslopeciviccouncil.org/event/a-river-runs-through-it-5/
LOCATION:Old Stone House\, 336 3rd St\, Brooklyn\, NY\, 11215\, United States
CATEGORIES:Civic News,Community,Forth on Fourth Avenue,Fourth Avenue,Sustainability
END:VEVENT
BEGIN:VEVENT
DTSTART;TZID=UTC:20140408T074500
DTEND;TZID=UTC:20140408T090000
DTSTAMP:20260424T055204
CREATED:20140127T172741Z
LAST-MODIFIED:20140127T172741Z
UID:4924-1396943100-1396947600@parkslopeciviccouncil.org
SUMMARY:Forth on Fourth Avenue Committee Meeting
DESCRIPTION:The FORTH on Fourth Avenue Committee is a group committed to promoting the interests of Fourth Avenue. \nRead more about this very active committee here.
URL:https://parkslopeciviccouncil.org/event/forth-on-fourth-avenue-committee-meeting-8/
LOCATION:Fifth Avenue Committee office\, 621 Degraw Street\, Brooklyn\, NY\, 11215\, United States
CATEGORIES:Forth on Fourth Avenue,Fourth Avenue
END:VEVENT
BEGIN:VEVENT
DTSTART;TZID=UTC:20140408T074500
DTEND;TZID=UTC:20140408T090000
DTSTAMP:20260424T055204
CREATED:20140127T172741Z
LAST-MODIFIED:20140127T172741Z
UID:9286-1396943100-1396947600@parkslopeciviccouncil.org
SUMMARY:Forth on Fourth Avenue Committee Meeting
DESCRIPTION:The FORTH on Fourth Avenue Committee is a group committed to promoting the interests of Fourth Avenue. \nRead more about this very active committee here.
URL:https://parkslopeciviccouncil.org/event/forth-on-fourth-avenue-committee-meeting-8-2/
LOCATION:Fifth Avenue Committee office\, 621 Degraw Street\, Brooklyn\, NY\, 11215\, United States
CATEGORIES:Forth on Fourth Avenue,Fourth Avenue
END:VEVENT
BEGIN:VEVENT
DTSTART;TZID=UTC:20140408T074500
DTEND;TZID=UTC:20140408T090000
DTSTAMP:20260424T055204
CREATED:20140127T172741Z
LAST-MODIFIED:20140127T172741Z
UID:9646-1396943100-1396947600@parkslopeciviccouncil.org
SUMMARY:Forth on Fourth Avenue Committee Meeting
DESCRIPTION:The FORTH on Fourth Avenue Committee is a group committed to promoting the interests of Fourth Avenue. \nRead more about this very active committee here.
URL:https://parkslopeciviccouncil.org/event/forth-on-fourth-avenue-committee-meeting-8-3/
LOCATION:Fifth Avenue Committee office\, 621 Degraw Street\, Brooklyn\, NY\, 11215\, United States
CATEGORIES:Forth on Fourth Avenue,Fourth Avenue
END:VEVENT
BEGIN:VEVENT
DTSTART;TZID=UTC:20140408T074500
DTEND;TZID=UTC:20140408T090000
DTSTAMP:20260424T055204
CREATED:20140127T172741Z
LAST-MODIFIED:20140127T172741Z
UID:10004-1396943100-1396947600@parkslopeciviccouncil.org
SUMMARY:Forth on Fourth Avenue Committee Meeting
DESCRIPTION:The FORTH on Fourth Avenue Committee is a group committed to promoting the interests of Fourth Avenue. \nRead more about this very active committee here.
URL:https://parkslopeciviccouncil.org/event/forth-on-fourth-avenue-committee-meeting-8-4/
LOCATION:Fifth Avenue Committee office\, 621 Degraw Street\, Brooklyn\, NY\, 11215\, United States
CATEGORIES:Forth on Fourth Avenue,Fourth Avenue
END:VEVENT
BEGIN:VEVENT
DTSTART;TZID=UTC:20140408T074500
DTEND;TZID=UTC:20140408T090000
DTSTAMP:20260424T055204
CREATED:20140127T172741Z
LAST-MODIFIED:20140127T172741Z
UID:10353-1396943100-1396947600@parkslopeciviccouncil.org
SUMMARY:Forth on Fourth Avenue Committee Meeting
DESCRIPTION:The FORTH on Fourth Avenue Committee is a group committed to promoting the interests of Fourth Avenue. \nRead more about this very active committee here.
URL:https://parkslopeciviccouncil.org/event/forth-on-fourth-avenue-committee-meeting-8-5/
LOCATION:Fifth Avenue Committee office\, 621 Degraw Street\, Brooklyn\, NY\, 11215\, United States
CATEGORIES:Forth on Fourth Avenue,Fourth Avenue
END:VEVENT
BEGIN:VEVENT
DTSTART;TZID=UTC:20140408T074500
DTEND;TZID=UTC:20140408T090000
DTSTAMP:20260424T055204
CREATED:20140127T172741Z
LAST-MODIFIED:20140127T172741Z
UID:10674-1396943100-1396947600@parkslopeciviccouncil.org
SUMMARY:Forth on Fourth Avenue Committee Meeting
DESCRIPTION:The FORTH on Fourth Avenue Committee is a group committed to promoting the interests of Fourth Avenue. \nRead more about this very active committee here.
URL:https://parkslopeciviccouncil.org/event/forth-on-fourth-avenue-committee-meeting-8-6/
LOCATION:Fifth Avenue Committee office\, 621 Degraw Street\, Brooklyn\, NY\, 11215\, United States
CATEGORIES:Forth on Fourth Avenue,Fourth Avenue
END:VEVENT
BEGIN:VEVENT
DTSTART;TZID=UTC:20140408T074500
DTEND;TZID=UTC:20140408T090000
DTSTAMP:20260424T055204
CREATED:20140127T172741Z
LAST-MODIFIED:20140127T172741Z
UID:12159-1396943100-1396947600@parkslopeciviccouncil.org
SUMMARY:Forth on Fourth Avenue Committee Meeting
DESCRIPTION:The FORTH on Fourth Avenue Committee is a group committed to promoting the interests of Fourth Avenue. \nRead more about this very active committee here.
URL:https://parkslopeciviccouncil.org/event/forth-on-fourth-avenue-committee-meeting-8-7/
LOCATION:Fifth Avenue Committee office\, 621 Degraw Street\, Brooklyn\, NY\, 11215\, United States
CATEGORIES:Forth on Fourth Avenue,Fourth Avenue
END:VEVENT
BEGIN:VEVENT
DTSTART;TZID=UTC:20140311T074500
DTEND;TZID=UTC:20140311T090000
DTSTAMP:20260424T055204
CREATED:20140127T172357Z
LAST-MODIFIED:20140127T172357Z
UID:10003-1394523900-1394528400@parkslopeciviccouncil.org
SUMMARY:Forth on Fourth Avenue Committee Meeting
DESCRIPTION:The FORTH on Fourth Avenue Committee is a group committed to promoting the interests of Fourth Avenue. \nRead more about this very active committee here.
URL:https://parkslopeciviccouncil.org/event/forth-on-fourth-avenue-committee-meeting-7-4/
LOCATION:Fifth Avenue Committee office\, 621 Degraw Street\, Brooklyn\, NY\, 11215\, United States
CATEGORIES:Forth on Fourth Avenue,Fourth Avenue
END:VEVENT
BEGIN:VEVENT
DTSTART;TZID=UTC:20140311T074500
DTEND;TZID=UTC:20140311T090000
DTSTAMP:20260424T055204
CREATED:20140127T172357Z
LAST-MODIFIED:20140127T172357Z
UID:10352-1394523900-1394528400@parkslopeciviccouncil.org
SUMMARY:Forth on Fourth Avenue Committee Meeting
DESCRIPTION:The FORTH on Fourth Avenue Committee is a group committed to promoting the interests of Fourth Avenue. \nRead more about this very active committee here.
URL:https://parkslopeciviccouncil.org/event/forth-on-fourth-avenue-committee-meeting-7-5/
LOCATION:Fifth Avenue Committee office\, 621 Degraw Street\, Brooklyn\, NY\, 11215\, United States
CATEGORIES:Forth on Fourth Avenue,Fourth Avenue
END:VEVENT
BEGIN:VEVENT
DTSTART;TZID=UTC:20140311T074500
DTEND;TZID=UTC:20140311T090000
DTSTAMP:20260424T055204
CREATED:20140127T172357Z
LAST-MODIFIED:20140127T172357Z
UID:10673-1394523900-1394528400@parkslopeciviccouncil.org
SUMMARY:Forth on Fourth Avenue Committee Meeting
DESCRIPTION:The FORTH on Fourth Avenue Committee is a group committed to promoting the interests of Fourth Avenue. \nRead more about this very active committee here.
URL:https://parkslopeciviccouncil.org/event/forth-on-fourth-avenue-committee-meeting-7-6/
LOCATION:Fifth Avenue Committee office\, 621 Degraw Street\, Brooklyn\, NY\, 11215\, United States
CATEGORIES:Forth on Fourth Avenue,Fourth Avenue
END:VEVENT
BEGIN:VEVENT
DTSTART;TZID=UTC:20140311T074500
DTEND;TZID=UTC:20140311T090000
DTSTAMP:20260424T055204
CREATED:20140127T172357Z
LAST-MODIFIED:20140127T172357Z
UID:12158-1394523900-1394528400@parkslopeciviccouncil.org
SUMMARY:Forth on Fourth Avenue Committee Meeting
DESCRIPTION:The FORTH on Fourth Avenue Committee is a group committed to promoting the interests of Fourth Avenue. \nRead more about this very active committee here.
URL:https://parkslopeciviccouncil.org/event/forth-on-fourth-avenue-committee-meeting-7-7/
LOCATION:Fifth Avenue Committee office\, 621 Degraw Street\, Brooklyn\, NY\, 11215\, United States
CATEGORIES:Forth on Fourth Avenue,Fourth Avenue
END:VEVENT
BEGIN:VEVENT
DTSTART;TZID=UTC:20140311T074500
DTEND;TZID=UTC:20140311T090000
DTSTAMP:20260424T055204
CREATED:20140127T172357Z
LAST-MODIFIED:20140127T172357Z
UID:4921-1394523900-1394528400@parkslopeciviccouncil.org
SUMMARY:Forth on Fourth Avenue Committee Meeting
DESCRIPTION:The FORTH on Fourth Avenue Committee is a group committed to promoting the interests of Fourth Avenue. \nRead more about this very active committee here.
URL:https://parkslopeciviccouncil.org/event/forth-on-fourth-avenue-committee-meeting-7/
LOCATION:Fifth Avenue Committee office\, 621 Degraw Street\, Brooklyn\, NY\, 11215\, United States
CATEGORIES:Forth on Fourth Avenue,Fourth Avenue
END:VEVENT
BEGIN:VEVENT
DTSTART;TZID=UTC:20140311T074500
DTEND;TZID=UTC:20140311T090000
DTSTAMP:20260424T055204
CREATED:20140127T172357Z
LAST-MODIFIED:20140127T172357Z
UID:9285-1394523900-1394528400@parkslopeciviccouncil.org
SUMMARY:Forth on Fourth Avenue Committee Meeting
DESCRIPTION:The FORTH on Fourth Avenue Committee is a group committed to promoting the interests of Fourth Avenue. \nRead more about this very active committee here.
URL:https://parkslopeciviccouncil.org/event/forth-on-fourth-avenue-committee-meeting-7-2/
LOCATION:Fifth Avenue Committee office\, 621 Degraw Street\, Brooklyn\, NY\, 11215\, United States
CATEGORIES:Forth on Fourth Avenue,Fourth Avenue
END:VEVENT
BEGIN:VEVENT
DTSTART;TZID=UTC:20140311T074500
DTEND;TZID=UTC:20140311T090000
DTSTAMP:20260424T055204
CREATED:20140127T172357Z
LAST-MODIFIED:20140127T172357Z
UID:9645-1394523900-1394528400@parkslopeciviccouncil.org
SUMMARY:Forth on Fourth Avenue Committee Meeting
DESCRIPTION:The FORTH on Fourth Avenue Committee is a group committed to promoting the interests of Fourth Avenue. \nRead more about this very active committee here.
URL:https://parkslopeciviccouncil.org/event/forth-on-fourth-avenue-committee-meeting-7-3/
LOCATION:Fifth Avenue Committee office\, 621 Degraw Street\, Brooklyn\, NY\, 11215\, United States
CATEGORIES:Forth on Fourth Avenue,Fourth Avenue
END:VEVENT
BEGIN:VEVENT
DTSTART;TZID=UTC:20140211T074500
DTEND;TZID=UTC:20140211T084500
DTSTAMP:20260424T055204
CREATED:20140127T170841Z
LAST-MODIFIED:20140127T170841Z
UID:12157-1392104700-1392108300@parkslopeciviccouncil.org
SUMMARY:Forth on Fourth Avenue Committee Meeting
DESCRIPTION:The FORTH on Fourth Avenue Committee is a group committed to promoting the interests of Fourth Avenue. \nRead more about this very active committee here. \n 
URL:https://parkslopeciviccouncil.org/event/forth-on-fourth-avenue-committee-meeting-6-7/
LOCATION:To Be Determined\, Brooklyn\, NY\, United States
CATEGORIES:Forth on Fourth Avenue
END:VEVENT
BEGIN:VEVENT
DTSTART;TZID=UTC:20140211T074500
DTEND;TZID=UTC:20140211T084500
DTSTAMP:20260424T055204
CREATED:20140127T170841Z
LAST-MODIFIED:20140127T170841Z
UID:4917-1392104700-1392108300@parkslopeciviccouncil.org
SUMMARY:Forth on Fourth Avenue Committee Meeting
DESCRIPTION:The FORTH on Fourth Avenue Committee is a group committed to promoting the interests of Fourth Avenue. \nRead more about this very active committee here. \n 
URL:https://parkslopeciviccouncil.org/event/forth-on-fourth-avenue-committee-meeting-6/
LOCATION:To Be Determined\, Brooklyn\, NY\, United States
CATEGORIES:Forth on Fourth Avenue
END:VEVENT
BEGIN:VEVENT
DTSTART;TZID=UTC:20140211T074500
DTEND;TZID=UTC:20140211T084500
DTSTAMP:20260424T055204
CREATED:20140127T170841Z
LAST-MODIFIED:20140127T170841Z
UID:9284-1392104700-1392108300@parkslopeciviccouncil.org
SUMMARY:Forth on Fourth Avenue Committee Meeting
DESCRIPTION:The FORTH on Fourth Avenue Committee is a group committed to promoting the interests of Fourth Avenue. \nRead more about this very active committee here. \n 
URL:https://parkslopeciviccouncil.org/event/forth-on-fourth-avenue-committee-meeting-6-2/
LOCATION:To Be Determined\, Brooklyn\, NY\, United States
CATEGORIES:Forth on Fourth Avenue
END:VEVENT
BEGIN:VEVENT
DTSTART;TZID=UTC:20140211T074500
DTEND;TZID=UTC:20140211T084500
DTSTAMP:20260424T055204
CREATED:20140127T170841Z
LAST-MODIFIED:20140127T170841Z
UID:9644-1392104700-1392108300@parkslopeciviccouncil.org
SUMMARY:Forth on Fourth Avenue Committee Meeting
DESCRIPTION:The FORTH on Fourth Avenue Committee is a group committed to promoting the interests of Fourth Avenue. \nRead more about this very active committee here. \n 
URL:https://parkslopeciviccouncil.org/event/forth-on-fourth-avenue-committee-meeting-6-3/
LOCATION:To Be Determined\, Brooklyn\, NY\, United States
CATEGORIES:Forth on Fourth Avenue
END:VEVENT
BEGIN:VEVENT
DTSTART;TZID=UTC:20140211T074500
DTEND;TZID=UTC:20140211T084500
DTSTAMP:20260424T055204
CREATED:20140127T170841Z
LAST-MODIFIED:20140127T170841Z
UID:10002-1392104700-1392108300@parkslopeciviccouncil.org
SUMMARY:Forth on Fourth Avenue Committee Meeting
DESCRIPTION:The FORTH on Fourth Avenue Committee is a group committed to promoting the interests of Fourth Avenue. \nRead more about this very active committee here. \n 
URL:https://parkslopeciviccouncil.org/event/forth-on-fourth-avenue-committee-meeting-6-4/
LOCATION:To Be Determined\, Brooklyn\, NY\, United States
CATEGORIES:Forth on Fourth Avenue
END:VEVENT
BEGIN:VEVENT
DTSTART;TZID=UTC:20140211T074500
DTEND;TZID=UTC:20140211T084500
DTSTAMP:20260424T055204
CREATED:20140127T170841Z
LAST-MODIFIED:20140127T170841Z
UID:10351-1392104700-1392108300@parkslopeciviccouncil.org
SUMMARY:Forth on Fourth Avenue Committee Meeting
DESCRIPTION:The FORTH on Fourth Avenue Committee is a group committed to promoting the interests of Fourth Avenue. \nRead more about this very active committee here. \n 
URL:https://parkslopeciviccouncil.org/event/forth-on-fourth-avenue-committee-meeting-6-5/
LOCATION:To Be Determined\, Brooklyn\, NY\, United States
CATEGORIES:Forth on Fourth Avenue
END:VEVENT
BEGIN:VEVENT
DTSTART;TZID=UTC:20140211T074500
DTEND;TZID=UTC:20140211T084500
DTSTAMP:20260424T055204
CREATED:20140127T170841Z
LAST-MODIFIED:20140127T170841Z
UID:10672-1392104700-1392108300@parkslopeciviccouncil.org
SUMMARY:Forth on Fourth Avenue Committee Meeting
DESCRIPTION:The FORTH on Fourth Avenue Committee is a group committed to promoting the interests of Fourth Avenue. \nRead more about this very active committee here. \n 
URL:https://parkslopeciviccouncil.org/event/forth-on-fourth-avenue-committee-meeting-6-6/
LOCATION:To Be Determined\, Brooklyn\, NY\, United States
CATEGORIES:Forth on Fourth Avenue
END:VEVENT
BEGIN:VEVENT
DTSTART;TZID=UTC:20131008T183000
DTEND;TZID=UTC:20131008T210000
DTSTAMP:20260424T055204
CREATED:20131001T195205Z
LAST-MODIFIED:20131001T195205Z
UID:4812-1381257000-1381266000@parkslopeciviccouncil.org
SUMMARY:Forth on Fourth Avenue Committee Meeting
DESCRIPTION:
URL:https://parkslopeciviccouncil.org/event/forth-on-fourth-avenue-committee-meeting-4/
LOCATION:Fifth Avenue Committee office\, 621 Degraw Street\, Brooklyn\, NY\, 11215\, United States
CATEGORIES:Civic News,Community,Forth on Fourth Avenue
END:VEVENT
BEGIN:VEVENT
DTSTART;TZID=UTC:20131008T183000
DTEND;TZID=UTC:20131008T210000
DTSTAMP:20260424T055204
CREATED:20131001T195205Z
LAST-MODIFIED:20131001T195205Z
UID:9273-1381257000-1381266000@parkslopeciviccouncil.org
SUMMARY:Forth on Fourth Avenue Committee Meeting
DESCRIPTION:
URL:https://parkslopeciviccouncil.org/event/forth-on-fourth-avenue-committee-meeting-4-2/
LOCATION:Fifth Avenue Committee office\, 621 Degraw Street\, Brooklyn\, NY\, 11215\, United States
CATEGORIES:Civic News,Community,Forth on Fourth Avenue
END:VEVENT
BEGIN:VEVENT
DTSTART;TZID=UTC:20131008T183000
DTEND;TZID=UTC:20131008T210000
DTSTAMP:20260424T055204
CREATED:20131001T195205Z
LAST-MODIFIED:20131001T195205Z
UID:9633-1381257000-1381266000@parkslopeciviccouncil.org
SUMMARY:Forth on Fourth Avenue Committee Meeting
DESCRIPTION:
URL:https://parkslopeciviccouncil.org/event/forth-on-fourth-avenue-committee-meeting-4-3/
LOCATION:Fifth Avenue Committee office\, 621 Degraw Street\, Brooklyn\, NY\, 11215\, United States
CATEGORIES:Civic News,Community,Forth on Fourth Avenue
END:VEVENT
BEGIN:VEVENT
DTSTART;TZID=UTC:20131008T183000
DTEND;TZID=UTC:20131008T210000
DTSTAMP:20260424T055204
CREATED:20131001T195205Z
LAST-MODIFIED:20131001T195205Z
UID:9991-1381257000-1381266000@parkslopeciviccouncil.org
SUMMARY:Forth on Fourth Avenue Committee Meeting
DESCRIPTION:
URL:https://parkslopeciviccouncil.org/event/forth-on-fourth-avenue-committee-meeting-4-4/
LOCATION:Fifth Avenue Committee office\, 621 Degraw Street\, Brooklyn\, NY\, 11215\, United States
CATEGORIES:Civic News,Community,Forth on Fourth Avenue
END:VEVENT
BEGIN:VEVENT
DTSTART;TZID=UTC:20131008T183000
DTEND;TZID=UTC:20131008T210000
DTSTAMP:20260424T055204
CREATED:20131001T195205Z
LAST-MODIFIED:20131001T195205Z
UID:10340-1381257000-1381266000@parkslopeciviccouncil.org
SUMMARY:Forth on Fourth Avenue Committee Meeting
DESCRIPTION:
URL:https://parkslopeciviccouncil.org/event/forth-on-fourth-avenue-committee-meeting-4-5/
LOCATION:Fifth Avenue Committee office\, 621 Degraw Street\, Brooklyn\, NY\, 11215\, United States
CATEGORIES:Civic News,Community,Forth on Fourth Avenue
END:VEVENT
END:VCALENDAR