BEGIN:VCALENDAR
VERSION:2.0
PRODID:-//Park Slope Civic Council - ECPv6.15.20//NONSGML v1.0//EN
CALSCALE:GREGORIAN
METHOD:PUBLISH
X-ORIGINAL-URL:https://parkslopeciviccouncil.org
X-WR-CALDESC:Events for Park Slope Civic Council
REFRESH-INTERVAL;VALUE=DURATION:PT1H
X-Robots-Tag:noindex
X-PUBLISHED-TTL:PT1H
BEGIN:VTIMEZONE
TZID:America/New_York
BEGIN:DAYLIGHT
TZOFFSETFROM:-0500
TZOFFSETTO:-0400
TZNAME:EDT
DTSTART:20150308T070000
END:DAYLIGHT
BEGIN:STANDARD
TZOFFSETFROM:-0400
TZOFFSETTO:-0500
TZNAME:EST
DTSTART:20151101T060000
END:STANDARD
BEGIN:DAYLIGHT
TZOFFSETFROM:-0500
TZOFFSETTO:-0400
TZNAME:EDT
DTSTART:20160313T070000
END:DAYLIGHT
BEGIN:STANDARD
TZOFFSETFROM:-0400
TZOFFSETTO:-0500
TZNAME:EST
DTSTART:20161106T060000
END:STANDARD
BEGIN:DAYLIGHT
TZOFFSETFROM:-0500
TZOFFSETTO:-0400
TZNAME:EDT
DTSTART:20170312T070000
END:DAYLIGHT
BEGIN:STANDARD
TZOFFSETFROM:-0400
TZOFFSETTO:-0500
TZNAME:EST
DTSTART:20171105T060000
END:STANDARD
END:VTIMEZONE
BEGIN:VTIMEZONE
TZID:UTC
BEGIN:STANDARD
TZOFFSETFROM:+0000
TZOFFSETTO:+0000
TZNAME:UTC
DTSTART:20130101T000000
END:STANDARD
END:VTIMEZONE
BEGIN:VEVENT
DTSTART;TZID=America/New_York:20161016T100000
DTEND;TZID=America/New_York:20161016T140000
DTSTAMP:20260423T170948
CREATED:20160921T213630Z
LAST-MODIFIED:20160921T213630Z
UID:10140-1476612000-1476626400@parkslopeciviccouncil.org
SUMMARY:Fall Civic Sweep
DESCRIPTION:A clean-up\, beautification and recycling event free and open to all. \nCome to the sidewalk in front of Old Stone House/J J Byrne Park : \n5th Avenue between 3rd and 4th Streets
URL:https://parkslopeciviccouncil.org/event/fall-civic-sweep-3-2-4/
LOCATION:4th Ave. Civic Sweep site\, 5th Avenue between 3rd and 4th Streets\, Brooklyn\, NY\, 11217\, United States
CATEGORIES:Forth on Fourth Avenue,Livable Streets,Sustainability
END:VEVENT
BEGIN:VEVENT
DTSTART;TZID=America/New_York:20161016T100000
DTEND;TZID=America/New_York:20161016T140000
DTSTAMP:20260423T170948
CREATED:20160921T213630Z
LAST-MODIFIED:20160921T213630Z
UID:10488-1476612000-1476626400@parkslopeciviccouncil.org
SUMMARY:Fall Civic Sweep
DESCRIPTION:A clean-up\, beautification and recycling event free and open to all. \nCome to the sidewalk in front of Old Stone House/J J Byrne Park : \n5th Avenue between 3rd and 4th Streets
URL:https://parkslopeciviccouncil.org/event/fall-civic-sweep-3-2-5/
LOCATION:4th Ave. Civic Sweep site\, 5th Avenue between 3rd and 4th Streets\, Brooklyn\, NY\, 11217\, United States
CATEGORIES:Forth on Fourth Avenue,Livable Streets,Sustainability
END:VEVENT
BEGIN:VEVENT
DTSTART;TZID=America/New_York:20161016T100000
DTEND;TZID=America/New_York:20161016T140000
DTSTAMP:20260423T170948
CREATED:20160921T213630Z
LAST-MODIFIED:20160921T213630Z
UID:10808-1476612000-1476626400@parkslopeciviccouncil.org
SUMMARY:Fall Civic Sweep
DESCRIPTION:A clean-up\, beautification and recycling event free and open to all. \nCome to the sidewalk in front of Old Stone House/J J Byrne Park : \n5th Avenue between 3rd and 4th Streets
URL:https://parkslopeciviccouncil.org/event/fall-civic-sweep-3-2-6/
LOCATION:4th Ave. Civic Sweep site\, 5th Avenue between 3rd and 4th Streets\, Brooklyn\, NY\, 11217\, United States
CATEGORIES:Forth on Fourth Avenue,Livable Streets,Sustainability
END:VEVENT
BEGIN:VEVENT
DTSTART;TZID=America/New_York:20161016T100000
DTEND;TZID=America/New_York:20161016T140000
DTSTAMP:20260423T170948
CREATED:20160921T213630Z
LAST-MODIFIED:20160921T213630Z
UID:12293-1476612000-1476626400@parkslopeciviccouncil.org
SUMMARY:Fall Civic Sweep
DESCRIPTION:A clean-up\, beautification and recycling event free and open to all. \nCome to the sidewalk in front of Old Stone House/J J Byrne Park : \n5th Avenue between 3rd and 4th Streets
URL:https://parkslopeciviccouncil.org/event/fall-civic-sweep-3-2-7/
LOCATION:4th Ave. Civic Sweep site\, 5th Avenue between 3rd and 4th Streets\, Brooklyn\, NY\, 11217\, United States
CATEGORIES:Forth on Fourth Avenue,Livable Streets,Sustainability
END:VEVENT
BEGIN:VEVENT
DTSTART;TZID=America/New_York:20160209T074500
DTEND;TZID=America/New_York:20160209T084500
DTSTAMP:20260423T170948
CREATED:20160202T161900Z
LAST-MODIFIED:20160202T161900Z
UID:6427-1455003900-1455007500@parkslopeciviccouncil.org
SUMMARY:Feb. FOFA Committee meeting
DESCRIPTION:Topics to include reports on Times Plaza meeting and Key Food development plan\, as well as discussion of plans for a repeat of “A River Runs Through It”\, and strategies for supporting more cohesive design on Fourth Avenue.
URL:https://parkslopeciviccouncil.org/event/feb-fofa-committee-meeting/
LOCATION:Fifth Ave. Comm. building\, 621 DeGraw\, Brooklyn\, NY\, United States
CATEGORIES:Forth on Fourth Avenue
END:VEVENT
BEGIN:VEVENT
DTSTART;TZID=America/New_York:20160209T074500
DTEND;TZID=America/New_York:20160209T084500
DTSTAMP:20260423T170948
CREATED:20160202T161900Z
LAST-MODIFIED:20160202T161900Z
UID:9409-1455003900-1455007500@parkslopeciviccouncil.org
SUMMARY:Feb. FOFA Committee meeting
DESCRIPTION:Topics to include reports on Times Plaza meeting and Key Food development plan\, as well as discussion of plans for a repeat of “A River Runs Through It”\, and strategies for supporting more cohesive design on Fourth Avenue.
URL:https://parkslopeciviccouncil.org/event/feb-fofa-committee-meeting-2/
LOCATION:Fifth Ave. Comm. building\, 621 DeGraw\, Brooklyn\, NY\, United States
CATEGORIES:Forth on Fourth Avenue
END:VEVENT
BEGIN:VEVENT
DTSTART;TZID=America/New_York:20160209T074500
DTEND;TZID=America/New_York:20160209T084500
DTSTAMP:20260423T170948
CREATED:20160202T161900Z
LAST-MODIFIED:20160202T161900Z
UID:9769-1455003900-1455007500@parkslopeciviccouncil.org
SUMMARY:Feb. FOFA Committee meeting
DESCRIPTION:Topics to include reports on Times Plaza meeting and Key Food development plan\, as well as discussion of plans for a repeat of “A River Runs Through It”\, and strategies for supporting more cohesive design on Fourth Avenue.
URL:https://parkslopeciviccouncil.org/event/feb-fofa-committee-meeting-3/
LOCATION:Fifth Ave. Comm. building\, 621 DeGraw\, Brooklyn\, NY\, United States
CATEGORIES:Forth on Fourth Avenue
END:VEVENT
BEGIN:VEVENT
DTSTART;TZID=America/New_York:20160209T074500
DTEND;TZID=America/New_York:20160209T084500
DTSTAMP:20260423T170948
CREATED:20160202T161900Z
LAST-MODIFIED:20160202T161900Z
UID:10128-1455003900-1455007500@parkslopeciviccouncil.org
SUMMARY:Feb. FOFA Committee meeting
DESCRIPTION:Topics to include reports on Times Plaza meeting and Key Food development plan\, as well as discussion of plans for a repeat of “A River Runs Through It”\, and strategies for supporting more cohesive design on Fourth Avenue.
URL:https://parkslopeciviccouncil.org/event/feb-fofa-committee-meeting-4/
LOCATION:Fifth Ave. Comm. building\, 621 DeGraw\, Brooklyn\, NY\, United States
CATEGORIES:Forth on Fourth Avenue
END:VEVENT
BEGIN:VEVENT
DTSTART;TZID=America/New_York:20160209T074500
DTEND;TZID=America/New_York:20160209T084500
DTSTAMP:20260423T170948
CREATED:20160202T161900Z
LAST-MODIFIED:20160202T161900Z
UID:10477-1455003900-1455007500@parkslopeciviccouncil.org
SUMMARY:Feb. FOFA Committee meeting
DESCRIPTION:Topics to include reports on Times Plaza meeting and Key Food development plan\, as well as discussion of plans for a repeat of “A River Runs Through It”\, and strategies for supporting more cohesive design on Fourth Avenue.
URL:https://parkslopeciviccouncil.org/event/feb-fofa-committee-meeting-5/
LOCATION:Fifth Ave. Comm. building\, 621 DeGraw\, Brooklyn\, NY\, United States
CATEGORIES:Forth on Fourth Avenue
END:VEVENT
BEGIN:VEVENT
DTSTART;TZID=America/New_York:20160209T074500
DTEND;TZID=America/New_York:20160209T084500
DTSTAMP:20260423T170948
CREATED:20160202T161900Z
LAST-MODIFIED:20160202T161900Z
UID:10797-1455003900-1455007500@parkslopeciviccouncil.org
SUMMARY:Feb. FOFA Committee meeting
DESCRIPTION:Topics to include reports on Times Plaza meeting and Key Food development plan\, as well as discussion of plans for a repeat of “A River Runs Through It”\, and strategies for supporting more cohesive design on Fourth Avenue.
URL:https://parkslopeciviccouncil.org/event/feb-fofa-committee-meeting-6/
LOCATION:Fifth Ave. Comm. building\, 621 DeGraw\, Brooklyn\, NY\, United States
CATEGORIES:Forth on Fourth Avenue
END:VEVENT
BEGIN:VEVENT
DTSTART;TZID=America/New_York:20160209T074500
DTEND;TZID=America/New_York:20160209T084500
DTSTAMP:20260423T170948
CREATED:20160202T161900Z
LAST-MODIFIED:20160202T161900Z
UID:12282-1455003900-1455007500@parkslopeciviccouncil.org
SUMMARY:Feb. FOFA Committee meeting
DESCRIPTION:Topics to include reports on Times Plaza meeting and Key Food development plan\, as well as discussion of plans for a repeat of “A River Runs Through It”\, and strategies for supporting more cohesive design on Fourth Avenue.
URL:https://parkslopeciviccouncil.org/event/feb-fofa-committee-meeting-7/
LOCATION:Fifth Ave. Comm. building\, 621 DeGraw\, Brooklyn\, NY\, United States
CATEGORIES:Forth on Fourth Avenue
END:VEVENT
BEGIN:VEVENT
DTSTART;TZID=America/New_York:20160112T193000
DTEND;TZID=America/New_York:20160112T203000
DTSTAMP:20260423T170948
CREATED:20160108T164859Z
LAST-MODIFIED:20160108T164859Z
UID:6399-1452627000-1452630600@parkslopeciviccouncil.org
SUMMARY:FOFA meeting
DESCRIPTION:FOFA – with its focus on FOURTH AVENUE – will meet on Tuesday\, January 12th in … \nthe back room of Sheepstation (149 4th Ave) at 7:30 PM.
URL:https://parkslopeciviccouncil.org/event/fofa-meeting/
LOCATION:Unnamed Venue\, Brooklyn\, NY
CATEGORIES:Forth on Fourth Avenue
END:VEVENT
BEGIN:VEVENT
DTSTART;TZID=America/New_York:20160112T193000
DTEND;TZID=America/New_York:20160112T203000
DTSTAMP:20260423T170948
CREATED:20160108T164859Z
LAST-MODIFIED:20160108T164859Z
UID:9408-1452627000-1452630600@parkslopeciviccouncil.org
SUMMARY:FOFA meeting
DESCRIPTION:FOFA – with its focus on FOURTH AVENUE – will meet on Tuesday\, January 12th in … \nthe back room of Sheepstation (149 4th Ave) at 7:30 PM.
URL:https://parkslopeciviccouncil.org/event/fofa-meeting-2/
LOCATION:Unnamed Venue\, Brooklyn\, NY
CATEGORIES:Forth on Fourth Avenue
END:VEVENT
BEGIN:VEVENT
DTSTART;TZID=America/New_York:20160112T193000
DTEND;TZID=America/New_York:20160112T203000
DTSTAMP:20260423T170948
CREATED:20160108T164859Z
LAST-MODIFIED:20160108T164859Z
UID:9768-1452627000-1452630600@parkslopeciviccouncil.org
SUMMARY:FOFA meeting
DESCRIPTION:FOFA – with its focus on FOURTH AVENUE – will meet on Tuesday\, January 12th in … \nthe back room of Sheepstation (149 4th Ave) at 7:30 PM.
URL:https://parkslopeciviccouncil.org/event/fofa-meeting-3/
LOCATION:Unnamed Venue\, Brooklyn\, NY
CATEGORIES:Forth on Fourth Avenue
END:VEVENT
BEGIN:VEVENT
DTSTART;TZID=America/New_York:20160112T193000
DTEND;TZID=America/New_York:20160112T203000
DTSTAMP:20260423T170948
CREATED:20160108T164859Z
LAST-MODIFIED:20160108T164859Z
UID:10127-1452627000-1452630600@parkslopeciviccouncil.org
SUMMARY:FOFA meeting
DESCRIPTION:FOFA – with its focus on FOURTH AVENUE – will meet on Tuesday\, January 12th in … \nthe back room of Sheepstation (149 4th Ave) at 7:30 PM.
URL:https://parkslopeciviccouncil.org/event/fofa-meeting-4/
LOCATION:Unnamed Venue\, Brooklyn\, NY
CATEGORIES:Forth on Fourth Avenue
END:VEVENT
BEGIN:VEVENT
DTSTART;TZID=America/New_York:20160112T193000
DTEND;TZID=America/New_York:20160112T203000
DTSTAMP:20260423T170948
CREATED:20160108T164859Z
LAST-MODIFIED:20160108T164859Z
UID:10476-1452627000-1452630600@parkslopeciviccouncil.org
SUMMARY:FOFA meeting
DESCRIPTION:FOFA – with its focus on FOURTH AVENUE – will meet on Tuesday\, January 12th in … \nthe back room of Sheepstation (149 4th Ave) at 7:30 PM.
URL:https://parkslopeciviccouncil.org/event/fofa-meeting-5/
LOCATION:Unnamed Venue\, Brooklyn\, NY
CATEGORIES:Forth on Fourth Avenue
END:VEVENT
BEGIN:VEVENT
DTSTART;TZID=America/New_York:20160112T193000
DTEND;TZID=America/New_York:20160112T203000
DTSTAMP:20260423T170948
CREATED:20160108T164859Z
LAST-MODIFIED:20160108T164859Z
UID:10796-1452627000-1452630600@parkslopeciviccouncil.org
SUMMARY:FOFA meeting
DESCRIPTION:FOFA – with its focus on FOURTH AVENUE – will meet on Tuesday\, January 12th in … \nthe back room of Sheepstation (149 4th Ave) at 7:30 PM.
URL:https://parkslopeciviccouncil.org/event/fofa-meeting-6/
LOCATION:Unnamed Venue\, Brooklyn\, NY
CATEGORIES:Forth on Fourth Avenue
END:VEVENT
BEGIN:VEVENT
DTSTART;TZID=America/New_York:20160112T193000
DTEND;TZID=America/New_York:20160112T203000
DTSTAMP:20260423T170948
CREATED:20160108T164859Z
LAST-MODIFIED:20160108T164859Z
UID:12281-1452627000-1452630600@parkslopeciviccouncil.org
SUMMARY:FOFA meeting
DESCRIPTION:FOFA – with its focus on FOURTH AVENUE – will meet on Tuesday\, January 12th in … \nthe back room of Sheepstation (149 4th Ave) at 7:30 PM.
URL:https://parkslopeciviccouncil.org/event/fofa-meeting-7/
LOCATION:Unnamed Venue\, Brooklyn\, NY
CATEGORIES:Forth on Fourth Avenue
END:VEVENT
BEGIN:VEVENT
DTSTART;TZID=UTC:20151025T100000
DTEND;TZID=UTC:20151025T140000
DTSTAMP:20260423T170948
CREATED:20151001T213630Z
LAST-MODIFIED:20151001T213630Z
UID:9754-1445767200-1445781600@parkslopeciviccouncil.org
SUMMARY:Fall Civic Sweep
DESCRIPTION:A clean-up\, beautification and recycling event free and open to all. \nMore details will appear soon!
URL:https://parkslopeciviccouncil.org/event/fall-civic-sweep-3-4/
LOCATION:4th Ave. Civic Sweep site\, 5th Avenue between 3rd and 4th Streets\, Brooklyn\, NY\, 11217\, United States
CATEGORIES:Forth on Fourth Avenue,Livable Streets,Sustainability
END:VEVENT
BEGIN:VEVENT
DTSTART;TZID=UTC:20151025T100000
DTEND;TZID=UTC:20151025T140000
DTSTAMP:20260423T170948
CREATED:20151001T213630Z
LAST-MODIFIED:20151001T213630Z
UID:10113-1445767200-1445781600@parkslopeciviccouncil.org
SUMMARY:Fall Civic Sweep
DESCRIPTION:A clean-up\, beautification and recycling event free and open to all. \nMore details will appear soon!
URL:https://parkslopeciviccouncil.org/event/fall-civic-sweep-3-5/
LOCATION:4th Ave. Civic Sweep site\, 5th Avenue between 3rd and 4th Streets\, Brooklyn\, NY\, 11217\, United States
CATEGORIES:Forth on Fourth Avenue,Livable Streets,Sustainability
END:VEVENT
BEGIN:VEVENT
DTSTART;TZID=UTC:20151025T100000
DTEND;TZID=UTC:20151025T140000
DTSTAMP:20260423T170948
CREATED:20151001T213630Z
LAST-MODIFIED:20151001T213630Z
UID:10462-1445767200-1445781600@parkslopeciviccouncil.org
SUMMARY:Fall Civic Sweep
DESCRIPTION:A clean-up\, beautification and recycling event free and open to all. \nMore details will appear soon!
URL:https://parkslopeciviccouncil.org/event/fall-civic-sweep-3-6/
LOCATION:4th Ave. Civic Sweep site\, 5th Avenue between 3rd and 4th Streets\, Brooklyn\, NY\, 11217\, United States
CATEGORIES:Forth on Fourth Avenue,Livable Streets,Sustainability
END:VEVENT
BEGIN:VEVENT
DTSTART;TZID=UTC:20151025T100000
DTEND;TZID=UTC:20151025T140000
DTSTAMP:20260423T170948
CREATED:20151001T213630Z
LAST-MODIFIED:20151001T213630Z
UID:10782-1445767200-1445781600@parkslopeciviccouncil.org
SUMMARY:Fall Civic Sweep
DESCRIPTION:A clean-up\, beautification and recycling event free and open to all. \nMore details will appear soon!
URL:https://parkslopeciviccouncil.org/event/fall-civic-sweep-3-7/
LOCATION:4th Ave. Civic Sweep site\, 5th Avenue between 3rd and 4th Streets\, Brooklyn\, NY\, 11217\, United States
CATEGORIES:Forth on Fourth Avenue,Livable Streets,Sustainability
END:VEVENT
BEGIN:VEVENT
DTSTART;TZID=UTC:20151025T100000
DTEND;TZID=UTC:20151025T140000
DTSTAMP:20260423T170948
CREATED:20151001T213630Z
LAST-MODIFIED:20151001T213630Z
UID:12267-1445767200-1445781600@parkslopeciviccouncil.org
SUMMARY:Fall Civic Sweep
DESCRIPTION:A clean-up\, beautification and recycling event free and open to all. \nMore details will appear soon!
URL:https://parkslopeciviccouncil.org/event/fall-civic-sweep-3-8/
LOCATION:4th Ave. Civic Sweep site\, 5th Avenue between 3rd and 4th Streets\, Brooklyn\, NY\, 11217\, United States
CATEGORIES:Forth on Fourth Avenue,Livable Streets,Sustainability
END:VEVENT
BEGIN:VEVENT
DTSTART;TZID=UTC:20151025T100000
DTEND;TZID=UTC:20151025T140000
DTSTAMP:20260423T170948
CREATED:20151001T213630Z
LAST-MODIFIED:20151001T213630Z
UID:6114-1445767200-1445781600@parkslopeciviccouncil.org
SUMMARY:Fall Civic Sweep
DESCRIPTION:A clean-up\, beautification and recycling event free and open to all. \nMore details will appear soon!
URL:https://parkslopeciviccouncil.org/event/fall-civic-sweep-3/
LOCATION:4th Ave. Civic Sweep site\, 5th Avenue between 3rd and 4th Streets\, Brooklyn\, NY\, 11217\, United States
CATEGORIES:Forth on Fourth Avenue,Livable Streets,Sustainability
END:VEVENT
BEGIN:VEVENT
DTSTART;TZID=UTC:20151025T100000
DTEND;TZID=UTC:20151025T140000
DTSTAMP:20260423T170948
CREATED:20151001T213630Z
LAST-MODIFIED:20151001T213630Z
UID:9394-1445767200-1445781600@parkslopeciviccouncil.org
SUMMARY:Fall Civic Sweep
DESCRIPTION:A clean-up\, beautification and recycling event free and open to all. \nMore details will appear soon!
URL:https://parkslopeciviccouncil.org/event/fall-civic-sweep-3-3/
LOCATION:4th Ave. Civic Sweep site\, 5th Avenue between 3rd and 4th Streets\, Brooklyn\, NY\, 11217\, United States
CATEGORIES:Forth on Fourth Avenue,Livable Streets,Sustainability
END:VEVENT
BEGIN:VEVENT
DTSTART;TZID=UTC:20141209T074500
DTEND;TZID=UTC:20141209T090000
DTSTAMP:20260423T170948
CREATED:20140127T175838Z
LAST-MODIFIED:20140127T175838Z
UID:4932-1418111100-1418115600@parkslopeciviccouncil.org
SUMMARY:Forth on Fourth Avenue Committee Meeting
DESCRIPTION:The FORTH on Fourth Avenue Committee is a group committed to promoting the interests of Fourth Avenue. \nRead more about this very active committee here.
URL:https://parkslopeciviccouncil.org/event/forth-on-fourth-avenue-committee-meeting-16/
LOCATION:Fifth Avenue Committee office\, 621 Degraw Street\, Brooklyn\, NY\, 11215\, United States
CATEGORIES:Forth on Fourth Avenue,Fourth Avenue
END:VEVENT
BEGIN:VEVENT
DTSTART;TZID=UTC:20141209T074500
DTEND;TZID=UTC:20141209T090000
DTSTAMP:20260423T170948
CREATED:20140127T175838Z
LAST-MODIFIED:20140127T175838Z
UID:9294-1418111100-1418115600@parkslopeciviccouncil.org
SUMMARY:Forth on Fourth Avenue Committee Meeting
DESCRIPTION:The FORTH on Fourth Avenue Committee is a group committed to promoting the interests of Fourth Avenue. \nRead more about this very active committee here.
URL:https://parkslopeciviccouncil.org/event/forth-on-fourth-avenue-committee-meeting-16-2/
LOCATION:Fifth Avenue Committee office\, 621 Degraw Street\, Brooklyn\, NY\, 11215\, United States
CATEGORIES:Forth on Fourth Avenue,Fourth Avenue
END:VEVENT
BEGIN:VEVENT
DTSTART;TZID=UTC:20141209T074500
DTEND;TZID=UTC:20141209T090000
DTSTAMP:20260423T170948
CREATED:20140127T175838Z
LAST-MODIFIED:20140127T175838Z
UID:9654-1418111100-1418115600@parkslopeciviccouncil.org
SUMMARY:Forth on Fourth Avenue Committee Meeting
DESCRIPTION:The FORTH on Fourth Avenue Committee is a group committed to promoting the interests of Fourth Avenue. \nRead more about this very active committee here.
URL:https://parkslopeciviccouncil.org/event/forth-on-fourth-avenue-committee-meeting-16-3/
LOCATION:Fifth Avenue Committee office\, 621 Degraw Street\, Brooklyn\, NY\, 11215\, United States
CATEGORIES:Forth on Fourth Avenue,Fourth Avenue
END:VEVENT
BEGIN:VEVENT
DTSTART;TZID=UTC:20141209T074500
DTEND;TZID=UTC:20141209T090000
DTSTAMP:20260423T170948
CREATED:20140127T175838Z
LAST-MODIFIED:20140127T175838Z
UID:10012-1418111100-1418115600@parkslopeciviccouncil.org
SUMMARY:Forth on Fourth Avenue Committee Meeting
DESCRIPTION:The FORTH on Fourth Avenue Committee is a group committed to promoting the interests of Fourth Avenue. \nRead more about this very active committee here.
URL:https://parkslopeciviccouncil.org/event/forth-on-fourth-avenue-committee-meeting-16-4/
LOCATION:Fifth Avenue Committee office\, 621 Degraw Street\, Brooklyn\, NY\, 11215\, United States
CATEGORIES:Forth on Fourth Avenue,Fourth Avenue
END:VEVENT
BEGIN:VEVENT
DTSTART;TZID=UTC:20141209T074500
DTEND;TZID=UTC:20141209T090000
DTSTAMP:20260423T170948
CREATED:20140127T175838Z
LAST-MODIFIED:20140127T175838Z
UID:10361-1418111100-1418115600@parkslopeciviccouncil.org
SUMMARY:Forth on Fourth Avenue Committee Meeting
DESCRIPTION:The FORTH on Fourth Avenue Committee is a group committed to promoting the interests of Fourth Avenue. \nRead more about this very active committee here.
URL:https://parkslopeciviccouncil.org/event/forth-on-fourth-avenue-committee-meeting-16-5/
LOCATION:Fifth Avenue Committee office\, 621 Degraw Street\, Brooklyn\, NY\, 11215\, United States
CATEGORIES:Forth on Fourth Avenue,Fourth Avenue
END:VEVENT
END:VCALENDAR