BEGIN:VCALENDAR
VERSION:2.0
PRODID:-//Park Slope Civic Council - ECPv6.15.20//NONSGML v1.0//EN
CALSCALE:GREGORIAN
METHOD:PUBLISH
X-WR-CALNAME:Park Slope Civic Council
X-ORIGINAL-URL:https://parkslopeciviccouncil.org
X-WR-CALDESC:Events for Park Slope Civic Council
REFRESH-INTERVAL;VALUE=DURATION:PT1H
X-Robots-Tag:noindex
X-PUBLISHED-TTL:PT1H
BEGIN:VTIMEZONE
TZID:UTC
BEGIN:STANDARD
TZOFFSETFROM:+0000
TZOFFSETTO:+0000
TZNAME:UTC
DTSTART:20130101T000000
END:STANDARD
END:VTIMEZONE
BEGIN:VEVENT
DTSTART;TZID=UTC:20141111T074500
DTEND;TZID=UTC:20141111T090000
DTSTAMP:20260423T215210
CREATED:20140127T175703Z
LAST-MODIFIED:20140127T175703Z
UID:10360-1415691900-1415696400@parkslopeciviccouncil.org
SUMMARY:Forth on Fourth Avenue Committee Meeting
DESCRIPTION:The FORTH on Fourth Avenue Committee is a group committed to promoting the interests of Fourth Avenue. \nRead more about this very active committee here.
URL:https://parkslopeciviccouncil.org/event/forth-on-fourth-avenue-committee-meeting-15-5/
LOCATION:Fifth Avenue Committee office\, 621 Degraw Street\, Brooklyn\, NY\, 11215\, United States
CATEGORIES:Forth on Fourth Avenue,Fourth Avenue
END:VEVENT
BEGIN:VEVENT
DTSTART;TZID=UTC:20141111T074500
DTEND;TZID=UTC:20141111T090000
DTSTAMP:20260423T215210
CREATED:20140127T175703Z
LAST-MODIFIED:20140127T175703Z
UID:10681-1415691900-1415696400@parkslopeciviccouncil.org
SUMMARY:Forth on Fourth Avenue Committee Meeting
DESCRIPTION:The FORTH on Fourth Avenue Committee is a group committed to promoting the interests of Fourth Avenue. \nRead more about this very active committee here.
URL:https://parkslopeciviccouncil.org/event/forth-on-fourth-avenue-committee-meeting-15-6/
LOCATION:Fifth Avenue Committee office\, 621 Degraw Street\, Brooklyn\, NY\, 11215\, United States
CATEGORIES:Forth on Fourth Avenue,Fourth Avenue
END:VEVENT
BEGIN:VEVENT
DTSTART;TZID=UTC:20141111T074500
DTEND;TZID=UTC:20141111T090000
DTSTAMP:20260423T215210
CREATED:20140127T175703Z
LAST-MODIFIED:20140127T175703Z
UID:12166-1415691900-1415696400@parkslopeciviccouncil.org
SUMMARY:Forth on Fourth Avenue Committee Meeting
DESCRIPTION:The FORTH on Fourth Avenue Committee is a group committed to promoting the interests of Fourth Avenue. \nRead more about this very active committee here.
URL:https://parkslopeciviccouncil.org/event/forth-on-fourth-avenue-committee-meeting-15-7/
LOCATION:Fifth Avenue Committee office\, 621 Degraw Street\, Brooklyn\, NY\, 11215\, United States
CATEGORIES:Forth on Fourth Avenue,Fourth Avenue
END:VEVENT
BEGIN:VEVENT
DTSTART;TZID=UTC:20141014T074500
DTEND;TZID=UTC:20141014T090000
DTSTAMP:20260423T215210
CREATED:20140127T175611Z
LAST-MODIFIED:20140127T175611Z
UID:4930-1413272700-1413277200@parkslopeciviccouncil.org
SUMMARY:Forth on Fourth Avenue Committee Meeting
DESCRIPTION:The FORTHonFourth Avenue Committee is a group committed to promoting the interests of Fourth Avenue. \nRead more about this very active committee here.
URL:https://parkslopeciviccouncil.org/event/forth-on-fourth-avenue-committee-meeting-14/
LOCATION:Fifth Avenue Committee office\, 621 Degraw Street\, Brooklyn\, NY\, 11215\, United States
CATEGORIES:Forth on Fourth Avenue,Fourth Avenue
END:VEVENT
BEGIN:VEVENT
DTSTART;TZID=UTC:20141014T074500
DTEND;TZID=UTC:20141014T090000
DTSTAMP:20260423T215210
CREATED:20140127T175611Z
LAST-MODIFIED:20140127T175611Z
UID:9292-1413272700-1413277200@parkslopeciviccouncil.org
SUMMARY:Forth on Fourth Avenue Committee Meeting
DESCRIPTION:The FORTHonFourth Avenue Committee is a group committed to promoting the interests of Fourth Avenue. \nRead more about this very active committee here.
URL:https://parkslopeciviccouncil.org/event/forth-on-fourth-avenue-committee-meeting-14-2/
LOCATION:Fifth Avenue Committee office\, 621 Degraw Street\, Brooklyn\, NY\, 11215\, United States
CATEGORIES:Forth on Fourth Avenue,Fourth Avenue
END:VEVENT
BEGIN:VEVENT
DTSTART;TZID=UTC:20141014T074500
DTEND;TZID=UTC:20141014T090000
DTSTAMP:20260423T215210
CREATED:20140127T175611Z
LAST-MODIFIED:20140127T175611Z
UID:9652-1413272700-1413277200@parkslopeciviccouncil.org
SUMMARY:Forth on Fourth Avenue Committee Meeting
DESCRIPTION:The FORTHonFourth Avenue Committee is a group committed to promoting the interests of Fourth Avenue. \nRead more about this very active committee here.
URL:https://parkslopeciviccouncil.org/event/forth-on-fourth-avenue-committee-meeting-14-3/
LOCATION:Fifth Avenue Committee office\, 621 Degraw Street\, Brooklyn\, NY\, 11215\, United States
CATEGORIES:Forth on Fourth Avenue,Fourth Avenue
END:VEVENT
BEGIN:VEVENT
DTSTART;TZID=UTC:20141014T074500
DTEND;TZID=UTC:20141014T090000
DTSTAMP:20260423T215210
CREATED:20140127T175611Z
LAST-MODIFIED:20140127T175611Z
UID:10010-1413272700-1413277200@parkslopeciviccouncil.org
SUMMARY:Forth on Fourth Avenue Committee Meeting
DESCRIPTION:The FORTHonFourth Avenue Committee is a group committed to promoting the interests of Fourth Avenue. \nRead more about this very active committee here.
URL:https://parkslopeciviccouncil.org/event/forth-on-fourth-avenue-committee-meeting-14-4/
LOCATION:Fifth Avenue Committee office\, 621 Degraw Street\, Brooklyn\, NY\, 11215\, United States
CATEGORIES:Forth on Fourth Avenue,Fourth Avenue
END:VEVENT
BEGIN:VEVENT
DTSTART;TZID=UTC:20141014T074500
DTEND;TZID=UTC:20141014T090000
DTSTAMP:20260423T215210
CREATED:20140127T175611Z
LAST-MODIFIED:20140127T175611Z
UID:10359-1413272700-1413277200@parkslopeciviccouncil.org
SUMMARY:Forth on Fourth Avenue Committee Meeting
DESCRIPTION:The FORTHonFourth Avenue Committee is a group committed to promoting the interests of Fourth Avenue. \nRead more about this very active committee here.
URL:https://parkslopeciviccouncil.org/event/forth-on-fourth-avenue-committee-meeting-14-5/
LOCATION:Fifth Avenue Committee office\, 621 Degraw Street\, Brooklyn\, NY\, 11215\, United States
CATEGORIES:Forth on Fourth Avenue,Fourth Avenue
END:VEVENT
BEGIN:VEVENT
DTSTART;TZID=UTC:20141014T074500
DTEND;TZID=UTC:20141014T090000
DTSTAMP:20260423T215210
CREATED:20140127T175611Z
LAST-MODIFIED:20140127T175611Z
UID:10680-1413272700-1413277200@parkslopeciviccouncil.org
SUMMARY:Forth on Fourth Avenue Committee Meeting
DESCRIPTION:The FORTHonFourth Avenue Committee is a group committed to promoting the interests of Fourth Avenue. \nRead more about this very active committee here.
URL:https://parkslopeciviccouncil.org/event/forth-on-fourth-avenue-committee-meeting-14-6/
LOCATION:Fifth Avenue Committee office\, 621 Degraw Street\, Brooklyn\, NY\, 11215\, United States
CATEGORIES:Forth on Fourth Avenue,Fourth Avenue
END:VEVENT
BEGIN:VEVENT
DTSTART;TZID=UTC:20141014T074500
DTEND;TZID=UTC:20141014T090000
DTSTAMP:20260423T215210
CREATED:20140127T175611Z
LAST-MODIFIED:20140127T175611Z
UID:12165-1413272700-1413277200@parkslopeciviccouncil.org
SUMMARY:Forth on Fourth Avenue Committee Meeting
DESCRIPTION:The FORTHonFourth Avenue Committee is a group committed to promoting the interests of Fourth Avenue. \nRead more about this very active committee here.
URL:https://parkslopeciviccouncil.org/event/forth-on-fourth-avenue-committee-meeting-14-7/
LOCATION:Fifth Avenue Committee office\, 621 Degraw Street\, Brooklyn\, NY\, 11215\, United States
CATEGORIES:Forth on Fourth Avenue,Fourth Avenue
END:VEVENT
BEGIN:VEVENT
DTSTART;TZID=UTC:20140909T074500
DTEND;TZID=UTC:20140909T090000
DTSTAMP:20260423T215210
CREATED:20140127T175512Z
LAST-MODIFIED:20140127T175512Z
UID:9291-1410248700-1410253200@parkslopeciviccouncil.org
SUMMARY:Forth on Fourth Avenue Committee Meeting
DESCRIPTION:The FORTH on Fourth Avenue Committee is a group committed to promoting the interests of Fourth Avenue. \nRead more about this very active committee here.
URL:https://parkslopeciviccouncil.org/event/forth-on-fourth-avenue-committee-meeting-13-2/
LOCATION:Fifth Avenue Committee office\, 621 Degraw Street\, Brooklyn\, NY\, 11215\, United States
CATEGORIES:Forth on Fourth Avenue,Fourth Avenue
END:VEVENT
BEGIN:VEVENT
DTSTART;TZID=UTC:20140909T074500
DTEND;TZID=UTC:20140909T090000
DTSTAMP:20260423T215210
CREATED:20140127T175512Z
LAST-MODIFIED:20140127T175512Z
UID:9651-1410248700-1410253200@parkslopeciviccouncil.org
SUMMARY:Forth on Fourth Avenue Committee Meeting
DESCRIPTION:The FORTH on Fourth Avenue Committee is a group committed to promoting the interests of Fourth Avenue. \nRead more about this very active committee here.
URL:https://parkslopeciviccouncil.org/event/forth-on-fourth-avenue-committee-meeting-13-3/
LOCATION:Fifth Avenue Committee office\, 621 Degraw Street\, Brooklyn\, NY\, 11215\, United States
CATEGORIES:Forth on Fourth Avenue,Fourth Avenue
END:VEVENT
BEGIN:VEVENT
DTSTART;TZID=UTC:20140909T074500
DTEND;TZID=UTC:20140909T090000
DTSTAMP:20260423T215210
CREATED:20140127T175512Z
LAST-MODIFIED:20140127T175512Z
UID:10009-1410248700-1410253200@parkslopeciviccouncil.org
SUMMARY:Forth on Fourth Avenue Committee Meeting
DESCRIPTION:The FORTH on Fourth Avenue Committee is a group committed to promoting the interests of Fourth Avenue. \nRead more about this very active committee here.
URL:https://parkslopeciviccouncil.org/event/forth-on-fourth-avenue-committee-meeting-13-4/
LOCATION:Fifth Avenue Committee office\, 621 Degraw Street\, Brooklyn\, NY\, 11215\, United States
CATEGORIES:Forth on Fourth Avenue,Fourth Avenue
END:VEVENT
BEGIN:VEVENT
DTSTART;TZID=UTC:20140909T074500
DTEND;TZID=UTC:20140909T090000
DTSTAMP:20260423T215210
CREATED:20140127T175512Z
LAST-MODIFIED:20140127T175512Z
UID:10358-1410248700-1410253200@parkslopeciviccouncil.org
SUMMARY:Forth on Fourth Avenue Committee Meeting
DESCRIPTION:The FORTH on Fourth Avenue Committee is a group committed to promoting the interests of Fourth Avenue. \nRead more about this very active committee here.
URL:https://parkslopeciviccouncil.org/event/forth-on-fourth-avenue-committee-meeting-13-5/
LOCATION:Fifth Avenue Committee office\, 621 Degraw Street\, Brooklyn\, NY\, 11215\, United States
CATEGORIES:Forth on Fourth Avenue,Fourth Avenue
END:VEVENT
BEGIN:VEVENT
DTSTART;TZID=UTC:20140909T074500
DTEND;TZID=UTC:20140909T090000
DTSTAMP:20260423T215210
CREATED:20140127T175512Z
LAST-MODIFIED:20140127T175512Z
UID:10679-1410248700-1410253200@parkslopeciviccouncil.org
SUMMARY:Forth on Fourth Avenue Committee Meeting
DESCRIPTION:The FORTH on Fourth Avenue Committee is a group committed to promoting the interests of Fourth Avenue. \nRead more about this very active committee here.
URL:https://parkslopeciviccouncil.org/event/forth-on-fourth-avenue-committee-meeting-13-6/
LOCATION:Fifth Avenue Committee office\, 621 Degraw Street\, Brooklyn\, NY\, 11215\, United States
CATEGORIES:Forth on Fourth Avenue,Fourth Avenue
END:VEVENT
BEGIN:VEVENT
DTSTART;TZID=UTC:20140909T074500
DTEND;TZID=UTC:20140909T090000
DTSTAMP:20260423T215210
CREATED:20140127T175512Z
LAST-MODIFIED:20140127T175512Z
UID:12164-1410248700-1410253200@parkslopeciviccouncil.org
SUMMARY:Forth on Fourth Avenue Committee Meeting
DESCRIPTION:The FORTH on Fourth Avenue Committee is a group committed to promoting the interests of Fourth Avenue. \nRead more about this very active committee here.
URL:https://parkslopeciviccouncil.org/event/forth-on-fourth-avenue-committee-meeting-13-7/
LOCATION:Fifth Avenue Committee office\, 621 Degraw Street\, Brooklyn\, NY\, 11215\, United States
CATEGORIES:Forth on Fourth Avenue,Fourth Avenue
END:VEVENT
BEGIN:VEVENT
DTSTART;TZID=UTC:20140909T074500
DTEND;TZID=UTC:20140909T090000
DTSTAMP:20260423T215210
CREATED:20140127T175512Z
LAST-MODIFIED:20140127T175512Z
UID:4929-1410248700-1410253200@parkslopeciviccouncil.org
SUMMARY:Forth on Fourth Avenue Committee Meeting
DESCRIPTION:The FORTH on Fourth Avenue Committee is a group committed to promoting the interests of Fourth Avenue. \nRead more about this very active committee here.
URL:https://parkslopeciviccouncil.org/event/forth-on-fourth-avenue-committee-meeting-13/
LOCATION:Fifth Avenue Committee office\, 621 Degraw Street\, Brooklyn\, NY\, 11215\, United States
CATEGORIES:Forth on Fourth Avenue,Fourth Avenue
END:VEVENT
BEGIN:VEVENT
DTSTART;TZID=UTC:20140812T074500
DTEND;TZID=UTC:20140812T090000
DTSTAMP:20260423T215210
CREATED:20140127T175357Z
LAST-MODIFIED:20140127T175357Z
UID:10357-1407829500-1407834000@parkslopeciviccouncil.org
SUMMARY:Forth on Fourth Avenue Committee Meeting
DESCRIPTION:The FORTH on Fourth Avenue Committee is a group committed to promoting the interests of Fourth Avenue. \nRead more about this very active committee here.
URL:https://parkslopeciviccouncil.org/event/forth-on-fourth-avenue-committee-meeting-12-5/
LOCATION:Fifth Avenue Committee office\, 621 Degraw Street\, Brooklyn\, NY\, 11215\, United States
CATEGORIES:Forth on Fourth Avenue,Fourth Avenue
END:VEVENT
BEGIN:VEVENT
DTSTART;TZID=UTC:20140812T074500
DTEND;TZID=UTC:20140812T090000
DTSTAMP:20260423T215210
CREATED:20140127T175357Z
LAST-MODIFIED:20140127T175357Z
UID:10678-1407829500-1407834000@parkslopeciviccouncil.org
SUMMARY:Forth on Fourth Avenue Committee Meeting
DESCRIPTION:The FORTH on Fourth Avenue Committee is a group committed to promoting the interests of Fourth Avenue. \nRead more about this very active committee here.
URL:https://parkslopeciviccouncil.org/event/forth-on-fourth-avenue-committee-meeting-12-6/
LOCATION:Fifth Avenue Committee office\, 621 Degraw Street\, Brooklyn\, NY\, 11215\, United States
CATEGORIES:Forth on Fourth Avenue,Fourth Avenue
END:VEVENT
BEGIN:VEVENT
DTSTART;TZID=UTC:20140812T074500
DTEND;TZID=UTC:20140812T090000
DTSTAMP:20260423T215210
CREATED:20140127T175357Z
LAST-MODIFIED:20140127T175357Z
UID:12163-1407829500-1407834000@parkslopeciviccouncil.org
SUMMARY:Forth on Fourth Avenue Committee Meeting
DESCRIPTION:The FORTH on Fourth Avenue Committee is a group committed to promoting the interests of Fourth Avenue. \nRead more about this very active committee here.
URL:https://parkslopeciviccouncil.org/event/forth-on-fourth-avenue-committee-meeting-12-7/
LOCATION:Fifth Avenue Committee office\, 621 Degraw Street\, Brooklyn\, NY\, 11215\, United States
CATEGORIES:Forth on Fourth Avenue,Fourth Avenue
END:VEVENT
BEGIN:VEVENT
DTSTART;TZID=UTC:20140812T074500
DTEND;TZID=UTC:20140812T090000
DTSTAMP:20260423T215210
CREATED:20140127T175357Z
LAST-MODIFIED:20140127T175357Z
UID:4928-1407829500-1407834000@parkslopeciviccouncil.org
SUMMARY:Forth on Fourth Avenue Committee Meeting
DESCRIPTION:The FORTH on Fourth Avenue Committee is a group committed to promoting the interests of Fourth Avenue. \nRead more about this very active committee here.
URL:https://parkslopeciviccouncil.org/event/forth-on-fourth-avenue-committee-meeting-12/
LOCATION:Fifth Avenue Committee office\, 621 Degraw Street\, Brooklyn\, NY\, 11215\, United States
CATEGORIES:Forth on Fourth Avenue,Fourth Avenue
END:VEVENT
BEGIN:VEVENT
DTSTART;TZID=UTC:20140812T074500
DTEND;TZID=UTC:20140812T090000
DTSTAMP:20260423T215210
CREATED:20140127T175357Z
LAST-MODIFIED:20140127T175357Z
UID:9290-1407829500-1407834000@parkslopeciviccouncil.org
SUMMARY:Forth on Fourth Avenue Committee Meeting
DESCRIPTION:The FORTH on Fourth Avenue Committee is a group committed to promoting the interests of Fourth Avenue. \nRead more about this very active committee here.
URL:https://parkslopeciviccouncil.org/event/forth-on-fourth-avenue-committee-meeting-12-2/
LOCATION:Fifth Avenue Committee office\, 621 Degraw Street\, Brooklyn\, NY\, 11215\, United States
CATEGORIES:Forth on Fourth Avenue,Fourth Avenue
END:VEVENT
BEGIN:VEVENT
DTSTART;TZID=UTC:20140812T074500
DTEND;TZID=UTC:20140812T090000
DTSTAMP:20260423T215210
CREATED:20140127T175357Z
LAST-MODIFIED:20140127T175357Z
UID:9650-1407829500-1407834000@parkslopeciviccouncil.org
SUMMARY:Forth on Fourth Avenue Committee Meeting
DESCRIPTION:The FORTH on Fourth Avenue Committee is a group committed to promoting the interests of Fourth Avenue. \nRead more about this very active committee here.
URL:https://parkslopeciviccouncil.org/event/forth-on-fourth-avenue-committee-meeting-12-3/
LOCATION:Fifth Avenue Committee office\, 621 Degraw Street\, Brooklyn\, NY\, 11215\, United States
CATEGORIES:Forth on Fourth Avenue,Fourth Avenue
END:VEVENT
BEGIN:VEVENT
DTSTART;TZID=UTC:20140812T074500
DTEND;TZID=UTC:20140812T090000
DTSTAMP:20260423T215210
CREATED:20140127T175357Z
LAST-MODIFIED:20140127T175357Z
UID:10008-1407829500-1407834000@parkslopeciviccouncil.org
SUMMARY:Forth on Fourth Avenue Committee Meeting
DESCRIPTION:The FORTH on Fourth Avenue Committee is a group committed to promoting the interests of Fourth Avenue. \nRead more about this very active committee here.
URL:https://parkslopeciviccouncil.org/event/forth-on-fourth-avenue-committee-meeting-12-4/
LOCATION:Fifth Avenue Committee office\, 621 Degraw Street\, Brooklyn\, NY\, 11215\, United States
CATEGORIES:Forth on Fourth Avenue,Fourth Avenue
END:VEVENT
BEGIN:VEVENT
DTSTART;TZID=UTC:20140708T074500
DTEND;TZID=UTC:20140708T090000
DTSTAMP:20260423T215210
CREATED:20140127T175202Z
LAST-MODIFIED:20140127T175202Z
UID:4927-1404805500-1404810000@parkslopeciviccouncil.org
SUMMARY:Forth on Fourth Avenue Committee Meeting
DESCRIPTION:The FORTH on Fourth Avenue Committee is a group committed to promoting the interests of Fourth Avenue. \nRead more about this very active committee here.
URL:https://parkslopeciviccouncil.org/event/forth-on-fourth-avenue-committee-meeting-11/
LOCATION:Fifth Avenue Committee office\, 621 Degraw Street\, Brooklyn\, NY\, 11215\, United States
CATEGORIES:Forth on Fourth Avenue,Fourth Avenue
END:VEVENT
BEGIN:VEVENT
DTSTART;TZID=UTC:20140708T074500
DTEND;TZID=UTC:20140708T090000
DTSTAMP:20260423T215210
CREATED:20140127T175202Z
LAST-MODIFIED:20140127T175202Z
UID:9289-1404805500-1404810000@parkslopeciviccouncil.org
SUMMARY:Forth on Fourth Avenue Committee Meeting
DESCRIPTION:The FORTH on Fourth Avenue Committee is a group committed to promoting the interests of Fourth Avenue. \nRead more about this very active committee here.
URL:https://parkslopeciviccouncil.org/event/forth-on-fourth-avenue-committee-meeting-11-2/
LOCATION:Fifth Avenue Committee office\, 621 Degraw Street\, Brooklyn\, NY\, 11215\, United States
CATEGORIES:Forth on Fourth Avenue,Fourth Avenue
END:VEVENT
BEGIN:VEVENT
DTSTART;TZID=UTC:20140708T074500
DTEND;TZID=UTC:20140708T090000
DTSTAMP:20260423T215210
CREATED:20140127T175202Z
LAST-MODIFIED:20140127T175202Z
UID:9649-1404805500-1404810000@parkslopeciviccouncil.org
SUMMARY:Forth on Fourth Avenue Committee Meeting
DESCRIPTION:The FORTH on Fourth Avenue Committee is a group committed to promoting the interests of Fourth Avenue. \nRead more about this very active committee here.
URL:https://parkslopeciviccouncil.org/event/forth-on-fourth-avenue-committee-meeting-11-3/
LOCATION:Fifth Avenue Committee office\, 621 Degraw Street\, Brooklyn\, NY\, 11215\, United States
CATEGORIES:Forth on Fourth Avenue,Fourth Avenue
END:VEVENT
BEGIN:VEVENT
DTSTART;TZID=UTC:20140708T074500
DTEND;TZID=UTC:20140708T090000
DTSTAMP:20260423T215210
CREATED:20140127T175202Z
LAST-MODIFIED:20140127T175202Z
UID:10007-1404805500-1404810000@parkslopeciviccouncil.org
SUMMARY:Forth on Fourth Avenue Committee Meeting
DESCRIPTION:The FORTH on Fourth Avenue Committee is a group committed to promoting the interests of Fourth Avenue. \nRead more about this very active committee here.
URL:https://parkslopeciviccouncil.org/event/forth-on-fourth-avenue-committee-meeting-11-4/
LOCATION:Fifth Avenue Committee office\, 621 Degraw Street\, Brooklyn\, NY\, 11215\, United States
CATEGORIES:Forth on Fourth Avenue,Fourth Avenue
END:VEVENT
BEGIN:VEVENT
DTSTART;TZID=UTC:20140708T074500
DTEND;TZID=UTC:20140708T090000
DTSTAMP:20260423T215210
CREATED:20140127T175202Z
LAST-MODIFIED:20140127T175202Z
UID:10356-1404805500-1404810000@parkslopeciviccouncil.org
SUMMARY:Forth on Fourth Avenue Committee Meeting
DESCRIPTION:The FORTH on Fourth Avenue Committee is a group committed to promoting the interests of Fourth Avenue. \nRead more about this very active committee here.
URL:https://parkslopeciviccouncil.org/event/forth-on-fourth-avenue-committee-meeting-11-5/
LOCATION:Fifth Avenue Committee office\, 621 Degraw Street\, Brooklyn\, NY\, 11215\, United States
CATEGORIES:Forth on Fourth Avenue,Fourth Avenue
END:VEVENT
BEGIN:VEVENT
DTSTART;TZID=UTC:20140708T074500
DTEND;TZID=UTC:20140708T090000
DTSTAMP:20260423T215210
CREATED:20140127T175202Z
LAST-MODIFIED:20140127T175202Z
UID:10677-1404805500-1404810000@parkslopeciviccouncil.org
SUMMARY:Forth on Fourth Avenue Committee Meeting
DESCRIPTION:The FORTH on Fourth Avenue Committee is a group committed to promoting the interests of Fourth Avenue. \nRead more about this very active committee here.
URL:https://parkslopeciviccouncil.org/event/forth-on-fourth-avenue-committee-meeting-11-6/
LOCATION:Fifth Avenue Committee office\, 621 Degraw Street\, Brooklyn\, NY\, 11215\, United States
CATEGORIES:Forth on Fourth Avenue,Fourth Avenue
END:VEVENT
END:VCALENDAR