BEGIN:VCALENDAR
VERSION:2.0
PRODID:-//Park Slope Civic Council - ECPv6.15.20//NONSGML v1.0//EN
CALSCALE:GREGORIAN
METHOD:PUBLISH
X-WR-CALNAME:Park Slope Civic Council
X-ORIGINAL-URL:https://parkslopeciviccouncil.org
X-WR-CALDESC:Events for Park Slope Civic Council
REFRESH-INTERVAL;VALUE=DURATION:PT1H
X-Robots-Tag:noindex
X-PUBLISHED-TTL:PT1H
BEGIN:VTIMEZONE
TZID:UTC
BEGIN:STANDARD
TZOFFSETFROM:+0000
TZOFFSETTO:+0000
TZNAME:UTC
DTSTART:20120101T000000
END:STANDARD
END:VTIMEZONE
BEGIN:VEVENT
DTSTART;TZID=UTC:20140311T074500
DTEND;TZID=UTC:20140311T090000
DTSTAMP:20260424T195430
CREATED:20140127T172357Z
LAST-MODIFIED:20140127T172357Z
UID:4921-1394523900-1394528400@parkslopeciviccouncil.org
SUMMARY:Forth on Fourth Avenue Committee Meeting
DESCRIPTION:The FORTH on Fourth Avenue Committee is a group committed to promoting the interests of Fourth Avenue. \nRead more about this very active committee here.
URL:https://parkslopeciviccouncil.org/event/forth-on-fourth-avenue-committee-meeting-7/
LOCATION:Fifth Avenue Committee office\, 621 Degraw Street\, Brooklyn\, NY\, 11215\, United States
CATEGORIES:Forth on Fourth Avenue,Fourth Avenue
END:VEVENT
BEGIN:VEVENT
DTSTART;TZID=UTC:20140311T074500
DTEND;TZID=UTC:20140311T090000
DTSTAMP:20260424T195430
CREATED:20140127T172357Z
LAST-MODIFIED:20140127T172357Z
UID:12158-1394523900-1394528400@parkslopeciviccouncil.org
SUMMARY:Forth on Fourth Avenue Committee Meeting
DESCRIPTION:The FORTH on Fourth Avenue Committee is a group committed to promoting the interests of Fourth Avenue. \nRead more about this very active committee here.
URL:https://parkslopeciviccouncil.org/event/forth-on-fourth-avenue-committee-meeting-7-7/
LOCATION:Fifth Avenue Committee office\, 621 Degraw Street\, Brooklyn\, NY\, 11215\, United States
CATEGORIES:Forth on Fourth Avenue,Fourth Avenue
END:VEVENT
BEGIN:VEVENT
DTSTART;TZID=UTC:20140311T074500
DTEND;TZID=UTC:20140311T090000
DTSTAMP:20260424T195430
CREATED:20140127T172357Z
LAST-MODIFIED:20140127T172357Z
UID:9285-1394523900-1394528400@parkslopeciviccouncil.org
SUMMARY:Forth on Fourth Avenue Committee Meeting
DESCRIPTION:The FORTH on Fourth Avenue Committee is a group committed to promoting the interests of Fourth Avenue. \nRead more about this very active committee here.
URL:https://parkslopeciviccouncil.org/event/forth-on-fourth-avenue-committee-meeting-7-2/
LOCATION:Fifth Avenue Committee office\, 621 Degraw Street\, Brooklyn\, NY\, 11215\, United States
CATEGORIES:Forth on Fourth Avenue,Fourth Avenue
END:VEVENT
BEGIN:VEVENT
DTSTART;TZID=UTC:20140311T074500
DTEND;TZID=UTC:20140311T090000
DTSTAMP:20260424T195430
CREATED:20140127T172357Z
LAST-MODIFIED:20140127T172357Z
UID:9645-1394523900-1394528400@parkslopeciviccouncil.org
SUMMARY:Forth on Fourth Avenue Committee Meeting
DESCRIPTION:The FORTH on Fourth Avenue Committee is a group committed to promoting the interests of Fourth Avenue. \nRead more about this very active committee here.
URL:https://parkslopeciviccouncil.org/event/forth-on-fourth-avenue-committee-meeting-7-3/
LOCATION:Fifth Avenue Committee office\, 621 Degraw Street\, Brooklyn\, NY\, 11215\, United States
CATEGORIES:Forth on Fourth Avenue,Fourth Avenue
END:VEVENT
BEGIN:VEVENT
DTSTART;TZID=UTC:20140311T074500
DTEND;TZID=UTC:20140311T090000
DTSTAMP:20260424T195430
CREATED:20140127T172357Z
LAST-MODIFIED:20140127T172357Z
UID:10003-1394523900-1394528400@parkslopeciviccouncil.org
SUMMARY:Forth on Fourth Avenue Committee Meeting
DESCRIPTION:The FORTH on Fourth Avenue Committee is a group committed to promoting the interests of Fourth Avenue. \nRead more about this very active committee here.
URL:https://parkslopeciviccouncil.org/event/forth-on-fourth-avenue-committee-meeting-7-4/
LOCATION:Fifth Avenue Committee office\, 621 Degraw Street\, Brooklyn\, NY\, 11215\, United States
CATEGORIES:Forth on Fourth Avenue,Fourth Avenue
END:VEVENT
BEGIN:VEVENT
DTSTART;TZID=UTC:20130922T110000
DTEND;TZID=UTC:20130922T123000
DTSTAMP:20260424T195430
CREATED:20130913T205021Z
LAST-MODIFIED:20130913T205021Z
UID:10658-1379847600-1379853000@parkslopeciviccouncil.org
SUMMARY:Sub-Irrigated Planter (SIP) Workshop
DESCRIPTION:
URL:https://parkslopeciviccouncil.org/event/sub-irrigated-planter-sip-workshop-6/
LOCATION:Warren | St. Marks Community Garden\, Warren Street and St. Marks Place and 4th and 5th Avenues\, Brooklyn\, NY
CATEGORIES:Community,Forth on Fourth Avenue,Fourth Avenue,Livable Streets,Sustainability
END:VEVENT
BEGIN:VEVENT
DTSTART;TZID=UTC:20130922T110000
DTEND;TZID=UTC:20130922T123000
DTSTAMP:20260424T195430
CREATED:20130913T205021Z
LAST-MODIFIED:20130913T205021Z
UID:4788-1379847600-1379853000@parkslopeciviccouncil.org
SUMMARY:Sub-Irrigated Planter (SIP) Workshop
DESCRIPTION:
URL:https://parkslopeciviccouncil.org/event/sub-irrigated-planter-sip-workshop/
LOCATION:Warren | St. Marks Community Garden\, Warren Street and St. Marks Place and 4th and 5th Avenues\, Brooklyn\, NY
CATEGORIES:Community,Forth on Fourth Avenue,Fourth Avenue,Livable Streets,Sustainability
END:VEVENT
BEGIN:VEVENT
DTSTART;TZID=UTC:20130922T110000
DTEND;TZID=UTC:20130922T123000
DTSTAMP:20260424T195430
CREATED:20130913T205021Z
LAST-MODIFIED:20130913T205021Z
UID:12143-1379847600-1379853000@parkslopeciviccouncil.org
SUMMARY:Sub-Irrigated Planter (SIP) Workshop
DESCRIPTION:
URL:https://parkslopeciviccouncil.org/event/sub-irrigated-planter-sip-workshop-7/
LOCATION:Warren | St. Marks Community Garden\, Warren Street and St. Marks Place and 4th and 5th Avenues\, Brooklyn\, NY
CATEGORIES:Community,Forth on Fourth Avenue,Fourth Avenue,Livable Streets,Sustainability
END:VEVENT
BEGIN:VEVENT
DTSTART;TZID=UTC:20130922T110000
DTEND;TZID=UTC:20130922T123000
DTSTAMP:20260424T195430
CREATED:20130913T205021Z
LAST-MODIFIED:20130913T205021Z
UID:9270-1379847600-1379853000@parkslopeciviccouncil.org
SUMMARY:Sub-Irrigated Planter (SIP) Workshop
DESCRIPTION:
URL:https://parkslopeciviccouncil.org/event/sub-irrigated-planter-sip-workshop-2/
LOCATION:Warren | St. Marks Community Garden\, Warren Street and St. Marks Place and 4th and 5th Avenues\, Brooklyn\, NY
CATEGORIES:Community,Forth on Fourth Avenue,Fourth Avenue,Livable Streets,Sustainability
END:VEVENT
BEGIN:VEVENT
DTSTART;TZID=UTC:20130922T110000
DTEND;TZID=UTC:20130922T123000
DTSTAMP:20260424T195430
CREATED:20130913T205021Z
LAST-MODIFIED:20130913T205021Z
UID:9630-1379847600-1379853000@parkslopeciviccouncil.org
SUMMARY:Sub-Irrigated Planter (SIP) Workshop
DESCRIPTION:
URL:https://parkslopeciviccouncil.org/event/sub-irrigated-planter-sip-workshop-3/
LOCATION:Warren | St. Marks Community Garden\, Warren Street and St. Marks Place and 4th and 5th Avenues\, Brooklyn\, NY
CATEGORIES:Community,Forth on Fourth Avenue,Fourth Avenue,Livable Streets,Sustainability
END:VEVENT
BEGIN:VEVENT
DTSTART;TZID=UTC:20130922T110000
DTEND;TZID=UTC:20130922T123000
DTSTAMP:20260424T195430
CREATED:20130913T205021Z
LAST-MODIFIED:20130913T205021Z
UID:9988-1379847600-1379853000@parkslopeciviccouncil.org
SUMMARY:Sub-Irrigated Planter (SIP) Workshop
DESCRIPTION:
URL:https://parkslopeciviccouncil.org/event/sub-irrigated-planter-sip-workshop-4/
LOCATION:Warren | St. Marks Community Garden\, Warren Street and St. Marks Place and 4th and 5th Avenues\, Brooklyn\, NY
CATEGORIES:Community,Forth on Fourth Avenue,Fourth Avenue,Livable Streets,Sustainability
END:VEVENT
BEGIN:VEVENT
DTSTART;TZID=UTC:20130922T110000
DTEND;TZID=UTC:20130922T123000
DTSTAMP:20260424T195430
CREATED:20130913T205021Z
LAST-MODIFIED:20130913T205021Z
UID:10337-1379847600-1379853000@parkslopeciviccouncil.org
SUMMARY:Sub-Irrigated Planter (SIP) Workshop
DESCRIPTION:
URL:https://parkslopeciviccouncil.org/event/sub-irrigated-planter-sip-workshop-5/
LOCATION:Warren | St. Marks Community Garden\, Warren Street and St. Marks Place and 4th and 5th Avenues\, Brooklyn\, NY
CATEGORIES:Community,Forth on Fourth Avenue,Fourth Avenue,Livable Streets,Sustainability
END:VEVENT
BEGIN:VEVENT
DTSTART;TZID=UTC:20130409T183000
DTEND;TZID=UTC:20130409T200000
DTSTAMP:20260424T195430
CREATED:20130320T194550Z
LAST-MODIFIED:20130320T194550Z
UID:12132-1365532200-1365537600@parkslopeciviccouncil.org
SUMMARY:Fourth Avenue Open House: New Design Ideas
DESCRIPTION:The city’s Department of Transportation\, Brooklyn Borough President Marty Markowitz\, and the Fourth Avenue Task Force are hosting an open house where you can review some new design concepts for Fourth Avenue between Pacific and 15th Streets in Park Slope and provide feedback. \nThis open house follows a successful public workshop in February where community members discussed the future of Fourth Avenue. The Park Slope Civic Council’s Forth on Fourth Avenue Committee played an important role in that workshop\, both by holding a planning session before the event and generating enthusiasm for the event. \nDOT has been conducting a year-long assessment of traffic safety along the length of Fourth Avenue\, from Atlantic Avenue to Bay Ridge\, and has begun to implement changes\, based on community input from neighborhoods in Bay Ridge and Sunset Park. \n 
URL:https://parkslopeciviccouncil.org/event/fourth-avenue-open-house-new-design-ideas-7/
LOCATION:St. Thomas Aquinas Church\, Parish Hall\, 249 9th St.\, Brooklyn\, NY\, 11215\, United States
CATEGORIES:Forth on Fourth Avenue,Fourth Avenue
END:VEVENT
BEGIN:VEVENT
DTSTART;TZID=UTC:20130409T183000
DTEND;TZID=UTC:20130409T200000
DTSTAMP:20260424T195430
CREATED:20130320T194550Z
LAST-MODIFIED:20130320T194550Z
UID:9259-1365532200-1365537600@parkslopeciviccouncil.org
SUMMARY:Fourth Avenue Open House: New Design Ideas
DESCRIPTION:The city’s Department of Transportation\, Brooklyn Borough President Marty Markowitz\, and the Fourth Avenue Task Force are hosting an open house where you can review some new design concepts for Fourth Avenue between Pacific and 15th Streets in Park Slope and provide feedback. \nThis open house follows a successful public workshop in February where community members discussed the future of Fourth Avenue. The Park Slope Civic Council’s Forth on Fourth Avenue Committee played an important role in that workshop\, both by holding a planning session before the event and generating enthusiasm for the event. \nDOT has been conducting a year-long assessment of traffic safety along the length of Fourth Avenue\, from Atlantic Avenue to Bay Ridge\, and has begun to implement changes\, based on community input from neighborhoods in Bay Ridge and Sunset Park. \n 
URL:https://parkslopeciviccouncil.org/event/fourth-avenue-open-house-new-design-ideas-2/
LOCATION:St. Thomas Aquinas Church\, Parish Hall\, 249 9th St.\, Brooklyn\, NY\, 11215\, United States
CATEGORIES:Forth on Fourth Avenue,Fourth Avenue
END:VEVENT
BEGIN:VEVENT
DTSTART;TZID=UTC:20130409T183000
DTEND;TZID=UTC:20130409T200000
DTSTAMP:20260424T195430
CREATED:20130320T194550Z
LAST-MODIFIED:20130320T194550Z
UID:9619-1365532200-1365537600@parkslopeciviccouncil.org
SUMMARY:Fourth Avenue Open House: New Design Ideas
DESCRIPTION:The city’s Department of Transportation\, Brooklyn Borough President Marty Markowitz\, and the Fourth Avenue Task Force are hosting an open house where you can review some new design concepts for Fourth Avenue between Pacific and 15th Streets in Park Slope and provide feedback. \nThis open house follows a successful public workshop in February where community members discussed the future of Fourth Avenue. The Park Slope Civic Council’s Forth on Fourth Avenue Committee played an important role in that workshop\, both by holding a planning session before the event and generating enthusiasm for the event. \nDOT has been conducting a year-long assessment of traffic safety along the length of Fourth Avenue\, from Atlantic Avenue to Bay Ridge\, and has begun to implement changes\, based on community input from neighborhoods in Bay Ridge and Sunset Park. \n 
URL:https://parkslopeciviccouncil.org/event/fourth-avenue-open-house-new-design-ideas-3/
LOCATION:St. Thomas Aquinas Church\, Parish Hall\, 249 9th St.\, Brooklyn\, NY\, 11215\, United States
CATEGORIES:Forth on Fourth Avenue,Fourth Avenue
END:VEVENT
BEGIN:VEVENT
DTSTART;TZID=UTC:20130409T183000
DTEND;TZID=UTC:20130409T200000
DTSTAMP:20260424T195430
CREATED:20130320T194550Z
LAST-MODIFIED:20130320T194550Z
UID:9977-1365532200-1365537600@parkslopeciviccouncil.org
SUMMARY:Fourth Avenue Open House: New Design Ideas
DESCRIPTION:The city’s Department of Transportation\, Brooklyn Borough President Marty Markowitz\, and the Fourth Avenue Task Force are hosting an open house where you can review some new design concepts for Fourth Avenue between Pacific and 15th Streets in Park Slope and provide feedback. \nThis open house follows a successful public workshop in February where community members discussed the future of Fourth Avenue. The Park Slope Civic Council’s Forth on Fourth Avenue Committee played an important role in that workshop\, both by holding a planning session before the event and generating enthusiasm for the event. \nDOT has been conducting a year-long assessment of traffic safety along the length of Fourth Avenue\, from Atlantic Avenue to Bay Ridge\, and has begun to implement changes\, based on community input from neighborhoods in Bay Ridge and Sunset Park. \n 
URL:https://parkslopeciviccouncil.org/event/fourth-avenue-open-house-new-design-ideas-4/
LOCATION:St. Thomas Aquinas Church\, Parish Hall\, 249 9th St.\, Brooklyn\, NY\, 11215\, United States
CATEGORIES:Forth on Fourth Avenue,Fourth Avenue
END:VEVENT
BEGIN:VEVENT
DTSTART;TZID=UTC:20130409T183000
DTEND;TZID=UTC:20130409T200000
DTSTAMP:20260424T195430
CREATED:20130320T194550Z
LAST-MODIFIED:20130320T194550Z
UID:10326-1365532200-1365537600@parkslopeciviccouncil.org
SUMMARY:Fourth Avenue Open House: New Design Ideas
DESCRIPTION:The city’s Department of Transportation\, Brooklyn Borough President Marty Markowitz\, and the Fourth Avenue Task Force are hosting an open house where you can review some new design concepts for Fourth Avenue between Pacific and 15th Streets in Park Slope and provide feedback. \nThis open house follows a successful public workshop in February where community members discussed the future of Fourth Avenue. The Park Slope Civic Council’s Forth on Fourth Avenue Committee played an important role in that workshop\, both by holding a planning session before the event and generating enthusiasm for the event. \nDOT has been conducting a year-long assessment of traffic safety along the length of Fourth Avenue\, from Atlantic Avenue to Bay Ridge\, and has begun to implement changes\, based on community input from neighborhoods in Bay Ridge and Sunset Park. \n 
URL:https://parkslopeciviccouncil.org/event/fourth-avenue-open-house-new-design-ideas-5/
LOCATION:St. Thomas Aquinas Church\, Parish Hall\, 249 9th St.\, Brooklyn\, NY\, 11215\, United States
CATEGORIES:Forth on Fourth Avenue,Fourth Avenue
END:VEVENT
BEGIN:VEVENT
DTSTART;TZID=UTC:20130409T183000
DTEND;TZID=UTC:20130409T200000
DTSTAMP:20260424T195430
CREATED:20130320T194550Z
LAST-MODIFIED:20130320T194550Z
UID:10647-1365532200-1365537600@parkslopeciviccouncil.org
SUMMARY:Fourth Avenue Open House: New Design Ideas
DESCRIPTION:The city’s Department of Transportation\, Brooklyn Borough President Marty Markowitz\, and the Fourth Avenue Task Force are hosting an open house where you can review some new design concepts for Fourth Avenue between Pacific and 15th Streets in Park Slope and provide feedback. \nThis open house follows a successful public workshop in February where community members discussed the future of Fourth Avenue. The Park Slope Civic Council’s Forth on Fourth Avenue Committee played an important role in that workshop\, both by holding a planning session before the event and generating enthusiasm for the event. \nDOT has been conducting a year-long assessment of traffic safety along the length of Fourth Avenue\, from Atlantic Avenue to Bay Ridge\, and has begun to implement changes\, based on community input from neighborhoods in Bay Ridge and Sunset Park. \n 
URL:https://parkslopeciviccouncil.org/event/fourth-avenue-open-house-new-design-ideas-6/
LOCATION:St. Thomas Aquinas Church\, Parish Hall\, 249 9th St.\, Brooklyn\, NY\, 11215\, United States
CATEGORIES:Forth on Fourth Avenue,Fourth Avenue
END:VEVENT
BEGIN:VEVENT
DTSTART;TZID=UTC:20130409T183000
DTEND;TZID=UTC:20130409T200000
DTSTAMP:20260424T195430
CREATED:20130320T194550Z
LAST-MODIFIED:20130320T194550Z
UID:4183-1365532200-1365537600@parkslopeciviccouncil.org
SUMMARY:Fourth Avenue Open House: New Design Ideas
DESCRIPTION:The city’s Department of Transportation\, Brooklyn Borough President Marty Markowitz\, and the Fourth Avenue Task Force are hosting an open house where you can review some new design concepts for Fourth Avenue between Pacific and 15th Streets in Park Slope and provide feedback. \nThis open house follows a successful public workshop in February where community members discussed the future of Fourth Avenue. The Park Slope Civic Council’s Forth on Fourth Avenue Committee played an important role in that workshop\, both by holding a planning session before the event and generating enthusiasm for the event. \nDOT has been conducting a year-long assessment of traffic safety along the length of Fourth Avenue\, from Atlantic Avenue to Bay Ridge\, and has begun to implement changes\, based on community input from neighborhoods in Bay Ridge and Sunset Park. \n 
URL:https://parkslopeciviccouncil.org/event/fourth-avenue-open-house-new-design-ideas/
LOCATION:St. Thomas Aquinas Church\, Parish Hall\, 249 9th St.\, Brooklyn\, NY\, 11215\, United States
CATEGORIES:Forth on Fourth Avenue,Fourth Avenue
END:VEVENT
BEGIN:VEVENT
DTSTART;TZID=UTC:20130212T190000
DTEND;TZID=UTC:20130212T210000
DTSTAMP:20260424T195430
CREATED:20130114T142639Z
LAST-MODIFIED:20130114T142639Z
UID:9612-1360695600-1360702800@parkslopeciviccouncil.org
SUMMARY:Fourth Avenue Safety Visioning Workshop
DESCRIPTION:This workshop will focus on Fourth Avenue from Pacific Street to 15th Street. The goals of this meeting are to: \n\nIdentify street safety concerns\nGather input\nDiscuss street design solutions\nDiscuss ways to improve Fourth Avenue\n\nRead more about this meeting — and the Civic Council’s planning session that precedes it in January — here.
URL:https://parkslopeciviccouncil.org/event/fourth-avenue-safety-visioning-workshop-3/
LOCATION:St. Thomas Aquinas Church\, Parish Hall\, 249 9th St.\, Brooklyn\, NY\, 11215\, United States
CATEGORIES:Forth on Fourth Avenue,Fourth Avenue
END:VEVENT
BEGIN:VEVENT
DTSTART;TZID=UTC:20130212T190000
DTEND;TZID=UTC:20130212T210000
DTSTAMP:20260424T195430
CREATED:20130114T142639Z
LAST-MODIFIED:20130114T142639Z
UID:9970-1360695600-1360702800@parkslopeciviccouncil.org
SUMMARY:Fourth Avenue Safety Visioning Workshop
DESCRIPTION:This workshop will focus on Fourth Avenue from Pacific Street to 15th Street. The goals of this meeting are to: \n\nIdentify street safety concerns\nGather input\nDiscuss street design solutions\nDiscuss ways to improve Fourth Avenue\n\nRead more about this meeting — and the Civic Council’s planning session that precedes it in January — here.
URL:https://parkslopeciviccouncil.org/event/fourth-avenue-safety-visioning-workshop-4/
LOCATION:St. Thomas Aquinas Church\, Parish Hall\, 249 9th St.\, Brooklyn\, NY\, 11215\, United States
CATEGORIES:Forth on Fourth Avenue,Fourth Avenue
END:VEVENT
BEGIN:VEVENT
DTSTART;TZID=UTC:20130212T190000
DTEND;TZID=UTC:20130212T210000
DTSTAMP:20260424T195430
CREATED:20130114T142639Z
LAST-MODIFIED:20130114T142639Z
UID:10319-1360695600-1360702800@parkslopeciviccouncil.org
SUMMARY:Fourth Avenue Safety Visioning Workshop
DESCRIPTION:This workshop will focus on Fourth Avenue from Pacific Street to 15th Street. The goals of this meeting are to: \n\nIdentify street safety concerns\nGather input\nDiscuss street design solutions\nDiscuss ways to improve Fourth Avenue\n\nRead more about this meeting — and the Civic Council’s planning session that precedes it in January — here.
URL:https://parkslopeciviccouncil.org/event/fourth-avenue-safety-visioning-workshop-5/
LOCATION:St. Thomas Aquinas Church\, Parish Hall\, 249 9th St.\, Brooklyn\, NY\, 11215\, United States
CATEGORIES:Forth on Fourth Avenue,Fourth Avenue
END:VEVENT
BEGIN:VEVENT
DTSTART;TZID=UTC:20130212T190000
DTEND;TZID=UTC:20130212T210000
DTSTAMP:20260424T195430
CREATED:20130114T142639Z
LAST-MODIFIED:20130114T142639Z
UID:10640-1360695600-1360702800@parkslopeciviccouncil.org
SUMMARY:Fourth Avenue Safety Visioning Workshop
DESCRIPTION:This workshop will focus on Fourth Avenue from Pacific Street to 15th Street. The goals of this meeting are to: \n\nIdentify street safety concerns\nGather input\nDiscuss street design solutions\nDiscuss ways to improve Fourth Avenue\n\nRead more about this meeting — and the Civic Council’s planning session that precedes it in January — here.
URL:https://parkslopeciviccouncil.org/event/fourth-avenue-safety-visioning-workshop-6/
LOCATION:St. Thomas Aquinas Church\, Parish Hall\, 249 9th St.\, Brooklyn\, NY\, 11215\, United States
CATEGORIES:Forth on Fourth Avenue,Fourth Avenue
END:VEVENT
BEGIN:VEVENT
DTSTART;TZID=UTC:20130212T190000
DTEND;TZID=UTC:20130212T210000
DTSTAMP:20260424T195430
CREATED:20130114T142639Z
LAST-MODIFIED:20130114T142639Z
UID:3857-1360695600-1360702800@parkslopeciviccouncil.org
SUMMARY:Fourth Avenue Safety Visioning Workshop
DESCRIPTION:This workshop will focus on Fourth Avenue from Pacific Street to 15th Street. The goals of this meeting are to: \n\nIdentify street safety concerns\nGather input\nDiscuss street design solutions\nDiscuss ways to improve Fourth Avenue\n\nRead more about this meeting — and the Civic Council’s planning session that precedes it in January — here.
URL:https://parkslopeciviccouncil.org/event/fourth-avenue-safety-visioning-workshop/
LOCATION:St. Thomas Aquinas Church\, Parish Hall\, 249 9th St.\, Brooklyn\, NY\, 11215\, United States
CATEGORIES:Forth on Fourth Avenue,Fourth Avenue
END:VEVENT
BEGIN:VEVENT
DTSTART;TZID=UTC:20130212T190000
DTEND;TZID=UTC:20130212T210000
DTSTAMP:20260424T195430
CREATED:20130114T142639Z
LAST-MODIFIED:20130114T142639Z
UID:12125-1360695600-1360702800@parkslopeciviccouncil.org
SUMMARY:Fourth Avenue Safety Visioning Workshop
DESCRIPTION:This workshop will focus on Fourth Avenue from Pacific Street to 15th Street. The goals of this meeting are to: \n\nIdentify street safety concerns\nGather input\nDiscuss street design solutions\nDiscuss ways to improve Fourth Avenue\n\nRead more about this meeting — and the Civic Council\’s planning session that precedes it in January — here.
URL:https://parkslopeciviccouncil.org/event/fourth-avenue-safety-visioning-workshop-7/
LOCATION:St. Thomas Aquinas Church\, Parish Hall\, 249 9th St.\, Brooklyn\, NY\, 11215\, United States
CATEGORIES:Forth on Fourth Avenue,Fourth Avenue
END:VEVENT
BEGIN:VEVENT
DTSTART;TZID=UTC:20130212T190000
DTEND;TZID=UTC:20130212T210000
DTSTAMP:20260424T195430
CREATED:20130114T142639Z
LAST-MODIFIED:20130114T142639Z
UID:9252-1360695600-1360702800@parkslopeciviccouncil.org
SUMMARY:Fourth Avenue Safety Visioning Workshop
DESCRIPTION:This workshop will focus on Fourth Avenue from Pacific Street to 15th Street. The goals of this meeting are to: \n\nIdentify street safety concerns\nGather input\nDiscuss street design solutions\nDiscuss ways to improve Fourth Avenue\n\nRead more about this meeting — and the Civic Council’s planning session that precedes it in January — here.
URL:https://parkslopeciviccouncil.org/event/fourth-avenue-safety-visioning-workshop-2/
LOCATION:St. Thomas Aquinas Church\, Parish Hall\, 249 9th St.\, Brooklyn\, NY\, 11215\, United States
CATEGORIES:Forth on Fourth Avenue,Fourth Avenue
END:VEVENT
BEGIN:VEVENT
DTSTART;TZID=UTC:20130123T183000
DTEND;TZID=UTC:20130123T200000
DTSTAMP:20260424T195431
CREATED:20130104T152102Z
LAST-MODIFIED:20130104T152102Z
UID:9969-1358965800-1358971200@parkslopeciviccouncil.org
SUMMARY:FOFA Community Meeting on Fourth Avenue Traffic Issues
DESCRIPTION:In February\, the city’s Department of Transportation\, Brooklyn Borough President Marty Markowitz\, and the Fourth Avenue Task Force will host a public workshop to explore Fourth Avenue’s future. To help take full advantage of the workshop\, the Park Slope Civic Council’s Forth on Fourth Avenue Committee is holding a planning session in January for all members of the community. \nRead this post for more information on the planning session. \n \n 
URL:https://parkslopeciviccouncil.org/event/fofa-community-meeting-on-fourth-avenue-traffic-issues-4/
LOCATION:Fifth Avenue Committee office\, 621 Degraw Street\, Brooklyn\, NY\, 11215\, United States
CATEGORIES:Forth on Fourth Avenue,Fourth Avenue
ORGANIZER;CN="Forth on Fourth Avenue Committee (FOFA)%2C Park Slope Civic Council":MAILTO:fofa@parkslopeciviccouncil.org
END:VEVENT
BEGIN:VEVENT
DTSTART;TZID=UTC:20130123T183000
DTEND;TZID=UTC:20130123T200000
DTSTAMP:20260424T195431
CREATED:20130104T152102Z
LAST-MODIFIED:20130104T152102Z
UID:10318-1358965800-1358971200@parkslopeciviccouncil.org
SUMMARY:FOFA Community Meeting on Fourth Avenue Traffic Issues
DESCRIPTION:In February\, the city’s Department of Transportation\, Brooklyn Borough President Marty Markowitz\, and the Fourth Avenue Task Force will host a public workshop to explore Fourth Avenue’s future. To help take full advantage of the workshop\, the Park Slope Civic Council’s Forth on Fourth Avenue Committee is holding a planning session in January for all members of the community. \nRead this post for more information on the planning session. \n \n 
URL:https://parkslopeciviccouncil.org/event/fofa-community-meeting-on-fourth-avenue-traffic-issues-5/
LOCATION:Fifth Avenue Committee office\, 621 Degraw Street\, Brooklyn\, NY\, 11215\, United States
CATEGORIES:Forth on Fourth Avenue,Fourth Avenue
ORGANIZER;CN="Forth on Fourth Avenue Committee (FOFA)%2C Park Slope Civic Council":MAILTO:fofa@parkslopeciviccouncil.org
END:VEVENT
BEGIN:VEVENT
DTSTART;TZID=UTC:20130123T183000
DTEND;TZID=UTC:20130123T200000
DTSTAMP:20260424T195431
CREATED:20130104T152102Z
LAST-MODIFIED:20130104T152102Z
UID:10639-1358965800-1358971200@parkslopeciviccouncil.org
SUMMARY:FOFA Community Meeting on Fourth Avenue Traffic Issues
DESCRIPTION:In February\, the city’s Department of Transportation\, Brooklyn Borough President Marty Markowitz\, and the Fourth Avenue Task Force will host a public workshop to explore Fourth Avenue’s future. To help take full advantage of the workshop\, the Park Slope Civic Council’s Forth on Fourth Avenue Committee is holding a planning session in January for all members of the community. \nRead this post for more information on the planning session. \n \n 
URL:https://parkslopeciviccouncil.org/event/fofa-community-meeting-on-fourth-avenue-traffic-issues-6/
LOCATION:Fifth Avenue Committee office\, 621 Degraw Street\, Brooklyn\, NY\, 11215\, United States
CATEGORIES:Forth on Fourth Avenue,Fourth Avenue
ORGANIZER;CN="Forth on Fourth Avenue Committee (FOFA)%2C Park Slope Civic Council":MAILTO:fofa@parkslopeciviccouncil.org
END:VEVENT
BEGIN:VEVENT
DTSTART;TZID=UTC:20130123T183000
DTEND;TZID=UTC:20130123T200000
DTSTAMP:20260424T195431
CREATED:20130104T152102Z
LAST-MODIFIED:20130104T152102Z
UID:3808-1358965800-1358971200@parkslopeciviccouncil.org
SUMMARY:FOFA Community Meeting on Fourth Avenue Traffic Issues
DESCRIPTION:In February\, the city’s Department of Transportation\, Brooklyn Borough President Marty Markowitz\, and the Fourth Avenue Task Force will host a public workshop to explore Fourth Avenue’s future. To help take full advantage of the workshop\, the Park Slope Civic Council’s Forth on Fourth Avenue Committee is holding a planning session in January for all members of the community. \nRead this post for more information on the planning session. \n \n 
URL:https://parkslopeciviccouncil.org/event/fofa-community-meeting-on-fourth-avenue-traffic-issues/
LOCATION:Fifth Avenue Committee office\, 621 Degraw Street\, Brooklyn\, NY\, 11215\, United States
CATEGORIES:Forth on Fourth Avenue,Fourth Avenue
ORGANIZER;CN="Forth on Fourth Avenue Committee (FOFA)%2C Park Slope Civic Council":MAILTO:fofa@parkslopeciviccouncil.org
END:VEVENT
END:VCALENDAR