BEGIN:VCALENDAR
VERSION:2.0
PRODID:-//Park Slope Civic Council - ECPv6.15.20//NONSGML v1.0//EN
CALSCALE:GREGORIAN
METHOD:PUBLISH
X-ORIGINAL-URL:https://parkslopeciviccouncil.org
X-WR-CALDESC:Events for Park Slope Civic Council
REFRESH-INTERVAL;VALUE=DURATION:PT1H
X-Robots-Tag:noindex
X-PUBLISHED-TTL:PT1H
BEGIN:VTIMEZONE
TZID:UTC
BEGIN:STANDARD
TZOFFSETFROM:+0000
TZOFFSETTO:+0000
TZNAME:UTC
DTSTART:20110101T000000
END:STANDARD
END:VTIMEZONE
BEGIN:VEVENT
DTSTART;TZID=UTC:20121212T190000
DTEND;TZID=UTC:20121212T210059
DTSTAMP:20260424T084636
CREATED:20121130T151813Z
LAST-MODIFIED:20121130T151813Z
UID:3664-1355338800-1355346059@parkslopeciviccouncil.org
SUMMARY:Livable Streets Committee Meeting
DESCRIPTION:The Civic Council’s Livable Streets Committee focuses on what happens along our community’s streets and sidewalks for pedestrians\, bicyclists\, and drivers alike\, to preserve and promote a rich\, vibrant street life\, safety for all users of our streets\, and transportation improvements. \nThe agenda is: \n\nVision/mission revisit\nDOT Benches Program update\nParticipatory budgeting\nReview of short-term projects list\nSpeaker series for 2013\nNew business\n\nFor meeting location\, please RSVP to livablestreets@parkslopeciviccouncil.org.\n\n 
URL:https://parkslopeciviccouncil.org/event/livable-streets-committee-meeting-2/
LOCATION:Please RSVP for meeting location\, Select a Country:
CATEGORIES:Livable Streets
END:VEVENT
BEGIN:VEVENT
DTSTART;TZID=UTC:20121212T190000
DTEND;TZID=UTC:20121212T210059
DTSTAMP:20260424T084636
CREATED:20121130T151813Z
LAST-MODIFIED:20121130T151813Z
UID:10315-1355338800-1355346059@parkslopeciviccouncil.org
SUMMARY:Livable Streets Committee Meeting
DESCRIPTION:The Civic Council’s Livable Streets Committee focuses on what happens along our community’s streets and sidewalks for pedestrians\, bicyclists\, and drivers alike\, to preserve and promote a rich\, vibrant street life\, safety for all users of our streets\, and transportation improvements. \nThe agenda is: \n\nVision/mission revisit\nDOT Benches Program update\nParticipatory budgeting\nReview of short-term projects list\nSpeaker series for 2013\nNew business\n\nFor meeting location\, please RSVP to livablestreets@parkslopeciviccouncil.org.\n\n 
URL:https://parkslopeciviccouncil.org/event/livable-streets-committee-meeting-2-5/
LOCATION:Please RSVP for meeting location\, Select a Country:
CATEGORIES:Livable Streets
END:VEVENT
BEGIN:VEVENT
DTSTART;TZID=UTC:20121212T190000
DTEND;TZID=UTC:20121212T210059
DTSTAMP:20260424T084636
CREATED:20121130T151813Z
LAST-MODIFIED:20121130T151813Z
UID:9248-1355338800-1355346059@parkslopeciviccouncil.org
SUMMARY:Livable Streets Committee Meeting
DESCRIPTION:The Civic Council’s Livable Streets Committee focuses on what happens along our community’s streets and sidewalks for pedestrians\, bicyclists\, and drivers alike\, to preserve and promote a rich\, vibrant street life\, safety for all users of our streets\, and transportation improvements. \nThe agenda is: \n\nVision/mission revisit\nDOT Benches Program update\nParticipatory budgeting\nReview of short-term projects list\nSpeaker series for 2013\nNew business\n\nFor meeting location\, please RSVP to livablestreets@parkslopeciviccouncil.org.\n\n 
URL:https://parkslopeciviccouncil.org/event/livable-streets-committee-meeting-2-2/
LOCATION:Please RSVP for meeting location\, Select a Country:
CATEGORIES:Livable Streets
END:VEVENT
BEGIN:VEVENT
DTSTART;TZID=UTC:20121015T190000
DTEND;TZID=UTC:20121015T200059
DTSTAMP:20260424T084636
CREATED:20121009T130547Z
LAST-MODIFIED:20121009T130547Z
UID:12112-1350327600-1350331259@parkslopeciviccouncil.org
SUMMARY:Livable Streets Committee: DOT Benches Planning Session
DESCRIPTION:The Civic Council\’s Livable Streets Committee is holding its first planning session to review the city Department of Transportation\’s new CityBench program — \”an initiative to increase the amount of public seating on New York City’s streets\” — and possible locations for these benches in our community. \nVisit the DOT\’s website for more information on CityBench. \n 
URL:https://parkslopeciviccouncil.org/event/livable-streets-committee-dot-benches-planning-session-7/
LOCATION:S’Nice\, 315 Fifth Ave. (Third Street)\, Brooklyn\, NY\, 11215\, United States
CATEGORIES:Livable Streets
ORGANIZER;CN="Livable Streets Committee%2C Park Slope Civic Council":MAILTO:livablestreets@parkslopeciviccouncil.org
END:VEVENT
BEGIN:VEVENT
DTSTART;TZID=UTC:20121015T190000
DTEND;TZID=UTC:20121015T200059
DTSTAMP:20260424T084636
CREATED:20121009T130547Z
LAST-MODIFIED:20121009T130547Z
UID:9957-1350327600-1350331259@parkslopeciviccouncil.org
SUMMARY:Livable Streets Committee: DOT Benches Planning Session
DESCRIPTION:The Civic Council’s Livable Streets Committee is holding its first planning session to review the city Department of Transportation’s new CityBench program — “an initiative to increase the amount of public seating on New York City’s streets” — and possible locations for these benches in our community. \nVisit the DOT’s website for more information on CityBench. \n 
URL:https://parkslopeciviccouncil.org/event/livable-streets-committee-dot-benches-planning-session-4/
LOCATION:S’Nice\, 315 Fifth Ave. (Third Street)\, Brooklyn\, NY\, 11215\, United States
CATEGORIES:Livable Streets
ORGANIZER;CN="Livable Streets Committee%2C Park Slope Civic Council":MAILTO:livablestreets@parkslopeciviccouncil.org
END:VEVENT
BEGIN:VEVENT
DTSTART;TZID=UTC:20121015T190000
DTEND;TZID=UTC:20121015T200059
DTSTAMP:20260424T084636
CREATED:20121009T130547Z
LAST-MODIFIED:20121009T130547Z
UID:3195-1350327600-1350331259@parkslopeciviccouncil.org
SUMMARY:Livable Streets Committee: DOT Benches Planning Session
DESCRIPTION:The Civic Council’s Livable Streets Committee is holding its first planning session to review the city Department of Transportation’s new CityBench program — “an initiative to increase the amount of public seating on New York City’s streets” — and possible locations for these benches in our community. \nVisit the DOT’s website for more information on CityBench. \n 
URL:https://parkslopeciviccouncil.org/event/livable-streets-committee-dot-benches-planning-session/
LOCATION:S’Nice\, 315 Fifth Ave. (Third Street)\, Brooklyn\, NY\, 11215\, United States
CATEGORIES:Livable Streets
ORGANIZER;CN="Livable Streets Committee%2C Park Slope Civic Council":MAILTO:livablestreets@parkslopeciviccouncil.org
END:VEVENT
BEGIN:VEVENT
DTSTART;TZID=UTC:20121015T190000
DTEND;TZID=UTC:20121015T200059
DTSTAMP:20260424T084636
CREATED:20121009T130547Z
LAST-MODIFIED:20121009T130547Z
UID:10306-1350327600-1350331259@parkslopeciviccouncil.org
SUMMARY:Livable Streets Committee: DOT Benches Planning Session
DESCRIPTION:The Civic Council’s Livable Streets Committee is holding its first planning session to review the city Department of Transportation’s new CityBench program — “an initiative to increase the amount of public seating on New York City’s streets” — and possible locations for these benches in our community. \nVisit the DOT’s website for more information on CityBench. \n 
URL:https://parkslopeciviccouncil.org/event/livable-streets-committee-dot-benches-planning-session-5/
LOCATION:S’Nice\, 315 Fifth Ave. (Third Street)\, Brooklyn\, NY\, 11215\, United States
CATEGORIES:Livable Streets
ORGANIZER;CN="Livable Streets Committee%2C Park Slope Civic Council":MAILTO:livablestreets@parkslopeciviccouncil.org
END:VEVENT
BEGIN:VEVENT
DTSTART;TZID=UTC:20121015T190000
DTEND;TZID=UTC:20121015T200059
DTSTAMP:20260424T084636
CREATED:20121009T130547Z
LAST-MODIFIED:20121009T130547Z
UID:9239-1350327600-1350331259@parkslopeciviccouncil.org
SUMMARY:Livable Streets Committee: DOT Benches Planning Session
DESCRIPTION:The Civic Council’s Livable Streets Committee is holding its first planning session to review the city Department of Transportation’s new CityBench program — “an initiative to increase the amount of public seating on New York City’s streets” — and possible locations for these benches in our community. \nVisit the DOT’s website for more information on CityBench. \n 
URL:https://parkslopeciviccouncil.org/event/livable-streets-committee-dot-benches-planning-session-2/
LOCATION:S’Nice\, 315 Fifth Ave. (Third Street)\, Brooklyn\, NY\, 11215\, United States
CATEGORIES:Livable Streets
ORGANIZER;CN="Livable Streets Committee%2C Park Slope Civic Council":MAILTO:livablestreets@parkslopeciviccouncil.org
END:VEVENT
BEGIN:VEVENT
DTSTART;TZID=UTC:20121015T190000
DTEND;TZID=UTC:20121015T200059
DTSTAMP:20260424T084636
CREATED:20121009T130547Z
LAST-MODIFIED:20121009T130547Z
UID:10627-1350327600-1350331259@parkslopeciviccouncil.org
SUMMARY:Livable Streets Committee: DOT Benches Planning Session
DESCRIPTION:The Civic Council’s Livable Streets Committee is holding its first planning session to review the city Department of Transportation’s new CityBench program — “an initiative to increase the amount of public seating on New York City’s streets” — and possible locations for these benches in our community. \nVisit the DOT’s website for more information on CityBench. \n 
URL:https://parkslopeciviccouncil.org/event/livable-streets-committee-dot-benches-planning-session-6/
LOCATION:S’Nice\, 315 Fifth Ave. (Third Street)\, Brooklyn\, NY\, 11215\, United States
CATEGORIES:Livable Streets
ORGANIZER;CN="Livable Streets Committee%2C Park Slope Civic Council":MAILTO:livablestreets@parkslopeciviccouncil.org
END:VEVENT
BEGIN:VEVENT
DTSTART;TZID=UTC:20121015T190000
DTEND;TZID=UTC:20121015T200059
DTSTAMP:20260424T084636
CREATED:20121009T130547Z
LAST-MODIFIED:20121009T130547Z
UID:9599-1350327600-1350331259@parkslopeciviccouncil.org
SUMMARY:Livable Streets Committee: DOT Benches Planning Session
DESCRIPTION:The Civic Council’s Livable Streets Committee is holding its first planning session to review the city Department of Transportation’s new CityBench program — “an initiative to increase the amount of public seating on New York City’s streets” — and possible locations for these benches in our community. \nVisit the DOT’s website for more information on CityBench. \n 
URL:https://parkslopeciviccouncil.org/event/livable-streets-committee-dot-benches-planning-session-3/
LOCATION:S’Nice\, 315 Fifth Ave. (Third Street)\, Brooklyn\, NY\, 11215\, United States
CATEGORIES:Livable Streets
ORGANIZER;CN="Livable Streets Committee%2C Park Slope Civic Council":MAILTO:livablestreets@parkslopeciviccouncil.org
END:VEVENT
BEGIN:VEVENT
DTSTART;TZID=UTC:20120331T100000
DTEND;TZID=UTC:20120331T130059
DTSTAMP:20260424T084636
CREATED:20120323T170341Z
LAST-MODIFIED:20120323T170341Z
UID:12080-1333188000-1333198859@parkslopeciviccouncil.org
SUMMARY:The BK Gateway Transportation Workshop
DESCRIPTION:The neighborhoods of Park Slope\, Prospect Heights\, Crown Heights\, Fort Greene\, Clinton Hill\, Downtown Brooklyn\, Carroll Gardens\, Red Hook\, and Brooklyn Heights face significant transportation challenges. Existing traffic and parking congestion\, demands on transit service\, and dangerous roads for cyclists and pedestrians already pose hurdles for residents\, businesses and the environment. The opening of the Barclays Center at Atlantic Yards will further compound these challenges. \nPlease join New York City Council Member Letitia James and the Prospect Heights Neighborhood Development Council for the BK Gateway Transportation Workshop\, which will lay the groundwork for developing community driven solutions to the transportation issues facing the area. \n\nDiscuss transportation issues affecting our community\nPlanning workshops with transportation experts\nAssist in developing a plan to help guide the New York City Department of Transportation\nHelp develop a plan for the future of transportation and transit in our community\n\nR.S.V.P: Due to limited space\, participants must register. If you would like to attend please e-mail bsherman@council.nyc.gov. \nCo-sponsored by: Councilmember Stephen Levin | Councilmember Brad Lander | Tri-State Transportation Campaign | Park Slope Civic Council | Boerum Hill Association | Transportation Alternatives | Community Board 2 \n  \n 
URL:https://parkslopeciviccouncil.org/event/the-bk-gateway-transportation-workshop-7/
LOCATION:To Be Determined\, Brooklyn\, NY\, United States
CATEGORIES:Atlantic Yards,Livable Streets
ATTACH;FMTTYPE=image/jpeg:https://parkslopeciviccouncil.org/wp-content/uploads/2012/03/AY-Flatbush-20120119.jpg
END:VEVENT
BEGIN:VEVENT
DTSTART;TZID=UTC:20120331T100000
DTEND;TZID=UTC:20120331T130059
DTSTAMP:20260424T084636
CREATED:20120323T170341Z
LAST-MODIFIED:20120323T170341Z
UID:9925-1333188000-1333198859@parkslopeciviccouncil.org
SUMMARY:The BK Gateway Transportation Workshop
DESCRIPTION:The neighborhoods of Park Slope\, Prospect Heights\, Crown Heights\, Fort Greene\, Clinton Hill\, Downtown Brooklyn\, Carroll Gardens\, Red Hook\, and Brooklyn Heights face significant transportation challenges. Existing traffic and parking congestion\, demands on transit service\, and dangerous roads for cyclists and pedestrians already pose hurdles for residents\, businesses and the environment. The opening of the Barclays Center at Atlantic Yards will further compound these challenges. \nPlease join New York City Council Member Letitia James and the Prospect Heights Neighborhood Development Council for the BK Gateway Transportation Workshop\, which will lay the groundwork for developing community driven solutions to the transportation issues facing the area. \n\nDiscuss transportation issues affecting our community\nPlanning workshops with transportation experts\nAssist in developing a plan to help guide the New York City Department of Transportation\nHelp develop a plan for the future of transportation and transit in our community\n\nR.S.V.P: Due to limited space\, participants must register. If you would like to attend please e-mail bsherman@council.nyc.gov. \nCo-sponsored by: Councilmember Stephen Levin | Councilmember Brad Lander | Tri-State Transportation Campaign | Park Slope Civic Council | Boerum Hill Association | Transportation Alternatives | Community Board 2 \n  \n 
URL:https://parkslopeciviccouncil.org/event/the-bk-gateway-transportation-workshop-4/
LOCATION:To Be Determined\, Brooklyn\, NY\, United States
CATEGORIES:Atlantic Yards,Livable Streets
ATTACH;FMTTYPE=image/jpeg:https://parkslopeciviccouncil.org/wp-content/uploads/2012/03/AY-Flatbush-20120119.jpg
END:VEVENT
BEGIN:VEVENT
DTSTART;TZID=UTC:20120331T100000
DTEND;TZID=UTC:20120331T130059
DTSTAMP:20260424T084636
CREATED:20120323T170341Z
LAST-MODIFIED:20120323T170341Z
UID:738-1333188000-1333198859@parkslopeciviccouncil.org
SUMMARY:The BK Gateway Transportation Workshop
DESCRIPTION:The neighborhoods of Park Slope\, Prospect Heights\, Crown Heights\, Fort Greene\, Clinton Hill\, Downtown Brooklyn\, Carroll Gardens\, Red Hook\, and Brooklyn Heights face significant transportation challenges. Existing traffic and parking congestion\, demands on transit service\, and dangerous roads for cyclists and pedestrians already pose hurdles for residents\, businesses and the environment. The opening of the Barclays Center at Atlantic Yards will further compound these challenges. \nPlease join New York City Council Member Letitia James and the Prospect Heights Neighborhood Development Council for the BK Gateway Transportation Workshop\, which will lay the groundwork for developing community driven solutions to the transportation issues facing the area. \n\nDiscuss transportation issues affecting our community\nPlanning workshops with transportation experts\nAssist in developing a plan to help guide the New York City Department of Transportation\nHelp develop a plan for the future of transportation and transit in our community\n\nR.S.V.P: Due to limited space\, participants must register. If you would like to attend please e-mail bsherman@council.nyc.gov. \nCo-sponsored by: Councilmember Stephen Levin | Councilmember Brad Lander | Tri-State Transportation Campaign | Park Slope Civic Council | Boerum Hill Association | Transportation Alternatives | Community Board 2 \n  \n 
URL:https://parkslopeciviccouncil.org/event/the-bk-gateway-transportation-workshop/
LOCATION:To Be Determined\, Brooklyn\, NY\, United States
CATEGORIES:Atlantic Yards,Livable Streets
ATTACH;FMTTYPE=image/jpeg:https://parkslopeciviccouncil.org/wp-content/uploads/2012/03/AY-Flatbush-20120119.jpg
END:VEVENT
BEGIN:VEVENT
DTSTART;TZID=UTC:20120331T100000
DTEND;TZID=UTC:20120331T130059
DTSTAMP:20260424T084636
CREATED:20120323T170341Z
LAST-MODIFIED:20120323T170341Z
UID:10274-1333188000-1333198859@parkslopeciviccouncil.org
SUMMARY:The BK Gateway Transportation Workshop
DESCRIPTION:The neighborhoods of Park Slope\, Prospect Heights\, Crown Heights\, Fort Greene\, Clinton Hill\, Downtown Brooklyn\, Carroll Gardens\, Red Hook\, and Brooklyn Heights face significant transportation challenges. Existing traffic and parking congestion\, demands on transit service\, and dangerous roads for cyclists and pedestrians already pose hurdles for residents\, businesses and the environment. The opening of the Barclays Center at Atlantic Yards will further compound these challenges. \nPlease join New York City Council Member Letitia James and the Prospect Heights Neighborhood Development Council for the BK Gateway Transportation Workshop\, which will lay the groundwork for developing community driven solutions to the transportation issues facing the area. \n\nDiscuss transportation issues affecting our community\nPlanning workshops with transportation experts\nAssist in developing a plan to help guide the New York City Department of Transportation\nHelp develop a plan for the future of transportation and transit in our community\n\nR.S.V.P: Due to limited space\, participants must register. If you would like to attend please e-mail bsherman@council.nyc.gov. \nCo-sponsored by: Councilmember Stephen Levin | Councilmember Brad Lander | Tri-State Transportation Campaign | Park Slope Civic Council | Boerum Hill Association | Transportation Alternatives | Community Board 2 \n  \n 
URL:https://parkslopeciviccouncil.org/event/the-bk-gateway-transportation-workshop-5/
LOCATION:To Be Determined\, Brooklyn\, NY\, United States
CATEGORIES:Atlantic Yards,Livable Streets
ATTACH;FMTTYPE=image/jpeg:https://parkslopeciviccouncil.org/wp-content/uploads/2012/03/AY-Flatbush-20120119.jpg
END:VEVENT
BEGIN:VEVENT
DTSTART;TZID=UTC:20120331T100000
DTEND;TZID=UTC:20120331T130059
DTSTAMP:20260424T084636
CREATED:20120323T170341Z
LAST-MODIFIED:20120323T170341Z
UID:9207-1333188000-1333198859@parkslopeciviccouncil.org
SUMMARY:The BK Gateway Transportation Workshop
DESCRIPTION:The neighborhoods of Park Slope\, Prospect Heights\, Crown Heights\, Fort Greene\, Clinton Hill\, Downtown Brooklyn\, Carroll Gardens\, Red Hook\, and Brooklyn Heights face significant transportation challenges. Existing traffic and parking congestion\, demands on transit service\, and dangerous roads for cyclists and pedestrians already pose hurdles for residents\, businesses and the environment. The opening of the Barclays Center at Atlantic Yards will further compound these challenges. \nPlease join New York City Council Member Letitia James and the Prospect Heights Neighborhood Development Council for the BK Gateway Transportation Workshop\, which will lay the groundwork for developing community driven solutions to the transportation issues facing the area. \n\nDiscuss transportation issues affecting our community\nPlanning workshops with transportation experts\nAssist in developing a plan to help guide the New York City Department of Transportation\nHelp develop a plan for the future of transportation and transit in our community\n\nR.S.V.P: Due to limited space\, participants must register. If you would like to attend please e-mail bsherman@council.nyc.gov. \nCo-sponsored by: Councilmember Stephen Levin | Councilmember Brad Lander | Tri-State Transportation Campaign | Park Slope Civic Council | Boerum Hill Association | Transportation Alternatives | Community Board 2 \n  \n 
URL:https://parkslopeciviccouncil.org/event/the-bk-gateway-transportation-workshop-2/
LOCATION:To Be Determined\, Brooklyn\, NY\, United States
CATEGORIES:Atlantic Yards,Livable Streets
ATTACH;FMTTYPE=image/jpeg:https://parkslopeciviccouncil.org/wp-content/uploads/2012/03/AY-Flatbush-20120119.jpg
END:VEVENT
BEGIN:VEVENT
DTSTART;TZID=UTC:20120331T100000
DTEND;TZID=UTC:20120331T130059
DTSTAMP:20260424T084636
CREATED:20120323T170341Z
LAST-MODIFIED:20120323T170341Z
UID:10595-1333188000-1333198859@parkslopeciviccouncil.org
SUMMARY:The BK Gateway Transportation Workshop
DESCRIPTION:The neighborhoods of Park Slope\, Prospect Heights\, Crown Heights\, Fort Greene\, Clinton Hill\, Downtown Brooklyn\, Carroll Gardens\, Red Hook\, and Brooklyn Heights face significant transportation challenges. Existing traffic and parking congestion\, demands on transit service\, and dangerous roads for cyclists and pedestrians already pose hurdles for residents\, businesses and the environment. The opening of the Barclays Center at Atlantic Yards will further compound these challenges. \nPlease join New York City Council Member Letitia James and the Prospect Heights Neighborhood Development Council for the BK Gateway Transportation Workshop\, which will lay the groundwork for developing community driven solutions to the transportation issues facing the area. \n\nDiscuss transportation issues affecting our community\nPlanning workshops with transportation experts\nAssist in developing a plan to help guide the New York City Department of Transportation\nHelp develop a plan for the future of transportation and transit in our community\n\nR.S.V.P: Due to limited space\, participants must register. If you would like to attend please e-mail bsherman@council.nyc.gov. \nCo-sponsored by: Councilmember Stephen Levin | Councilmember Brad Lander | Tri-State Transportation Campaign | Park Slope Civic Council | Boerum Hill Association | Transportation Alternatives | Community Board 2 \n  \n 
URL:https://parkslopeciviccouncil.org/event/the-bk-gateway-transportation-workshop-6/
LOCATION:To Be Determined\, Brooklyn\, NY\, United States
CATEGORIES:Atlantic Yards,Livable Streets
ATTACH;FMTTYPE=image/jpeg:https://parkslopeciviccouncil.org/wp-content/uploads/2012/03/AY-Flatbush-20120119.jpg
END:VEVENT
BEGIN:VEVENT
DTSTART;TZID=UTC:20120331T100000
DTEND;TZID=UTC:20120331T130059
DTSTAMP:20260424T084636
CREATED:20120323T170341Z
LAST-MODIFIED:20120323T170341Z
UID:9567-1333188000-1333198859@parkslopeciviccouncil.org
SUMMARY:The BK Gateway Transportation Workshop
DESCRIPTION:The neighborhoods of Park Slope\, Prospect Heights\, Crown Heights\, Fort Greene\, Clinton Hill\, Downtown Brooklyn\, Carroll Gardens\, Red Hook\, and Brooklyn Heights face significant transportation challenges. Existing traffic and parking congestion\, demands on transit service\, and dangerous roads for cyclists and pedestrians already pose hurdles for residents\, businesses and the environment. The opening of the Barclays Center at Atlantic Yards will further compound these challenges. \nPlease join New York City Council Member Letitia James and the Prospect Heights Neighborhood Development Council for the BK Gateway Transportation Workshop\, which will lay the groundwork for developing community driven solutions to the transportation issues facing the area. \n\nDiscuss transportation issues affecting our community\nPlanning workshops with transportation experts\nAssist in developing a plan to help guide the New York City Department of Transportation\nHelp develop a plan for the future of transportation and transit in our community\n\nR.S.V.P: Due to limited space\, participants must register. If you would like to attend please e-mail bsherman@council.nyc.gov. \nCo-sponsored by: Councilmember Stephen Levin | Councilmember Brad Lander | Tri-State Transportation Campaign | Park Slope Civic Council | Boerum Hill Association | Transportation Alternatives | Community Board 2 \n  \n 
URL:https://parkslopeciviccouncil.org/event/the-bk-gateway-transportation-workshop-3/
LOCATION:To Be Determined\, Brooklyn\, NY\, United States
CATEGORIES:Atlantic Yards,Livable Streets
ATTACH;FMTTYPE=image/jpeg:https://parkslopeciviccouncil.org/wp-content/uploads/2012/03/AY-Flatbush-20120119.jpg
END:VEVENT
END:VCALENDAR