BEGIN:VCALENDAR
VERSION:2.0
PRODID:-//Park Slope Civic Council - ECPv6.15.20//NONSGML v1.0//EN
CALSCALE:GREGORIAN
METHOD:PUBLISH
X-ORIGINAL-URL:https://parkslopeciviccouncil.org
X-WR-CALDESC:Events for Park Slope Civic Council
REFRESH-INTERVAL;VALUE=DURATION:PT1H
X-Robots-Tag:noindex
X-PUBLISHED-TTL:PT1H
BEGIN:VTIMEZONE
TZID:UTC
BEGIN:STANDARD
TZOFFSETFROM:+0000
TZOFFSETTO:+0000
TZNAME:UTC
DTSTART:20130101T000000
END:STANDARD
END:VTIMEZONE
BEGIN:VEVENT
DTSTART;TZID=UTC:20151109T080000
DTEND;TZID=UTC:20151109T090000
DTSTAMP:20260423T153343
CREATED:20151030T163701Z
LAST-MODIFIED:20151030T163701Z
UID:9764-1447056000-1447059600@parkslopeciviccouncil.org
SUMMARY:Livable Streets Comm. meeting
DESCRIPTION:
URL:https://parkslopeciviccouncil.org/event/livable-streets-comm-meeting-3/
LOCATION:Du Jour Bakery\, 365 Fifth Avenue -(btw 5 & 6th St.)\, Brooklyn\, NY\, 11215
CATEGORIES:Livable Streets
END:VEVENT
BEGIN:VEVENT
DTSTART;TZID=UTC:20151109T080000
DTEND;TZID=UTC:20151109T090000
DTSTAMP:20260423T153343
CREATED:20151030T163701Z
LAST-MODIFIED:20151030T163701Z
UID:12277-1447056000-1447059600@parkslopeciviccouncil.org
SUMMARY:Livable Streets Comm. meeting
DESCRIPTION:
URL:https://parkslopeciviccouncil.org/event/livable-streets-comm-meeting-7/
LOCATION:Du Jour Bakery\, 365 Fifth Avenue -(btw 5 & 6th St.)\, Brooklyn\, NY\, 11215
CATEGORIES:Livable Streets
END:VEVENT
BEGIN:VEVENT
DTSTART;TZID=UTC:20151025T100000
DTEND;TZID=UTC:20151025T140000
DTSTAMP:20260423T153343
CREATED:20151001T213630Z
LAST-MODIFIED:20151001T213630Z
UID:10462-1445767200-1445781600@parkslopeciviccouncil.org
SUMMARY:Fall Civic Sweep
DESCRIPTION:A clean-up\, beautification and recycling event free and open to all. \nMore details will appear soon!
URL:https://parkslopeciviccouncil.org/event/fall-civic-sweep-3-6/
LOCATION:4th Ave. Civic Sweep site\, 5th Avenue between 3rd and 4th Streets\, Brooklyn\, NY\, 11217\, United States
CATEGORIES:Forth on Fourth Avenue,Livable Streets,Sustainability
END:VEVENT
BEGIN:VEVENT
DTSTART;TZID=UTC:20151025T100000
DTEND;TZID=UTC:20151025T140000
DTSTAMP:20260423T153343
CREATED:20151001T213630Z
LAST-MODIFIED:20151001T213630Z
UID:9394-1445767200-1445781600@parkslopeciviccouncil.org
SUMMARY:Fall Civic Sweep
DESCRIPTION:A clean-up\, beautification and recycling event free and open to all. \nMore details will appear soon!
URL:https://parkslopeciviccouncil.org/event/fall-civic-sweep-3-3/
LOCATION:4th Ave. Civic Sweep site\, 5th Avenue between 3rd and 4th Streets\, Brooklyn\, NY\, 11217\, United States
CATEGORIES:Forth on Fourth Avenue,Livable Streets,Sustainability
END:VEVENT
BEGIN:VEVENT
DTSTART;TZID=UTC:20151025T100000
DTEND;TZID=UTC:20151025T140000
DTSTAMP:20260423T153343
CREATED:20151001T213630Z
LAST-MODIFIED:20151001T213630Z
UID:10782-1445767200-1445781600@parkslopeciviccouncil.org
SUMMARY:Fall Civic Sweep
DESCRIPTION:A clean-up\, beautification and recycling event free and open to all. \nMore details will appear soon!
URL:https://parkslopeciviccouncil.org/event/fall-civic-sweep-3-7/
LOCATION:4th Ave. Civic Sweep site\, 5th Avenue between 3rd and 4th Streets\, Brooklyn\, NY\, 11217\, United States
CATEGORIES:Forth on Fourth Avenue,Livable Streets,Sustainability
END:VEVENT
BEGIN:VEVENT
DTSTART;TZID=UTC:20151025T100000
DTEND;TZID=UTC:20151025T140000
DTSTAMP:20260423T153343
CREATED:20151001T213630Z
LAST-MODIFIED:20151001T213630Z
UID:9754-1445767200-1445781600@parkslopeciviccouncil.org
SUMMARY:Fall Civic Sweep
DESCRIPTION:A clean-up\, beautification and recycling event free and open to all. \nMore details will appear soon!
URL:https://parkslopeciviccouncil.org/event/fall-civic-sweep-3-4/
LOCATION:4th Ave. Civic Sweep site\, 5th Avenue between 3rd and 4th Streets\, Brooklyn\, NY\, 11217\, United States
CATEGORIES:Forth on Fourth Avenue,Livable Streets,Sustainability
END:VEVENT
BEGIN:VEVENT
DTSTART;TZID=UTC:20151025T100000
DTEND;TZID=UTC:20151025T140000
DTSTAMP:20260423T153343
CREATED:20151001T213630Z
LAST-MODIFIED:20151001T213630Z
UID:12267-1445767200-1445781600@parkslopeciviccouncil.org
SUMMARY:Fall Civic Sweep
DESCRIPTION:A clean-up\, beautification and recycling event free and open to all. \nMore details will appear soon!
URL:https://parkslopeciviccouncil.org/event/fall-civic-sweep-3-8/
LOCATION:4th Ave. Civic Sweep site\, 5th Avenue between 3rd and 4th Streets\, Brooklyn\, NY\, 11217\, United States
CATEGORIES:Forth on Fourth Avenue,Livable Streets,Sustainability
END:VEVENT
BEGIN:VEVENT
DTSTART;TZID=UTC:20151025T100000
DTEND;TZID=UTC:20151025T140000
DTSTAMP:20260423T153343
CREATED:20151001T213630Z
LAST-MODIFIED:20151001T213630Z
UID:10113-1445767200-1445781600@parkslopeciviccouncil.org
SUMMARY:Fall Civic Sweep
DESCRIPTION:A clean-up\, beautification and recycling event free and open to all. \nMore details will appear soon!
URL:https://parkslopeciviccouncil.org/event/fall-civic-sweep-3-5/
LOCATION:4th Ave. Civic Sweep site\, 5th Avenue between 3rd and 4th Streets\, Brooklyn\, NY\, 11217\, United States
CATEGORIES:Forth on Fourth Avenue,Livable Streets,Sustainability
END:VEVENT
BEGIN:VEVENT
DTSTART;TZID=UTC:20151025T100000
DTEND;TZID=UTC:20151025T140000
DTSTAMP:20260423T153343
CREATED:20151001T213630Z
LAST-MODIFIED:20151001T213630Z
UID:6114-1445767200-1445781600@parkslopeciviccouncil.org
SUMMARY:Fall Civic Sweep
DESCRIPTION:A clean-up\, beautification and recycling event free and open to all. \nMore details will appear soon!
URL:https://parkslopeciviccouncil.org/event/fall-civic-sweep-3/
LOCATION:4th Ave. Civic Sweep site\, 5th Avenue between 3rd and 4th Streets\, Brooklyn\, NY\, 11217\, United States
CATEGORIES:Forth on Fourth Avenue,Livable Streets,Sustainability
END:VEVENT
BEGIN:VEVENT
DTSTART;TZID=UTC:20150226T080000
DTEND;TZID=UTC:20150226T090000
DTSTAMP:20260423T153343
CREATED:20150224T193050Z
LAST-MODIFIED:20150224T193050Z
UID:9385-1424937600-1424941200@parkslopeciviccouncil.org
SUMMARY:Livable Streets Committee meeting
DESCRIPTION:Livable Streets Committee meeting \nThursday\, 8 – 9 AM \nDu Jour Bakery – 365 5th Avenue \n  \nAgenda: \n\nMove NY Fair Plan\nLivable Streets Community Workshop.
URL:https://parkslopeciviccouncil.org/event/livable-streets-committee-meeting-4-2/
LOCATION:Unnamed Venue\, Brooklyn\, NY
CATEGORIES:Community,Livable Streets
END:VEVENT
BEGIN:VEVENT
DTSTART;TZID=UTC:20150226T080000
DTEND;TZID=UTC:20150226T090000
DTSTAMP:20260423T153343
CREATED:20150224T193050Z
LAST-MODIFIED:20150224T193050Z
UID:10773-1424937600-1424941200@parkslopeciviccouncil.org
SUMMARY:Livable Streets Committee meeting
DESCRIPTION:Livable Streets Committee meeting \nThursday\, 8 – 9 AM \nDu Jour Bakery – 365 5th Avenue \n  \nAgenda: \n\nMove NY Fair Plan\nLivable Streets Community Workshop.
URL:https://parkslopeciviccouncil.org/event/livable-streets-committee-meeting-4-6/
LOCATION:Unnamed Venue\, Brooklyn\, NY
CATEGORIES:Community,Livable Streets
END:VEVENT
BEGIN:VEVENT
DTSTART;TZID=UTC:20150226T080000
DTEND;TZID=UTC:20150226T090000
DTSTAMP:20260423T153343
CREATED:20150224T193050Z
LAST-MODIFIED:20150224T193050Z
UID:9745-1424937600-1424941200@parkslopeciviccouncil.org
SUMMARY:Livable Streets Committee meeting
DESCRIPTION:Livable Streets Committee meeting \nThursday\, 8 – 9 AM \nDu Jour Bakery – 365 5th Avenue \n  \nAgenda: \n\nMove NY Fair Plan\nLivable Streets Community Workshop.
URL:https://parkslopeciviccouncil.org/event/livable-streets-committee-meeting-4-3/
LOCATION:Unnamed Venue\, Brooklyn\, NY
CATEGORIES:Community,Livable Streets
END:VEVENT
BEGIN:VEVENT
DTSTART;TZID=UTC:20150226T080000
DTEND;TZID=UTC:20150226T090000
DTSTAMP:20260423T153343
CREATED:20150224T193050Z
LAST-MODIFIED:20150224T193050Z
UID:12258-1424937600-1424941200@parkslopeciviccouncil.org
SUMMARY:Livable Streets Committee meeting
DESCRIPTION:Livable Streets Committee meeting \nThursday\, 8 – 9 AM \nDu Jour Bakery – 365 5th Avenue \n  \nAgenda: \n\nMove NY Fair Plan\nLivable Streets Community Workshop.
URL:https://parkslopeciviccouncil.org/event/livable-streets-committee-meeting-4-7/
LOCATION:Unnamed Venue\, Brooklyn\, NY
CATEGORIES:Community,Livable Streets
END:VEVENT
BEGIN:VEVENT
DTSTART;TZID=UTC:20150226T080000
DTEND;TZID=UTC:20150226T090000
DTSTAMP:20260423T153343
CREATED:20150224T193050Z
LAST-MODIFIED:20150224T193050Z
UID:10104-1424937600-1424941200@parkslopeciviccouncil.org
SUMMARY:Livable Streets Committee meeting
DESCRIPTION:Livable Streets Committee meeting \nThursday\, 8 – 9 AM \nDu Jour Bakery – 365 5th Avenue \n  \nAgenda: \n\nMove NY Fair Plan\nLivable Streets Community Workshop.
URL:https://parkslopeciviccouncil.org/event/livable-streets-committee-meeting-4-4/
LOCATION:Unnamed Venue\, Brooklyn\, NY
CATEGORIES:Community,Livable Streets
END:VEVENT
BEGIN:VEVENT
DTSTART;TZID=UTC:20150226T080000
DTEND;TZID=UTC:20150226T090000
DTSTAMP:20260423T153343
CREATED:20150224T193050Z
LAST-MODIFIED:20150224T193050Z
UID:5868-1424937600-1424941200@parkslopeciviccouncil.org
SUMMARY:Livable Streets Committee meeting
DESCRIPTION:Livable Streets Committee meeting \nThursday\, 8 – 9 AM \nDu Jour Bakery – 365 5th Avenue \n  \nAgenda: \n\nMove NY Fair Plan\nLivable Streets Community Workshop.
URL:https://parkslopeciviccouncil.org/event/livable-streets-committee-meeting-4/
LOCATION:Unnamed Venue\, Brooklyn\, NY
CATEGORIES:Community,Livable Streets
END:VEVENT
BEGIN:VEVENT
DTSTART;TZID=UTC:20150226T080000
DTEND;TZID=UTC:20150226T090000
DTSTAMP:20260423T153343
CREATED:20150224T193050Z
LAST-MODIFIED:20150224T193050Z
UID:10453-1424937600-1424941200@parkslopeciviccouncil.org
SUMMARY:Livable Streets Committee meeting
DESCRIPTION:Livable Streets Committee meeting \nThursday\, 8 – 9 AM \nDu Jour Bakery – 365 5th Avenue \n  \nAgenda: \n\nMove NY Fair Plan\nLivable Streets Community Workshop.
URL:https://parkslopeciviccouncil.org/event/livable-streets-committee-meeting-4-5/
LOCATION:Unnamed Venue\, Brooklyn\, NY
CATEGORIES:Community,Livable Streets
END:VEVENT
BEGIN:VEVENT
DTSTART;TZID=UTC:20140429T183000
DTEND;TZID=UTC:20140429T203000
DTSTAMP:20260423T153343
CREATED:20140423T143318Z
LAST-MODIFIED:20140423T143318Z
UID:10738-1398796200-1398803400@parkslopeciviccouncil.org
SUMMARY:Vision Zero Workshop
DESCRIPTION:The workshops will be interactive\, with participants given the opportunity to directly provide input about specific locations through mapping exercises. This is the primary mechanism by which we will be taking public input into the development of Vision Zero borough plans. Hosted by the New York City Department of Transportation.\nAlso see Calendar for another workshop on April 24.\nFor further information\, please contact Assemblywoman Joan Millman’s office 718-246-4889
URL:https://parkslopeciviccouncil.org/event/vision-zero-workshop-2-6/
LOCATION:Brooklyn College (Student Center\, 2nd floor)\, Campus Road & E 27th Street\, Brooklyn\, NY
CATEGORIES:Civic News,Community,Livable Streets,Sustainability
END:VEVENT
BEGIN:VEVENT
DTSTART;TZID=UTC:20140429T183000
DTEND;TZID=UTC:20140429T203000
DTSTAMP:20260423T153343
CREATED:20140423T143318Z
LAST-MODIFIED:20140423T143318Z
UID:9710-1398796200-1398803400@parkslopeciviccouncil.org
SUMMARY:Vision Zero Workshop
DESCRIPTION:The workshops will be interactive\, with participants given the opportunity to directly provide input about specific locations through mapping exercises. This is the primary mechanism by which we will be taking public input into the development of Vision Zero borough plans. Hosted by the New York City Department of Transportation.\nAlso see Calendar for another workshop on April 24.\nFor further information\, please contact Assemblywoman Joan Millman’s office 718-246-4889
URL:https://parkslopeciviccouncil.org/event/vision-zero-workshop-2-3/
LOCATION:Brooklyn College (Student Center\, 2nd floor)\, Campus Road & E 27th Street\, Brooklyn\, NY
CATEGORIES:Civic News,Community,Livable Streets,Sustainability
END:VEVENT
BEGIN:VEVENT
DTSTART;TZID=UTC:20140429T183000
DTEND;TZID=UTC:20140429T203000
DTSTAMP:20260423T153343
CREATED:20140423T143318Z
LAST-MODIFIED:20140423T143318Z
UID:12223-1398796200-1398803400@parkslopeciviccouncil.org
SUMMARY:Vision Zero Workshop
DESCRIPTION:The workshops will be interactive\, with participants given the opportunity to directly provide input about specific locations through mapping exercises. This is the primary mechanism by which we will be taking public input into the development of Vision Zero borough plans. Hosted by the New York City Department of Transportation.\nAlso see Calendar for another workshop on April 24.\nFor further information\, please contact Assemblywoman Joan Millman\’s office 718-246-4889
URL:https://parkslopeciviccouncil.org/event/vision-zero-workshop-2-7/
LOCATION:Brooklyn College (Student Center\, 2nd floor)\, Campus Road & E 27th Street\, Brooklyn\, NY
CATEGORIES:Civic News,Community,Livable Streets,Sustainability
END:VEVENT
BEGIN:VEVENT
DTSTART;TZID=UTC:20140429T183000
DTEND;TZID=UTC:20140429T203000
DTSTAMP:20260423T153343
CREATED:20140423T143318Z
LAST-MODIFIED:20140423T143318Z
UID:10069-1398796200-1398803400@parkslopeciviccouncil.org
SUMMARY:Vision Zero Workshop
DESCRIPTION:The workshops will be interactive\, with participants given the opportunity to directly provide input about specific locations through mapping exercises. This is the primary mechanism by which we will be taking public input into the development of Vision Zero borough plans. Hosted by the New York City Department of Transportation.\nAlso see Calendar for another workshop on April 24.\nFor further information\, please contact Assemblywoman Joan Millman’s office 718-246-4889
URL:https://parkslopeciviccouncil.org/event/vision-zero-workshop-2-4/
LOCATION:Brooklyn College (Student Center\, 2nd floor)\, Campus Road & E 27th Street\, Brooklyn\, NY
CATEGORIES:Civic News,Community,Livable Streets,Sustainability
END:VEVENT
BEGIN:VEVENT
DTSTART;TZID=UTC:20140429T183000
DTEND;TZID=UTC:20140429T203000
DTSTAMP:20260423T153343
CREATED:20140423T143318Z
LAST-MODIFIED:20140423T143318Z
UID:5125-1398796200-1398803400@parkslopeciviccouncil.org
SUMMARY:Vision Zero Workshop
DESCRIPTION:The workshops will be interactive\, with participants given the opportunity to directly provide input about specific locations through mapping exercises. This is the primary mechanism by which we will be taking public input into the development of Vision Zero borough plans. Hosted by the New York City Department of Transportation.\nAlso see Calendar for another workshop on April 24.\nFor further information\, please contact Assemblywoman Joan Millman’s office 718-246-4889
URL:https://parkslopeciviccouncil.org/event/vision-zero-workshop-2/
LOCATION:Brooklyn College (Student Center\, 2nd floor)\, Campus Road & E 27th Street\, Brooklyn\, NY
CATEGORIES:Civic News,Community,Livable Streets,Sustainability
END:VEVENT
BEGIN:VEVENT
DTSTART;TZID=UTC:20140429T183000
DTEND;TZID=UTC:20140429T203000
DTSTAMP:20260423T153343
CREATED:20140423T143318Z
LAST-MODIFIED:20140423T143318Z
UID:10418-1398796200-1398803400@parkslopeciviccouncil.org
SUMMARY:Vision Zero Workshop
DESCRIPTION:The workshops will be interactive\, with participants given the opportunity to directly provide input about specific locations through mapping exercises. This is the primary mechanism by which we will be taking public input into the development of Vision Zero borough plans. Hosted by the New York City Department of Transportation.\nAlso see Calendar for another workshop on April 24.\nFor further information\, please contact Assemblywoman Joan Millman’s office 718-246-4889
URL:https://parkslopeciviccouncil.org/event/vision-zero-workshop-2-5/
LOCATION:Brooklyn College (Student Center\, 2nd floor)\, Campus Road & E 27th Street\, Brooklyn\, NY
CATEGORIES:Civic News,Community,Livable Streets,Sustainability
END:VEVENT
BEGIN:VEVENT
DTSTART;TZID=UTC:20140429T183000
DTEND;TZID=UTC:20140429T203000
DTSTAMP:20260423T153343
CREATED:20140423T143318Z
LAST-MODIFIED:20140423T143318Z
UID:9350-1398796200-1398803400@parkslopeciviccouncil.org
SUMMARY:Vision Zero Workshop
DESCRIPTION:The workshops will be interactive\, with participants given the opportunity to directly provide input about specific locations through mapping exercises. This is the primary mechanism by which we will be taking public input into the development of Vision Zero borough plans. Hosted by the New York City Department of Transportation.\nAlso see Calendar for another workshop on April 24.\nFor further information\, please contact Assemblywoman Joan Millman’s office 718-246-4889
URL:https://parkslopeciviccouncil.org/event/vision-zero-workshop-2-2/
LOCATION:Brooklyn College (Student Center\, 2nd floor)\, Campus Road & E 27th Street\, Brooklyn\, NY
CATEGORIES:Civic News,Community,Livable Streets,Sustainability
END:VEVENT
BEGIN:VEVENT
DTSTART;TZID=UTC:20140427T100000
DTEND;TZID=UTC:20140427T140000
DTSTAMP:20260423T153343
CREATED:20140129T154746Z
LAST-MODIFIED:20140129T154746Z
UID:10388-1398592800-1398607200@parkslopeciviccouncil.org
SUMMARY:Spring Civic Sweep 2014
DESCRIPTION:Make a clean sweep of your home and your neighborhood by joining the Park Slope Civic Council at its annual spring beautification and clean-up event: the Spring Civic Sweep. \nPut on your old clothes and join other volunteers in weeding and mulching street trees and picking up litter on the sidewalks of Fourth\, Fifth\, and Seventh Avenues. Learn more about this great and important event here.
URL:https://parkslopeciviccouncil.org/event/spring-civic-sweep-2014-5/
LOCATION:Da Nonna Rosa; Upstairs Room; 140 7th Ave.\, Fifth Avenue between Third and Fourth Streets\, Park Slope\, Brooklyn\, NY\, United States
CATEGORIES:Civic News,Community,Livable Streets,Local business,Outreach,Sustainability
END:VEVENT
BEGIN:VEVENT
DTSTART;TZID=UTC:20140427T100000
DTEND;TZID=UTC:20140427T140000
DTSTAMP:20260423T153343
CREATED:20140129T154746Z
LAST-MODIFIED:20140129T154746Z
UID:9320-1398592800-1398607200@parkslopeciviccouncil.org
SUMMARY:Spring Civic Sweep 2014
DESCRIPTION:Make a clean sweep of your home and your neighborhood by joining the Park Slope Civic Council at its annual spring beautification and clean-up event: the Spring Civic Sweep. \nPut on your old clothes and join other volunteers in weeding and mulching street trees and picking up litter on the sidewalks of Fourth\, Fifth\, and Seventh Avenues. Learn more about this great and important event here.
URL:https://parkslopeciviccouncil.org/event/spring-civic-sweep-2014-2/
LOCATION:Da Nonna Rosa; Upstairs Room; 140 7th Ave.\, Fifth Avenue between Third and Fourth Streets\, Park Slope\, Brooklyn\, NY\, United States
CATEGORIES:Civic News,Community,Livable Streets,Local business,Outreach,Sustainability
END:VEVENT
BEGIN:VEVENT
DTSTART;TZID=UTC:20140427T100000
DTEND;TZID=UTC:20140427T140000
DTSTAMP:20260423T153343
CREATED:20140129T154746Z
LAST-MODIFIED:20140129T154746Z
UID:10708-1398592800-1398607200@parkslopeciviccouncil.org
SUMMARY:Spring Civic Sweep 2014
DESCRIPTION:Make a clean sweep of your home and your neighborhood by joining the Park Slope Civic Council at its annual spring beautification and clean-up event: the Spring Civic Sweep. \nPut on your old clothes and join other volunteers in weeding and mulching street trees and picking up litter on the sidewalks of Fourth\, Fifth\, and Seventh Avenues. Learn more about this great and important event here.
URL:https://parkslopeciviccouncil.org/event/spring-civic-sweep-2014-6/
LOCATION:Da Nonna Rosa; Upstairs Room; 140 7th Ave.\, Fifth Avenue between Third and Fourth Streets\, Park Slope\, Brooklyn\, NY\, United States
CATEGORIES:Civic News,Community,Livable Streets,Local business,Outreach,Sustainability
END:VEVENT
BEGIN:VEVENT
DTSTART;TZID=UTC:20140427T100000
DTEND;TZID=UTC:20140427T140000
DTSTAMP:20260423T153343
CREATED:20140129T154746Z
LAST-MODIFIED:20140129T154746Z
UID:9680-1398592800-1398607200@parkslopeciviccouncil.org
SUMMARY:Spring Civic Sweep 2014
DESCRIPTION:Make a clean sweep of your home and your neighborhood by joining the Park Slope Civic Council at its annual spring beautification and clean-up event: the Spring Civic Sweep. \nPut on your old clothes and join other volunteers in weeding and mulching street trees and picking up litter on the sidewalks of Fourth\, Fifth\, and Seventh Avenues. Learn more about this great and important event here.
URL:https://parkslopeciviccouncil.org/event/spring-civic-sweep-2014-3/
LOCATION:Da Nonna Rosa; Upstairs Room; 140 7th Ave.\, Fifth Avenue between Third and Fourth Streets\, Park Slope\, Brooklyn\, NY\, United States
CATEGORIES:Civic News,Community,Livable Streets,Local business,Outreach,Sustainability
END:VEVENT
BEGIN:VEVENT
DTSTART;TZID=UTC:20140427T100000
DTEND;TZID=UTC:20140427T140000
DTSTAMP:20260423T153343
CREATED:20140129T154746Z
LAST-MODIFIED:20140129T154746Z
UID:12192-1398592800-1398607200@parkslopeciviccouncil.org
SUMMARY:Spring Civic Sweep 2014
DESCRIPTION:Make a clean sweep of your home and your neighborhood by joining the Park Slope Civic Council at its annual spring beautification and clean-up event: the Spring Civic Sweep. \nPut on your old clothes and join other volunteers in weeding and mulching street trees and picking up litter on the sidewalks of Fourth\, Fifth\, and Seventh Avenues. Learn more about this great and important event here.
URL:https://parkslopeciviccouncil.org/event/spring-civic-sweep-2014-7/
LOCATION:Da Nonna Rosa; Upstairs Room; 140 7th Ave.\, Fifth Avenue between Third and Fourth Streets\, Park Slope\, Brooklyn\, NY\, United States
CATEGORIES:Civic News,Community,Livable Streets,Local business,Outreach,Sustainability
END:VEVENT
BEGIN:VEVENT
DTSTART;TZID=UTC:20140427T100000
DTEND;TZID=UTC:20140427T140000
DTSTAMP:20260423T153343
CREATED:20140129T154746Z
LAST-MODIFIED:20140129T154746Z
UID:10039-1398592800-1398607200@parkslopeciviccouncil.org
SUMMARY:Spring Civic Sweep 2014
DESCRIPTION:Make a clean sweep of your home and your neighborhood by joining the Park Slope Civic Council at its annual spring beautification and clean-up event: the Spring Civic Sweep. \nPut on your old clothes and join other volunteers in weeding and mulching street trees and picking up litter on the sidewalks of Fourth\, Fifth\, and Seventh Avenues. Learn more about this great and important event here.
URL:https://parkslopeciviccouncil.org/event/spring-civic-sweep-2014-4/
LOCATION:Da Nonna Rosa; Upstairs Room; 140 7th Ave.\, Fifth Avenue between Third and Fourth Streets\, Park Slope\, Brooklyn\, NY\, United States
CATEGORIES:Civic News,Community,Livable Streets,Local business,Outreach,Sustainability
END:VEVENT
BEGIN:VEVENT
DTSTART;TZID=UTC:20140427T100000
DTEND;TZID=UTC:20140427T140000
DTSTAMP:20260423T153343
CREATED:20140129T154746Z
LAST-MODIFIED:20140129T154746Z
UID:4987-1398592800-1398607200@parkslopeciviccouncil.org
SUMMARY:Spring Civic Sweep 2014
DESCRIPTION:Make a clean sweep of your home and your neighborhood by joining the Park Slope Civic Council at its annual spring beautification and clean-up event: the Spring Civic Sweep. \nPut on your old clothes and join other volunteers in weeding and mulching street trees and picking up litter on the sidewalks of Fourth\, Fifth\, and Seventh Avenues. Learn more about this great and important event here.
URL:https://parkslopeciviccouncil.org/event/spring-civic-sweep-2014/
LOCATION:Da Nonna Rosa; Upstairs Room; 140 7th Ave.\, Fifth Avenue between Third and Fourth Streets\, Park Slope\, Brooklyn\, NY\, United States
CATEGORIES:Civic News,Community,Livable Streets,Local business,Outreach,Sustainability
END:VEVENT
END:VCALENDAR