BEGIN:VCALENDAR
VERSION:2.0
PRODID:-//Park Slope Civic Council - ECPv6.15.20//NONSGML v1.0//EN
CALSCALE:GREGORIAN
METHOD:PUBLISH
X-WR-CALNAME:Park Slope Civic Council
X-ORIGINAL-URL:https://parkslopeciviccouncil.org
X-WR-CALDESC:Events for Park Slope Civic Council
REFRESH-INTERVAL;VALUE=DURATION:PT1H
X-Robots-Tag:noindex
X-PUBLISHED-TTL:PT1H
BEGIN:VTIMEZONE
TZID:UTC
BEGIN:STANDARD
TZOFFSETFROM:+0000
TZOFFSETTO:+0000
TZNAME:UTC
DTSTART:20120101T000000
END:STANDARD
END:VTIMEZONE
BEGIN:VEVENT
DTSTART;TZID=UTC:20140112T100000
DTEND;TZID=UTC:20140112T140000
DTSTAMP:20260423T234005
CREATED:20131216T011926Z
LAST-MODIFIED:20131216T011926Z
UID:10000-1389520800-1389535200@parkslopeciviccouncil.org
SUMMARY:MulchFest Sunday 2014
DESCRIPTION:Click here for more info
URL:https://parkslopeciviccouncil.org/event/mulchfest-sunday-2014-4/
LOCATION:Third Street entrance of Prospect Park or the Park Circle entrance at Parkside Avenue and Prospect Park Southwest\, Brooklyn
CATEGORIES:Civic News,Community,Livable Streets,Sustainability
END:VEVENT
BEGIN:VEVENT
DTSTART;TZID=UTC:20140112T100000
DTEND;TZID=UTC:20140112T140000
DTSTAMP:20260423T234005
CREATED:20131216T011926Z
LAST-MODIFIED:20131216T011926Z
UID:4891-1389520800-1389535200@parkslopeciviccouncil.org
SUMMARY:MulchFest Sunday 2014
DESCRIPTION:Click here for more info
URL:https://parkslopeciviccouncil.org/event/mulchfest-sunday-2014/
LOCATION:Third Street entrance of Prospect Park or the Park Circle entrance at Parkside Avenue and Prospect Park Southwest\, Brooklyn
CATEGORIES:Civic News,Community,Livable Streets,Sustainability
END:VEVENT
BEGIN:VEVENT
DTSTART;TZID=UTC:20140112T100000
DTEND;TZID=UTC:20140112T140000
DTSTAMP:20260423T234005
CREATED:20131216T011926Z
LAST-MODIFIED:20131216T011926Z
UID:10349-1389520800-1389535200@parkslopeciviccouncil.org
SUMMARY:MulchFest Sunday 2014
DESCRIPTION:Click here for more info
URL:https://parkslopeciviccouncil.org/event/mulchfest-sunday-2014-5/
LOCATION:Third Street entrance of Prospect Park or the Park Circle entrance at Parkside Avenue and Prospect Park Southwest\, Brooklyn
CATEGORIES:Civic News,Community,Livable Streets,Sustainability
END:VEVENT
BEGIN:VEVENT
DTSTART;TZID=UTC:20140112T100000
DTEND;TZID=UTC:20140112T140000
DTSTAMP:20260423T234005
CREATED:20131216T011926Z
LAST-MODIFIED:20131216T011926Z
UID:9282-1389520800-1389535200@parkslopeciviccouncil.org
SUMMARY:MulchFest Sunday 2014
DESCRIPTION:Click here for more info
URL:https://parkslopeciviccouncil.org/event/mulchfest-sunday-2014-2/
LOCATION:Third Street entrance of Prospect Park or the Park Circle entrance at Parkside Avenue and Prospect Park Southwest\, Brooklyn
CATEGORIES:Civic News,Community,Livable Streets,Sustainability
END:VEVENT
BEGIN:VEVENT
DTSTART;TZID=UTC:20140112T100000
DTEND;TZID=UTC:20140112T140000
DTSTAMP:20260423T234005
CREATED:20131216T011926Z
LAST-MODIFIED:20131216T011926Z
UID:10670-1389520800-1389535200@parkslopeciviccouncil.org
SUMMARY:MulchFest Sunday 2014
DESCRIPTION:Click here for more info
URL:https://parkslopeciviccouncil.org/event/mulchfest-sunday-2014-6/
LOCATION:Third Street entrance of Prospect Park or the Park Circle entrance at Parkside Avenue and Prospect Park Southwest\, Brooklyn
CATEGORIES:Civic News,Community,Livable Streets,Sustainability
END:VEVENT
BEGIN:VEVENT
DTSTART;TZID=UTC:20140111T100000
DTEND;TZID=UTC:20140111T140000
DTSTAMP:20260423T234005
CREATED:20131207T150122Z
LAST-MODIFIED:20131207T150122Z
UID:12154-1389434400-1389448800@parkslopeciviccouncil.org
SUMMARY:MulchFest Saturday 2014
DESCRIPTION:Click here for more info
URL:https://parkslopeciviccouncil.org/event/mulchfest-2014-7/
LOCATION:Third Street entrance of Prospect Park or the Park Circle entrance at Parkside Avenue and Prospect Park Southwest\, Brooklyn
CATEGORIES:Civic News,Community,Livable Streets,Sustainability
END:VEVENT
BEGIN:VEVENT
DTSTART;TZID=UTC:20140111T100000
DTEND;TZID=UTC:20140111T140000
DTSTAMP:20260423T234005
CREATED:20131207T150122Z
LAST-MODIFIED:20131207T150122Z
UID:9999-1389434400-1389448800@parkslopeciviccouncil.org
SUMMARY:MulchFest Saturday 2014
DESCRIPTION:Click here for more info
URL:https://parkslopeciviccouncil.org/event/mulchfest-2014-4/
LOCATION:Third Street entrance of Prospect Park or the Park Circle entrance at Parkside Avenue and Prospect Park Southwest\, Brooklyn
CATEGORIES:Civic News,Community,Livable Streets,Sustainability
END:VEVENT
BEGIN:VEVENT
DTSTART;TZID=UTC:20140111T100000
DTEND;TZID=UTC:20140111T140000
DTSTAMP:20260423T234005
CREATED:20131207T150122Z
LAST-MODIFIED:20131207T150122Z
UID:4882-1389434400-1389448800@parkslopeciviccouncil.org
SUMMARY:MulchFest Saturday 2014
DESCRIPTION:Click here for more info
URL:https://parkslopeciviccouncil.org/event/mulchfest-2014/
LOCATION:Third Street entrance of Prospect Park or the Park Circle entrance at Parkside Avenue and Prospect Park Southwest\, Brooklyn
CATEGORIES:Civic News,Community,Livable Streets,Sustainability
END:VEVENT
BEGIN:VEVENT
DTSTART;TZID=UTC:20140111T100000
DTEND;TZID=UTC:20140111T140000
DTSTAMP:20260423T234005
CREATED:20131207T150122Z
LAST-MODIFIED:20131207T150122Z
UID:10348-1389434400-1389448800@parkslopeciviccouncil.org
SUMMARY:MulchFest Saturday 2014
DESCRIPTION:Click here for more info
URL:https://parkslopeciviccouncil.org/event/mulchfest-2014-5/
LOCATION:Third Street entrance of Prospect Park or the Park Circle entrance at Parkside Avenue and Prospect Park Southwest\, Brooklyn
CATEGORIES:Civic News,Community,Livable Streets,Sustainability
END:VEVENT
BEGIN:VEVENT
DTSTART;TZID=UTC:20140111T100000
DTEND;TZID=UTC:20140111T140000
DTSTAMP:20260423T234005
CREATED:20131207T150122Z
LAST-MODIFIED:20131207T150122Z
UID:9281-1389434400-1389448800@parkslopeciviccouncil.org
SUMMARY:MulchFest Saturday 2014
DESCRIPTION:Click here for more info
URL:https://parkslopeciviccouncil.org/event/mulchfest-2014-2/
LOCATION:Third Street entrance of Prospect Park or the Park Circle entrance at Parkside Avenue and Prospect Park Southwest\, Brooklyn
CATEGORIES:Civic News,Community,Livable Streets,Sustainability
END:VEVENT
BEGIN:VEVENT
DTSTART;TZID=UTC:20140111T100000
DTEND;TZID=UTC:20140111T140000
DTSTAMP:20260423T234005
CREATED:20131207T150122Z
LAST-MODIFIED:20131207T150122Z
UID:10669-1389434400-1389448800@parkslopeciviccouncil.org
SUMMARY:MulchFest Saturday 2014
DESCRIPTION:Click here for more info
URL:https://parkslopeciviccouncil.org/event/mulchfest-2014-6/
LOCATION:Third Street entrance of Prospect Park or the Park Circle entrance at Parkside Avenue and Prospect Park Southwest\, Brooklyn
CATEGORIES:Civic News,Community,Livable Streets,Sustainability
END:VEVENT
BEGIN:VEVENT
DTSTART;TZID=UTC:20140111T100000
DTEND;TZID=UTC:20140111T140000
DTSTAMP:20260423T234005
CREATED:20131207T150122Z
LAST-MODIFIED:20131207T150122Z
UID:9641-1389434400-1389448800@parkslopeciviccouncil.org
SUMMARY:MulchFest Saturday 2014
DESCRIPTION:Click here for more info
URL:https://parkslopeciviccouncil.org/event/mulchfest-2014-3/
LOCATION:Third Street entrance of Prospect Park or the Park Circle entrance at Parkside Avenue and Prospect Park Southwest\, Brooklyn
CATEGORIES:Civic News,Community,Livable Streets,Sustainability
END:VEVENT
BEGIN:VEVENT
DTSTART;TZID=UTC:20131214T190000
DTEND;TZID=UTC:20131214T210000
DTSTAMP:20260423T234005
CREATED:20131102T142437Z
LAST-MODIFIED:20131102T142437Z
UID:4847-1387047600-1387054800@parkslopeciviccouncil.org
SUMMARY:Jingle Bell Jamboree
DESCRIPTION:
URL:https://parkslopeciviccouncil.org/event/jingle-bell-jamboree/
LOCATION:Congregation Beth Elohim\, 274 Garfield Pl. (Eighth Avenue)\, Brooklyn\, NY\, 11215\, United States
CATEGORIES:Civic News,Community,Livable Streets
END:VEVENT
BEGIN:VEVENT
DTSTART;TZID=UTC:20131214T190000
DTEND;TZID=UTC:20131214T210000
DTSTAMP:20260423T234005
CREATED:20131102T142437Z
LAST-MODIFIED:20131102T142437Z
UID:10346-1387047600-1387054800@parkslopeciviccouncil.org
SUMMARY:Jingle Bell Jamboree
DESCRIPTION:
URL:https://parkslopeciviccouncil.org/event/jingle-bell-jamboree-6/
LOCATION:Congregation Beth Elohim\, 274 Garfield Pl. (Eighth Avenue)\, Brooklyn\, NY\, 11215\, United States
CATEGORIES:Civic News,Community,Livable Streets
END:VEVENT
BEGIN:VEVENT
DTSTART;TZID=UTC:20131214T190000
DTEND;TZID=UTC:20131214T210000
DTSTAMP:20260423T234005
CREATED:20131102T142437Z
LAST-MODIFIED:20131102T142437Z
UID:9279-1387047600-1387054800@parkslopeciviccouncil.org
SUMMARY:Jingle Bell Jamboree
DESCRIPTION:
URL:https://parkslopeciviccouncil.org/event/jingle-bell-jamboree-3/
LOCATION:Congregation Beth Elohim\, 274 Garfield Pl. (Eighth Avenue)\, Brooklyn\, NY\, 11215\, United States
CATEGORIES:Civic News,Community,Livable Streets
END:VEVENT
BEGIN:VEVENT
DTSTART;TZID=UTC:20131214T190000
DTEND;TZID=UTC:20131214T210000
DTSTAMP:20260423T234005
CREATED:20131102T142437Z
LAST-MODIFIED:20131102T142437Z
UID:10667-1387047600-1387054800@parkslopeciviccouncil.org
SUMMARY:Jingle Bell Jamboree
DESCRIPTION:
URL:https://parkslopeciviccouncil.org/event/jingle-bell-jamboree-7/
LOCATION:Congregation Beth Elohim\, 274 Garfield Pl. (Eighth Avenue)\, Brooklyn\, NY\, 11215\, United States
CATEGORIES:Civic News,Community,Livable Streets
END:VEVENT
BEGIN:VEVENT
DTSTART;TZID=UTC:20131214T190000
DTEND;TZID=UTC:20131214T210000
DTSTAMP:20260423T234005
CREATED:20131102T142437Z
LAST-MODIFIED:20131102T142437Z
UID:9639-1387047600-1387054800@parkslopeciviccouncil.org
SUMMARY:Jingle Bell Jamboree
DESCRIPTION:
URL:https://parkslopeciviccouncil.org/event/jingle-bell-jamboree-4/
LOCATION:Congregation Beth Elohim\, 274 Garfield Pl. (Eighth Avenue)\, Brooklyn\, NY\, 11215\, United States
CATEGORIES:Civic News,Community,Livable Streets
END:VEVENT
BEGIN:VEVENT
DTSTART;TZID=UTC:20131214T190000
DTEND;TZID=UTC:20131214T210000
DTSTAMP:20260423T234005
CREATED:20131102T142437Z
LAST-MODIFIED:20131102T142437Z
UID:12152-1387047600-1387054800@parkslopeciviccouncil.org
SUMMARY:Jingle Bell Jamboree
DESCRIPTION:
URL:https://parkslopeciviccouncil.org/event/jingle-bell-jamboree-8/
LOCATION:Congregation Beth Elohim\, 274 Garfield Pl. (Eighth Avenue)\, Brooklyn\, NY\, 11215\, United States
CATEGORIES:Civic News,Community,Livable Streets
END:VEVENT
BEGIN:VEVENT
DTSTART;TZID=UTC:20131214T190000
DTEND;TZID=UTC:20131214T210000
DTSTAMP:20260423T234005
CREATED:20131102T142437Z
LAST-MODIFIED:20131102T142437Z
UID:9997-1387047600-1387054800@parkslopeciviccouncil.org
SUMMARY:Jingle Bell Jamboree
DESCRIPTION:
URL:https://parkslopeciviccouncil.org/event/jingle-bell-jamboree-5/
LOCATION:Congregation Beth Elohim\, 274 Garfield Pl. (Eighth Avenue)\, Brooklyn\, NY\, 11215\, United States
CATEGORIES:Civic News,Community,Livable Streets
END:VEVENT
BEGIN:VEVENT
DTSTART;VALUE=DATE:20131029
DTEND;VALUE=DATE:20131030
DTSTAMP:20260423T234005
CREATED:20130923T144558Z
LAST-MODIFIED:20130923T144558Z
UID:10659-1383004800-1383091199@parkslopeciviccouncil.org
SUMMARY:Landmarks Preservation Commission Hearing
DESCRIPTION:For more info\, please see Expanding the Historic District … Again
URL:https://parkslopeciviccouncil.org/event/landmarks-preservation-commission-hearing-6/
LOCATION:Manhattan Municipal Building\, 1 Centre Street\, 9th Floor\, New York\, NY
CATEGORIES:Civic News,Community,Historic District,Livable Streets,Sustainability
END:VEVENT
BEGIN:VEVENT
DTSTART;VALUE=DATE:20131029
DTEND;VALUE=DATE:20131030
DTSTAMP:20260423T234005
CREATED:20130923T144558Z
LAST-MODIFIED:20130923T144558Z
UID:9631-1383004800-1383091199@parkslopeciviccouncil.org
SUMMARY:Landmarks Preservation Commission Hearing
DESCRIPTION:For more info\, please see Expanding the Historic District … Again
URL:https://parkslopeciviccouncil.org/event/landmarks-preservation-commission-hearing-3/
LOCATION:Manhattan Municipal Building\, 1 Centre Street\, 9th Floor\, New York\, NY
CATEGORIES:Civic News,Community,Historic District,Livable Streets,Sustainability
END:VEVENT
BEGIN:VEVENT
DTSTART;VALUE=DATE:20131029
DTEND;VALUE=DATE:20131030
DTSTAMP:20260423T234005
CREATED:20130923T144558Z
LAST-MODIFIED:20130923T144558Z
UID:12144-1383004800-1383091199@parkslopeciviccouncil.org
SUMMARY:Landmarks Preservation Commission Hearing
DESCRIPTION:For more info\, please see Expanding the Historic District … Again
URL:https://parkslopeciviccouncil.org/event/landmarks-preservation-commission-hearing-7/
LOCATION:Manhattan Municipal Building\, 1 Centre Street\, 9th Floor\, New York\, NY
CATEGORIES:Civic News,Community,Historic District,Livable Streets,Sustainability
END:VEVENT
BEGIN:VEVENT
DTSTART;VALUE=DATE:20131029
DTEND;VALUE=DATE:20131030
DTSTAMP:20260423T234005
CREATED:20130923T144558Z
LAST-MODIFIED:20130923T144558Z
UID:9989-1383004800-1383091199@parkslopeciviccouncil.org
SUMMARY:Landmarks Preservation Commission Hearing
DESCRIPTION:For more info\, please see Expanding the Historic District … Again
URL:https://parkslopeciviccouncil.org/event/landmarks-preservation-commission-hearing-4/
LOCATION:Manhattan Municipal Building\, 1 Centre Street\, 9th Floor\, New York\, NY
CATEGORIES:Civic News,Community,Historic District,Livable Streets,Sustainability
END:VEVENT
BEGIN:VEVENT
DTSTART;VALUE=DATE:20131029
DTEND;VALUE=DATE:20131030
DTSTAMP:20260423T234005
CREATED:20130923T144558Z
LAST-MODIFIED:20130923T144558Z
UID:4801-1383004800-1383091199@parkslopeciviccouncil.org
SUMMARY:Landmarks Preservation Commission Hearing
DESCRIPTION:For more info\, please see Expanding the Historic District … Again
URL:https://parkslopeciviccouncil.org/event/landmarks-preservation-commission-hearing/
LOCATION:Manhattan Municipal Building\, 1 Centre Street\, 9th Floor\, New York\, NY
CATEGORIES:Civic News,Community,Historic District,Livable Streets,Sustainability
END:VEVENT
BEGIN:VEVENT
DTSTART;VALUE=DATE:20131029
DTEND;VALUE=DATE:20131030
DTSTAMP:20260423T234005
CREATED:20130923T144558Z
LAST-MODIFIED:20130923T144558Z
UID:10338-1383004800-1383091199@parkslopeciviccouncil.org
SUMMARY:Landmarks Preservation Commission Hearing
DESCRIPTION:For more info\, please see Expanding the Historic District … Again
URL:https://parkslopeciviccouncil.org/event/landmarks-preservation-commission-hearing-5/
LOCATION:Manhattan Municipal Building\, 1 Centre Street\, 9th Floor\, New York\, NY
CATEGORIES:Civic News,Community,Historic District,Livable Streets,Sustainability
END:VEVENT
BEGIN:VEVENT
DTSTART;VALUE=DATE:20131029
DTEND;VALUE=DATE:20131030
DTSTAMP:20260423T234005
CREATED:20130923T144558Z
LAST-MODIFIED:20130923T144558Z
UID:9271-1383004800-1383091199@parkslopeciviccouncil.org
SUMMARY:Landmarks Preservation Commission Hearing
DESCRIPTION:For more info\, please see Expanding the Historic District … Again
URL:https://parkslopeciviccouncil.org/event/landmarks-preservation-commission-hearing-2/
LOCATION:Manhattan Municipal Building\, 1 Centre Street\, 9th Floor\, New York\, NY
CATEGORIES:Civic News,Community,Historic District,Livable Streets,Sustainability
END:VEVENT
BEGIN:VEVENT
DTSTART;VALUE=DATE:20131019
DTEND;VALUE=DATE:20131020
DTSTAMP:20260423T234005
CREATED:20130808T202148Z
LAST-MODIFIED:20130808T202148Z
UID:12141-1382140800-1382227199@parkslopeciviccouncil.org
SUMMARY:Fall Civic Sweep
DESCRIPTION:
URL:https://parkslopeciviccouncil.org/event/fall-civic-sweep-9/
LOCATION:Da Nonna Rosa; Upstairs Room; 140 7th Ave.\, Fifth Avenue between Third and Fourth Streets\, Park Slope\, Brooklyn\, NY\, United States
CATEGORIES:Civic News,Livable Streets,Sustainability
END:VEVENT
BEGIN:VEVENT
DTSTART;VALUE=DATE:20131019
DTEND;VALUE=DATE:20131020
DTSTAMP:20260423T234005
CREATED:20130808T202148Z
LAST-MODIFIED:20130808T202148Z
UID:9986-1382140800-1382227199@parkslopeciviccouncil.org
SUMMARY:Fall Civic Sweep
DESCRIPTION:
URL:https://parkslopeciviccouncil.org/event/fall-civic-sweep-6/
LOCATION:Da Nonna Rosa; Upstairs Room; 140 7th Ave.\, Fifth Avenue between Third and Fourth Streets\, Park Slope\, Brooklyn\, NY\, United States
CATEGORIES:Civic News,Livable Streets,Sustainability
END:VEVENT
BEGIN:VEVENT
DTSTART;VALUE=DATE:20131019
DTEND;VALUE=DATE:20131020
DTSTAMP:20260423T234005
CREATED:20130808T202148Z
LAST-MODIFIED:20130808T202148Z
UID:4733-1382140800-1382227199@parkslopeciviccouncil.org
SUMMARY:Fall Civic Sweep
DESCRIPTION:
URL:https://parkslopeciviccouncil.org/event/fall-civic-sweep/
LOCATION:Da Nonna Rosa; Upstairs Room; 140 7th Ave.\, Fifth Avenue between Third and Fourth Streets\, Park Slope\, Brooklyn\, NY\, United States
CATEGORIES:Civic News,Livable Streets,Sustainability
END:VEVENT
BEGIN:VEVENT
DTSTART;VALUE=DATE:20131019
DTEND;VALUE=DATE:20131020
DTSTAMP:20260423T234005
CREATED:20130808T202148Z
LAST-MODIFIED:20130808T202148Z
UID:10335-1382140800-1382227199@parkslopeciviccouncil.org
SUMMARY:Fall Civic Sweep
DESCRIPTION:
URL:https://parkslopeciviccouncil.org/event/fall-civic-sweep-7/
LOCATION:Da Nonna Rosa; Upstairs Room; 140 7th Ave.\, Fifth Avenue between Third and Fourth Streets\, Park Slope\, Brooklyn\, NY\, United States
CATEGORIES:Civic News,Livable Streets,Sustainability
END:VEVENT
END:VCALENDAR