BEGIN:VCALENDAR
VERSION:2.0
PRODID:-//Park Slope Civic Council - ECPv6.15.20//NONSGML v1.0//EN
CALSCALE:GREGORIAN
METHOD:PUBLISH
X-WR-CALNAME:Park Slope Civic Council
X-ORIGINAL-URL:https://parkslopeciviccouncil.org
X-WR-CALDESC:Events for Park Slope Civic Council
REFRESH-INTERVAL;VALUE=DURATION:PT1H
X-Robots-Tag:noindex
X-PUBLISHED-TTL:PT1H
BEGIN:VTIMEZONE
TZID:UTC
BEGIN:STANDARD
TZOFFSETFROM:+0000
TZOFFSETTO:+0000
TZNAME:UTC
DTSTART:20120101T000000
END:STANDARD
END:VTIMEZONE
BEGIN:VEVENT
DTSTART;VALUE=DATE:20131029
DTEND;VALUE=DATE:20131030
DTSTAMP:20260424T025731
CREATED:20130923T144558Z
LAST-MODIFIED:20130923T144558Z
UID:10338-1383004800-1383091199@parkslopeciviccouncil.org
SUMMARY:Landmarks Preservation Commission Hearing
DESCRIPTION:For more info\, please see Expanding the Historic District … Again
URL:https://parkslopeciviccouncil.org/event/landmarks-preservation-commission-hearing-5/
LOCATION:Manhattan Municipal Building\, 1 Centre Street\, 9th Floor\, New York\, NY
CATEGORIES:Civic News,Community,Historic District,Livable Streets,Sustainability
END:VEVENT
BEGIN:VEVENT
DTSTART;VALUE=DATE:20131029
DTEND;VALUE=DATE:20131030
DTSTAMP:20260424T025731
CREATED:20130923T144558Z
LAST-MODIFIED:20130923T144558Z
UID:9271-1383004800-1383091199@parkslopeciviccouncil.org
SUMMARY:Landmarks Preservation Commission Hearing
DESCRIPTION:For more info\, please see Expanding the Historic District … Again
URL:https://parkslopeciviccouncil.org/event/landmarks-preservation-commission-hearing-2/
LOCATION:Manhattan Municipal Building\, 1 Centre Street\, 9th Floor\, New York\, NY
CATEGORIES:Civic News,Community,Historic District,Livable Streets,Sustainability
END:VEVENT
BEGIN:VEVENT
DTSTART;VALUE=DATE:20131019
DTEND;VALUE=DATE:20131020
DTSTAMP:20260424T025731
CREATED:20130808T202148Z
LAST-MODIFIED:20130808T202148Z
UID:12141-1382140800-1382227199@parkslopeciviccouncil.org
SUMMARY:Fall Civic Sweep
DESCRIPTION:
URL:https://parkslopeciviccouncil.org/event/fall-civic-sweep-9/
LOCATION:Da Nonna Rosa; Upstairs Room; 140 7th Ave.\, Fifth Avenue between Third and Fourth Streets\, Park Slope\, Brooklyn\, NY\, United States
CATEGORIES:Civic News,Livable Streets,Sustainability
END:VEVENT
BEGIN:VEVENT
DTSTART;VALUE=DATE:20131019
DTEND;VALUE=DATE:20131020
DTSTAMP:20260424T025731
CREATED:20130808T202148Z
LAST-MODIFIED:20130808T202148Z
UID:9986-1382140800-1382227199@parkslopeciviccouncil.org
SUMMARY:Fall Civic Sweep
DESCRIPTION:
URL:https://parkslopeciviccouncil.org/event/fall-civic-sweep-6/
LOCATION:Da Nonna Rosa; Upstairs Room; 140 7th Ave.\, Fifth Avenue between Third and Fourth Streets\, Park Slope\, Brooklyn\, NY\, United States
CATEGORIES:Civic News,Livable Streets,Sustainability
END:VEVENT
BEGIN:VEVENT
DTSTART;VALUE=DATE:20131019
DTEND;VALUE=DATE:20131020
DTSTAMP:20260424T025731
CREATED:20130808T202148Z
LAST-MODIFIED:20130808T202148Z
UID:4733-1382140800-1382227199@parkslopeciviccouncil.org
SUMMARY:Fall Civic Sweep
DESCRIPTION:
URL:https://parkslopeciviccouncil.org/event/fall-civic-sweep/
LOCATION:Da Nonna Rosa; Upstairs Room; 140 7th Ave.\, Fifth Avenue between Third and Fourth Streets\, Park Slope\, Brooklyn\, NY\, United States
CATEGORIES:Civic News,Livable Streets,Sustainability
END:VEVENT
BEGIN:VEVENT
DTSTART;VALUE=DATE:20131019
DTEND;VALUE=DATE:20131020
DTSTAMP:20260424T025731
CREATED:20130808T202148Z
LAST-MODIFIED:20130808T202148Z
UID:10335-1382140800-1382227199@parkslopeciviccouncil.org
SUMMARY:Fall Civic Sweep
DESCRIPTION:
URL:https://parkslopeciviccouncil.org/event/fall-civic-sweep-7/
LOCATION:Da Nonna Rosa; Upstairs Room; 140 7th Ave.\, Fifth Avenue between Third and Fourth Streets\, Park Slope\, Brooklyn\, NY\, United States
CATEGORIES:Civic News,Livable Streets,Sustainability
END:VEVENT
BEGIN:VEVENT
DTSTART;VALUE=DATE:20131019
DTEND;VALUE=DATE:20131020
DTSTAMP:20260424T025731
CREATED:20130808T202148Z
LAST-MODIFIED:20130808T202148Z
UID:9268-1382140800-1382227199@parkslopeciviccouncil.org
SUMMARY:Fall Civic Sweep
DESCRIPTION:
URL:https://parkslopeciviccouncil.org/event/fall-civic-sweep-4/
LOCATION:Da Nonna Rosa; Upstairs Room; 140 7th Ave.\, Fifth Avenue between Third and Fourth Streets\, Park Slope\, Brooklyn\, NY\, United States
CATEGORIES:Civic News,Livable Streets,Sustainability
END:VEVENT
BEGIN:VEVENT
DTSTART;VALUE=DATE:20131019
DTEND;VALUE=DATE:20131020
DTSTAMP:20260424T025731
CREATED:20130808T202148Z
LAST-MODIFIED:20130808T202148Z
UID:10656-1382140800-1382227199@parkslopeciviccouncil.org
SUMMARY:Fall Civic Sweep
DESCRIPTION:
URL:https://parkslopeciviccouncil.org/event/fall-civic-sweep-8/
LOCATION:Da Nonna Rosa; Upstairs Room; 140 7th Ave.\, Fifth Avenue between Third and Fourth Streets\, Park Slope\, Brooklyn\, NY\, United States
CATEGORIES:Civic News,Livable Streets,Sustainability
END:VEVENT
BEGIN:VEVENT
DTSTART;VALUE=DATE:20131019
DTEND;VALUE=DATE:20131020
DTSTAMP:20260424T025731
CREATED:20130808T202148Z
LAST-MODIFIED:20130808T202148Z
UID:9628-1382140800-1382227199@parkslopeciviccouncil.org
SUMMARY:Fall Civic Sweep
DESCRIPTION:
URL:https://parkslopeciviccouncil.org/event/fall-civic-sweep-5/
LOCATION:Da Nonna Rosa; Upstairs Room; 140 7th Ave.\, Fifth Avenue between Third and Fourth Streets\, Park Slope\, Brooklyn\, NY\, United States
CATEGORIES:Civic News,Livable Streets,Sustainability
END:VEVENT
BEGIN:VEVENT
DTSTART;TZID=UTC:20131007T074500
DTEND;TZID=UTC:20131007T084500
DTSTAMP:20260424T025731
CREATED:20130925T150806Z
LAST-MODIFIED:20130925T150806Z
UID:10339-1381131900-1381135500@parkslopeciviccouncil.org
SUMMARY:Livable Streets Meeting
DESCRIPTION:
URL:https://parkslopeciviccouncil.org/event/livable-streets-meeting-5/
LOCATION:Old Stone House\, 336 3rd St\, Brooklyn\, NY\, 11215\, United States
CATEGORIES:Livable Streets
END:VEVENT
BEGIN:VEVENT
DTSTART;TZID=UTC:20131007T074500
DTEND;TZID=UTC:20131007T084500
DTSTAMP:20260424T025731
CREATED:20130925T150806Z
LAST-MODIFIED:20130925T150806Z
UID:9272-1381131900-1381135500@parkslopeciviccouncil.org
SUMMARY:Livable Streets Meeting
DESCRIPTION:
URL:https://parkslopeciviccouncil.org/event/livable-streets-meeting-2/
LOCATION:Old Stone House\, 336 3rd St\, Brooklyn\, NY\, 11215\, United States
CATEGORIES:Livable Streets
END:VEVENT
BEGIN:VEVENT
DTSTART;TZID=UTC:20131007T074500
DTEND;TZID=UTC:20131007T084500
DTSTAMP:20260424T025731
CREATED:20130925T150806Z
LAST-MODIFIED:20130925T150806Z
UID:10660-1381131900-1381135500@parkslopeciviccouncil.org
SUMMARY:Livable Streets Meeting
DESCRIPTION:
URL:https://parkslopeciviccouncil.org/event/livable-streets-meeting-6/
LOCATION:Old Stone House\, 336 3rd St\, Brooklyn\, NY\, 11215\, United States
CATEGORIES:Livable Streets
END:VEVENT
BEGIN:VEVENT
DTSTART;TZID=UTC:20131007T074500
DTEND;TZID=UTC:20131007T084500
DTSTAMP:20260424T025731
CREATED:20130925T150806Z
LAST-MODIFIED:20130925T150806Z
UID:9632-1381131900-1381135500@parkslopeciviccouncil.org
SUMMARY:Livable Streets Meeting
DESCRIPTION:
URL:https://parkslopeciviccouncil.org/event/livable-streets-meeting-3/
LOCATION:Old Stone House\, 336 3rd St\, Brooklyn\, NY\, 11215\, United States
CATEGORIES:Livable Streets
END:VEVENT
BEGIN:VEVENT
DTSTART;TZID=UTC:20131007T074500
DTEND;TZID=UTC:20131007T084500
DTSTAMP:20260424T025731
CREATED:20130925T150806Z
LAST-MODIFIED:20130925T150806Z
UID:12145-1381131900-1381135500@parkslopeciviccouncil.org
SUMMARY:Livable Streets Meeting
DESCRIPTION:
URL:https://parkslopeciviccouncil.org/event/livable-streets-meeting-7/
LOCATION:Old Stone House\, 336 3rd St\, Brooklyn\, NY\, 11215\, United States
CATEGORIES:Livable Streets
END:VEVENT
BEGIN:VEVENT
DTSTART;TZID=UTC:20131007T074500
DTEND;TZID=UTC:20131007T084500
DTSTAMP:20260424T025731
CREATED:20130925T150806Z
LAST-MODIFIED:20130925T150806Z
UID:9990-1381131900-1381135500@parkslopeciviccouncil.org
SUMMARY:Livable Streets Meeting
DESCRIPTION:
URL:https://parkslopeciviccouncil.org/event/livable-streets-meeting-4/
LOCATION:Old Stone House\, 336 3rd St\, Brooklyn\, NY\, 11215\, United States
CATEGORIES:Livable Streets
END:VEVENT
BEGIN:VEVENT
DTSTART;TZID=UTC:20131007T074500
DTEND;TZID=UTC:20131007T084500
DTSTAMP:20260424T025731
CREATED:20130925T150806Z
LAST-MODIFIED:20130925T150806Z
UID:4807-1381131900-1381135500@parkslopeciviccouncil.org
SUMMARY:Livable Streets Meeting
DESCRIPTION:
URL:https://parkslopeciviccouncil.org/event/livable-streets-meeting/
LOCATION:Old Stone House\, 336 3rd St\, Brooklyn\, NY\, 11215\, United States
CATEGORIES:Livable Streets
END:VEVENT
BEGIN:VEVENT
DTSTART;TZID=UTC:20130922T110000
DTEND;TZID=UTC:20130922T123000
DTSTAMP:20260424T025731
CREATED:20130913T205021Z
LAST-MODIFIED:20130913T205021Z
UID:10658-1379847600-1379853000@parkslopeciviccouncil.org
SUMMARY:Sub-Irrigated Planter (SIP) Workshop
DESCRIPTION:
URL:https://parkslopeciviccouncil.org/event/sub-irrigated-planter-sip-workshop-6/
LOCATION:Warren | St. Marks Community Garden\, Warren Street and St. Marks Place and 4th and 5th Avenues\, Brooklyn\, NY
CATEGORIES:Community,Forth on Fourth Avenue,Fourth Avenue,Livable Streets,Sustainability
END:VEVENT
BEGIN:VEVENT
DTSTART;TZID=UTC:20130922T110000
DTEND;TZID=UTC:20130922T123000
DTSTAMP:20260424T025731
CREATED:20130913T205021Z
LAST-MODIFIED:20130913T205021Z
UID:9630-1379847600-1379853000@parkslopeciviccouncil.org
SUMMARY:Sub-Irrigated Planter (SIP) Workshop
DESCRIPTION:
URL:https://parkslopeciviccouncil.org/event/sub-irrigated-planter-sip-workshop-3/
LOCATION:Warren | St. Marks Community Garden\, Warren Street and St. Marks Place and 4th and 5th Avenues\, Brooklyn\, NY
CATEGORIES:Community,Forth on Fourth Avenue,Fourth Avenue,Livable Streets,Sustainability
END:VEVENT
BEGIN:VEVENT
DTSTART;TZID=UTC:20130922T110000
DTEND;TZID=UTC:20130922T123000
DTSTAMP:20260424T025731
CREATED:20130913T205021Z
LAST-MODIFIED:20130913T205021Z
UID:12143-1379847600-1379853000@parkslopeciviccouncil.org
SUMMARY:Sub-Irrigated Planter (SIP) Workshop
DESCRIPTION:
URL:https://parkslopeciviccouncil.org/event/sub-irrigated-planter-sip-workshop-7/
LOCATION:Warren | St. Marks Community Garden\, Warren Street and St. Marks Place and 4th and 5th Avenues\, Brooklyn\, NY
CATEGORIES:Community,Forth on Fourth Avenue,Fourth Avenue,Livable Streets,Sustainability
END:VEVENT
BEGIN:VEVENT
DTSTART;TZID=UTC:20130922T110000
DTEND;TZID=UTC:20130922T123000
DTSTAMP:20260424T025731
CREATED:20130913T205021Z
LAST-MODIFIED:20130913T205021Z
UID:9988-1379847600-1379853000@parkslopeciviccouncil.org
SUMMARY:Sub-Irrigated Planter (SIP) Workshop
DESCRIPTION:
URL:https://parkslopeciviccouncil.org/event/sub-irrigated-planter-sip-workshop-4/
LOCATION:Warren | St. Marks Community Garden\, Warren Street and St. Marks Place and 4th and 5th Avenues\, Brooklyn\, NY
CATEGORIES:Community,Forth on Fourth Avenue,Fourth Avenue,Livable Streets,Sustainability
END:VEVENT
BEGIN:VEVENT
DTSTART;TZID=UTC:20130922T110000
DTEND;TZID=UTC:20130922T123000
DTSTAMP:20260424T025731
CREATED:20130913T205021Z
LAST-MODIFIED:20130913T205021Z
UID:4788-1379847600-1379853000@parkslopeciviccouncil.org
SUMMARY:Sub-Irrigated Planter (SIP) Workshop
DESCRIPTION:
URL:https://parkslopeciviccouncil.org/event/sub-irrigated-planter-sip-workshop/
LOCATION:Warren | St. Marks Community Garden\, Warren Street and St. Marks Place and 4th and 5th Avenues\, Brooklyn\, NY
CATEGORIES:Community,Forth on Fourth Avenue,Fourth Avenue,Livable Streets,Sustainability
END:VEVENT
BEGIN:VEVENT
DTSTART;TZID=UTC:20130922T110000
DTEND;TZID=UTC:20130922T123000
DTSTAMP:20260424T025731
CREATED:20130913T205021Z
LAST-MODIFIED:20130913T205021Z
UID:10337-1379847600-1379853000@parkslopeciviccouncil.org
SUMMARY:Sub-Irrigated Planter (SIP) Workshop
DESCRIPTION:
URL:https://parkslopeciviccouncil.org/event/sub-irrigated-planter-sip-workshop-5/
LOCATION:Warren | St. Marks Community Garden\, Warren Street and St. Marks Place and 4th and 5th Avenues\, Brooklyn\, NY
CATEGORIES:Community,Forth on Fourth Avenue,Fourth Avenue,Livable Streets,Sustainability
END:VEVENT
BEGIN:VEVENT
DTSTART;TZID=UTC:20130922T110000
DTEND;TZID=UTC:20130922T123000
DTSTAMP:20260424T025731
CREATED:20130913T205021Z
LAST-MODIFIED:20130913T205021Z
UID:9270-1379847600-1379853000@parkslopeciviccouncil.org
SUMMARY:Sub-Irrigated Planter (SIP) Workshop
DESCRIPTION:
URL:https://parkslopeciviccouncil.org/event/sub-irrigated-planter-sip-workshop-2/
LOCATION:Warren | St. Marks Community Garden\, Warren Street and St. Marks Place and 4th and 5th Avenues\, Brooklyn\, NY
CATEGORIES:Community,Forth on Fourth Avenue,Fourth Avenue,Livable Streets,Sustainability
END:VEVENT
BEGIN:VEVENT
DTSTART;TZID=UTC:20130402T190000
DTEND;TZID=UTC:20130402T200000
DTSTAMP:20260424T025731
CREATED:20130402T155603Z
LAST-MODIFIED:20130402T155603Z
UID:9980-1364929200-1364932800@parkslopeciviccouncil.org
SUMMARY:Livable Streets Committee Meeting: April
DESCRIPTION:The mission of the Civic Council’s Livable Streets Committee is to improve the use\, safety and quality of the streets\, sidewalks\, and streetscape of Park Slope\, in cooperation with neighboring communities\, in ways that enhance street life and safety for all users. \nPlease e-mail livablestreets@parkslopeciviccouncil.org to confirm the meeting location. \n 
URL:https://parkslopeciviccouncil.org/event/livable-streets-committee-meeting-6-2-4/
LOCATION:Brooklyn Public Library\, Park Slope Branch\, 431 Sixth Ave. between Eighth and Ninth Streets\, Brooklyn\, NY\, 11215\, United States
CATEGORIES:Livable Streets
END:VEVENT
BEGIN:VEVENT
DTSTART;TZID=UTC:20130402T190000
DTEND;TZID=UTC:20130402T200000
DTSTAMP:20260424T025731
CREATED:20130402T155603Z
LAST-MODIFIED:20130402T155603Z
UID:4281-1364929200-1364932800@parkslopeciviccouncil.org
SUMMARY:Livable Streets Committee Meeting: April
DESCRIPTION:The mission of the Civic Council’s Livable Streets Committee is to improve the use\, safety and quality of the streets\, sidewalks\, and streetscape of Park Slope\, in cooperation with neighboring communities\, in ways that enhance street life and safety for all users. \nPlease e-mail livablestreets@parkslopeciviccouncil.org to confirm the meeting location. \n 
URL:https://parkslopeciviccouncil.org/event/livable-streets-committee-meeting-6-2/
LOCATION:Brooklyn Public Library\, Park Slope Branch\, 431 Sixth Ave. between Eighth and Ninth Streets\, Brooklyn\, NY\, 11215\, United States
CATEGORIES:Livable Streets
END:VEVENT
BEGIN:VEVENT
DTSTART;TZID=UTC:20130402T190000
DTEND;TZID=UTC:20130402T200000
DTSTAMP:20260424T025731
CREATED:20130402T155603Z
LAST-MODIFIED:20130402T155603Z
UID:10329-1364929200-1364932800@parkslopeciviccouncil.org
SUMMARY:Livable Streets Committee Meeting: April
DESCRIPTION:The mission of the Civic Council’s Livable Streets Committee is to improve the use\, safety and quality of the streets\, sidewalks\, and streetscape of Park Slope\, in cooperation with neighboring communities\, in ways that enhance street life and safety for all users. \nPlease e-mail livablestreets@parkslopeciviccouncil.org to confirm the meeting location. \n 
URL:https://parkslopeciviccouncil.org/event/livable-streets-committee-meeting-6-2-5/
LOCATION:Brooklyn Public Library\, Park Slope Branch\, 431 Sixth Ave. between Eighth and Ninth Streets\, Brooklyn\, NY\, 11215\, United States
CATEGORIES:Livable Streets
END:VEVENT
BEGIN:VEVENT
DTSTART;TZID=UTC:20130402T190000
DTEND;TZID=UTC:20130402T200000
DTSTAMP:20260424T025731
CREATED:20130402T155603Z
LAST-MODIFIED:20130402T155603Z
UID:9262-1364929200-1364932800@parkslopeciviccouncil.org
SUMMARY:Livable Streets Committee Meeting: April
DESCRIPTION:The mission of the Civic Council’s Livable Streets Committee is to improve the use\, safety and quality of the streets\, sidewalks\, and streetscape of Park Slope\, in cooperation with neighboring communities\, in ways that enhance street life and safety for all users. \nPlease e-mail livablestreets@parkslopeciviccouncil.org to confirm the meeting location. \n 
URL:https://parkslopeciviccouncil.org/event/livable-streets-committee-meeting-6-2-2/
LOCATION:Brooklyn Public Library\, Park Slope Branch\, 431 Sixth Ave. between Eighth and Ninth Streets\, Brooklyn\, NY\, 11215\, United States
CATEGORIES:Livable Streets
END:VEVENT
BEGIN:VEVENT
DTSTART;TZID=UTC:20130402T190000
DTEND;TZID=UTC:20130402T200000
DTSTAMP:20260424T025731
CREATED:20130402T155603Z
LAST-MODIFIED:20130402T155603Z
UID:10650-1364929200-1364932800@parkslopeciviccouncil.org
SUMMARY:Livable Streets Committee Meeting: April
DESCRIPTION:The mission of the Civic Council’s Livable Streets Committee is to improve the use\, safety and quality of the streets\, sidewalks\, and streetscape of Park Slope\, in cooperation with neighboring communities\, in ways that enhance street life and safety for all users. \nPlease e-mail livablestreets@parkslopeciviccouncil.org to confirm the meeting location. \n 
URL:https://parkslopeciviccouncil.org/event/livable-streets-committee-meeting-6-2-6/
LOCATION:Brooklyn Public Library\, Park Slope Branch\, 431 Sixth Ave. between Eighth and Ninth Streets\, Brooklyn\, NY\, 11215\, United States
CATEGORIES:Livable Streets
END:VEVENT
BEGIN:VEVENT
DTSTART;TZID=UTC:20130402T190000
DTEND;TZID=UTC:20130402T200000
DTSTAMP:20260424T025731
CREATED:20130402T155603Z
LAST-MODIFIED:20130402T155603Z
UID:9622-1364929200-1364932800@parkslopeciviccouncil.org
SUMMARY:Livable Streets Committee Meeting: April
DESCRIPTION:The mission of the Civic Council’s Livable Streets Committee is to improve the use\, safety and quality of the streets\, sidewalks\, and streetscape of Park Slope\, in cooperation with neighboring communities\, in ways that enhance street life and safety for all users. \nPlease e-mail livablestreets@parkslopeciviccouncil.org to confirm the meeting location. \n 
URL:https://parkslopeciviccouncil.org/event/livable-streets-committee-meeting-6-2-3/
LOCATION:Brooklyn Public Library\, Park Slope Branch\, 431 Sixth Ave. between Eighth and Ninth Streets\, Brooklyn\, NY\, 11215\, United States
CATEGORIES:Livable Streets
END:VEVENT
BEGIN:VEVENT
DTSTART;TZID=UTC:20130402T190000
DTEND;TZID=UTC:20130402T200000
DTSTAMP:20260424T025731
CREATED:20130402T155603Z
LAST-MODIFIED:20130402T155603Z
UID:12135-1364929200-1364932800@parkslopeciviccouncil.org
SUMMARY:Livable Streets Committee Meeting: April
DESCRIPTION:The mission of the Civic Council’s Livable Streets Committee is to improve the use\, safety and quality of the streets\, sidewalks\, and streetscape of Park Slope\, in cooperation with neighboring communities\, in ways that enhance street life and safety for all users. \nPlease e-mail livablestreets@parkslopeciviccouncil.org to confirm the meeting location. \n 
URL:https://parkslopeciviccouncil.org/event/livable-streets-committee-meeting-6-2-7/
LOCATION:Brooklyn Public Library\, Park Slope Branch\, 431 Sixth Ave. between Eighth and Ninth Streets\, Brooklyn\, NY\, 11215\, United States
CATEGORIES:Livable Streets
END:VEVENT
END:VCALENDAR