BEGIN:VCALENDAR
VERSION:2.0
PRODID:-//Park Slope Civic Council - ECPv6.15.20//NONSGML v1.0//EN
CALSCALE:GREGORIAN
METHOD:PUBLISH
X-ORIGINAL-URL:https://parkslopeciviccouncil.org
X-WR-CALDESC:Events for Park Slope Civic Council
REFRESH-INTERVAL;VALUE=DURATION:PT1H
X-Robots-Tag:noindex
X-PUBLISHED-TTL:PT1H
BEGIN:VTIMEZONE
TZID:America/New_York
BEGIN:DAYLIGHT
TZOFFSETFROM:-0500
TZOFFSETTO:-0400
TZNAME:EDT
DTSTART:20170312T070000
END:DAYLIGHT
BEGIN:STANDARD
TZOFFSETFROM:-0400
TZOFFSETTO:-0500
TZNAME:EST
DTSTART:20171105T060000
END:STANDARD
BEGIN:DAYLIGHT
TZOFFSETFROM:-0500
TZOFFSETTO:-0400
TZNAME:EDT
DTSTART:20180311T070000
END:DAYLIGHT
BEGIN:STANDARD
TZOFFSETFROM:-0400
TZOFFSETTO:-0500
TZNAME:EST
DTSTART:20181104T060000
END:STANDARD
BEGIN:DAYLIGHT
TZOFFSETFROM:-0500
TZOFFSETTO:-0400
TZNAME:EDT
DTSTART:20190310T070000
END:DAYLIGHT
BEGIN:STANDARD
TZOFFSETFROM:-0400
TZOFFSETTO:-0500
TZNAME:EST
DTSTART:20191103T060000
END:STANDARD
BEGIN:DAYLIGHT
TZOFFSETFROM:-0500
TZOFFSETTO:-0400
TZNAME:EDT
DTSTART:20200308T070000
END:DAYLIGHT
BEGIN:STANDARD
TZOFFSETFROM:-0400
TZOFFSETTO:-0500
TZNAME:EST
DTSTART:20201101T060000
END:STANDARD
END:VTIMEZONE
BEGIN:VEVENT
DTSTART;TZID=America/New_York:20190207T190000
DTEND;TZID=America/New_York:20190207T210000
DTSTAMP:20260423T151200
CREATED:20180724T220321Z
LAST-MODIFIED:20180724T220321Z
UID:10250-1549566000-1549573200@parkslopeciviccouncil.org
SUMMARY:Monthly Trustees' Meeting
DESCRIPTION:Please join us for our monthly trustees’ meeting\, 7-9pm at the Old Stone House\, open to all.
URL:https://parkslopeciviccouncil.org/event/monthly-trustees-meeting-4-2-5/
LOCATION:Old Stone House\, 336 3rd St\, Brooklyn\, NY\, 11215\, United States
CATEGORIES:Community,Old Stone House,Trustees Meeting
END:VEVENT
BEGIN:VEVENT
DTSTART;TZID=America/New_York:20190207T190000
DTEND;TZID=America/New_York:20190207T210000
DTSTAMP:20260423T151200
CREATED:20180724T220321Z
LAST-MODIFIED:20180724T220321Z
UID:7626-1549566000-1549573200@parkslopeciviccouncil.org
SUMMARY:Monthly Trustees' Meeting
DESCRIPTION:Please join us for our monthly trustees’ meeting\, 7-9pm at the Old Stone House\, open to all.
URL:https://parkslopeciviccouncil.org/event/monthly-trustees-meeting-4-2/
LOCATION:Old Stone House\, 336 3rd St\, Brooklyn\, NY\, 11215\, United States
CATEGORIES:Community,Old Stone House,Trustees Meeting
END:VEVENT
BEGIN:VEVENT
DTSTART;TZID=America/New_York:20190207T190000
DTEND;TZID=America/New_York:20190207T210000
DTSTAMP:20260423T151200
CREATED:20180724T220321Z
LAST-MODIFIED:20180724T220321Z
UID:10918-1549566000-1549573200@parkslopeciviccouncil.org
SUMMARY:Monthly Trustees' Meeting
DESCRIPTION:Please join us for our monthly trustees’ meeting\, 7-9pm at the Old Stone House\, open to all.
URL:https://parkslopeciviccouncil.org/event/monthly-trustees-meeting-4-2-6/
LOCATION:Old Stone House\, 336 3rd St\, Brooklyn\, NY\, 11215\, United States
CATEGORIES:Community,Old Stone House,Trustees Meeting
END:VEVENT
BEGIN:VEVENT
DTSTART;TZID=America/New_York:20190207T190000
DTEND;TZID=America/New_York:20190207T210000
DTSTAMP:20260423T151200
CREATED:20180724T220321Z
LAST-MODIFIED:20180724T220321Z
UID:9531-1549566000-1549573200@parkslopeciviccouncil.org
SUMMARY:Monthly Trustees' Meeting
DESCRIPTION:Please join us for our monthly trustees’ meeting\, 7-9pm at the Old Stone House\, open to all.
URL:https://parkslopeciviccouncil.org/event/monthly-trustees-meeting-4-2-3/
LOCATION:Old Stone House\, 336 3rd St\, Brooklyn\, NY\, 11215\, United States
CATEGORIES:Community,Old Stone House,Trustees Meeting
END:VEVENT
BEGIN:VEVENT
DTSTART;TZID=America/New_York:20190207T190000
DTEND;TZID=America/New_York:20190207T210000
DTSTAMP:20260423T151200
CREATED:20180724T220321Z
LAST-MODIFIED:20180724T220321Z
UID:12403-1549566000-1549573200@parkslopeciviccouncil.org
SUMMARY:Monthly Trustees\' Meeting
DESCRIPTION:Please join us for our monthly trustees\’ meeting\, 7-9pm at the Old Stone House\, open to all.
URL:https://parkslopeciviccouncil.org/event/monthly-trustees-meeting-4-2-7/
LOCATION:Old Stone House\, 336 3rd St\, Brooklyn\, NY\, 11215\, United States
CATEGORIES:Community,Old Stone House,Trustees Meeting
END:VEVENT
BEGIN:VEVENT
DTSTART;TZID=America/New_York:20190207T190000
DTEND;TZID=America/New_York:20190207T210000
DTSTAMP:20260423T151200
CREATED:20180724T220321Z
LAST-MODIFIED:20180724T220321Z
UID:9890-1549566000-1549573200@parkslopeciviccouncil.org
SUMMARY:Monthly Trustees' Meeting
DESCRIPTION:Please join us for our monthly trustees’ meeting\, 7-9pm at the Old Stone House\, open to all.
URL:https://parkslopeciviccouncil.org/event/monthly-trustees-meeting-4-2-4/
LOCATION:Old Stone House\, 336 3rd St\, Brooklyn\, NY\, 11215\, United States
CATEGORIES:Community,Old Stone House,Trustees Meeting
END:VEVENT
BEGIN:VEVENT
DTSTART;TZID=America/New_York:20190110T190000
DTEND;TZID=America/New_York:20190110T210000
DTSTAMP:20260423T151200
CREATED:20180724T220321Z
LAST-MODIFIED:20180724T220321Z
UID:7616-1547146800-1547154000@parkslopeciviccouncil.org
SUMMARY:Monthly Trustees' Meeting
DESCRIPTION:Please join us for our monthly trustees’ meeting\, 7-9pm at the Old Stone House\, open to all.
URL:https://parkslopeciviccouncil.org/event/monthly-trustees-meeting-4/
LOCATION:Old Stone House\, 336 3rd St\, Brooklyn\, NY\, 11215\, United States
CATEGORIES:Community,Old Stone House,Trustees Meeting
END:VEVENT
BEGIN:VEVENT
DTSTART;TZID=America/New_York:20190110T190000
DTEND;TZID=America/New_York:20190110T210000
DTSTAMP:20260423T151200
CREATED:20180724T220321Z
LAST-MODIFIED:20180724T220321Z
UID:10916-1547146800-1547154000@parkslopeciviccouncil.org
SUMMARY:Monthly Trustees' Meeting
DESCRIPTION:Please join us for our monthly trustees’ meeting\, 7-9pm at the Old Stone House\, open to all.
URL:https://parkslopeciviccouncil.org/event/monthly-trustees-meeting-4-6/
LOCATION:Old Stone House\, 336 3rd St\, Brooklyn\, NY\, 11215\, United States
CATEGORIES:Community,Old Stone House,Trustees Meeting
END:VEVENT
BEGIN:VEVENT
DTSTART;TZID=America/New_York:20190110T190000
DTEND;TZID=America/New_York:20190110T210000
DTSTAMP:20260423T151200
CREATED:20180724T220321Z
LAST-MODIFIED:20180724T220321Z
UID:9529-1547146800-1547154000@parkslopeciviccouncil.org
SUMMARY:Monthly Trustees' Meeting
DESCRIPTION:Please join us for our monthly trustees’ meeting\, 7-9pm at the Old Stone House\, open to all.
URL:https://parkslopeciviccouncil.org/event/monthly-trustees-meeting-4-3/
LOCATION:Old Stone House\, 336 3rd St\, Brooklyn\, NY\, 11215\, United States
CATEGORIES:Community,Old Stone House,Trustees Meeting
END:VEVENT
BEGIN:VEVENT
DTSTART;TZID=America/New_York:20190110T190000
DTEND;TZID=America/New_York:20190110T210000
DTSTAMP:20260423T151200
CREATED:20180724T220321Z
LAST-MODIFIED:20180724T220321Z
UID:12401-1547146800-1547154000@parkslopeciviccouncil.org
SUMMARY:Monthly Trustees\' Meeting
DESCRIPTION:Please join us for our monthly trustees\’ meeting\, 7-9pm at the Old Stone House\, open to all.
URL:https://parkslopeciviccouncil.org/event/monthly-trustees-meeting-4-7/
LOCATION:Old Stone House\, 336 3rd St\, Brooklyn\, NY\, 11215\, United States
CATEGORIES:Community,Old Stone House,Trustees Meeting
END:VEVENT
BEGIN:VEVENT
DTSTART;TZID=America/New_York:20190110T190000
DTEND;TZID=America/New_York:20190110T210000
DTSTAMP:20260423T151200
CREATED:20180724T220321Z
LAST-MODIFIED:20180724T220321Z
UID:9888-1547146800-1547154000@parkslopeciviccouncil.org
SUMMARY:Monthly Trustees' Meeting
DESCRIPTION:Please join us for our monthly trustees’ meeting\, 7-9pm at the Old Stone House\, open to all.
URL:https://parkslopeciviccouncil.org/event/monthly-trustees-meeting-4-4/
LOCATION:Old Stone House\, 336 3rd St\, Brooklyn\, NY\, 11215\, United States
CATEGORIES:Community,Old Stone House,Trustees Meeting
END:VEVENT
BEGIN:VEVENT
DTSTART;TZID=America/New_York:20190110T190000
DTEND;TZID=America/New_York:20190110T210000
DTSTAMP:20260423T151200
CREATED:20180724T220321Z
LAST-MODIFIED:20180724T220321Z
UID:10248-1547146800-1547154000@parkslopeciviccouncil.org
SUMMARY:Monthly Trustees' Meeting
DESCRIPTION:Please join us for our monthly trustees’ meeting\, 7-9pm at the Old Stone House\, open to all.
URL:https://parkslopeciviccouncil.org/event/monthly-trustees-meeting-4-5/
LOCATION:Old Stone House\, 336 3rd St\, Brooklyn\, NY\, 11215\, United States
CATEGORIES:Community,Old Stone House,Trustees Meeting
END:VEVENT
BEGIN:VEVENT
DTSTART;TZID=America/New_York:20181206T190000
DTEND;TZID=America/New_York:20181206T210000
DTSTAMP:20260423T151200
CREATED:20180724T220204Z
LAST-MODIFIED:20180724T220204Z
UID:10915-1544122800-1544130000@parkslopeciviccouncil.org
SUMMARY:Monthly Trustees' Meeting
DESCRIPTION:Please join us for our monthly trustees’ meeting\, 7-9pm at the Old Stone House\, open to all.
URL:https://parkslopeciviccouncil.org/event/monthly-trustees-meeting-3-5/
LOCATION:Old Stone House\, 336 3rd St\, Brooklyn\, NY\, 11215\, United States
CATEGORIES:Community,Old Stone House,Trustees Meeting
END:VEVENT
BEGIN:VEVENT
DTSTART;TZID=America/New_York:20181206T190000
DTEND;TZID=America/New_York:20181206T210000
DTSTAMP:20260423T151200
CREATED:20180724T220204Z
LAST-MODIFIED:20180724T220204Z
UID:9528-1544122800-1544130000@parkslopeciviccouncil.org
SUMMARY:Monthly Trustees' Meeting
DESCRIPTION:Please join us for our monthly trustees’ meeting\, 7-9pm at the Old Stone House\, open to all.
URL:https://parkslopeciviccouncil.org/event/monthly-trustees-meeting-3-2/
LOCATION:Old Stone House\, 336 3rd St\, Brooklyn\, NY\, 11215\, United States
CATEGORIES:Community,Old Stone House,Trustees Meeting
END:VEVENT
BEGIN:VEVENT
DTSTART;TZID=America/New_York:20181206T190000
DTEND;TZID=America/New_York:20181206T210000
DTSTAMP:20260423T151200
CREATED:20180724T220204Z
LAST-MODIFIED:20180724T220204Z
UID:12400-1544122800-1544130000@parkslopeciviccouncil.org
SUMMARY:Monthly Trustees\' Meeting
DESCRIPTION:Please join us for our monthly trustees\’ meeting\, 7-9pm at the Old Stone House\, open to all.
URL:https://parkslopeciviccouncil.org/event/monthly-trustees-meeting-3-6/
LOCATION:Old Stone House\, 336 3rd St\, Brooklyn\, NY\, 11215\, United States
CATEGORIES:Community,Old Stone House,Trustees Meeting
END:VEVENT
BEGIN:VEVENT
DTSTART;TZID=America/New_York:20181206T190000
DTEND;TZID=America/New_York:20181206T210000
DTSTAMP:20260423T151200
CREATED:20180724T220204Z
LAST-MODIFIED:20180724T220204Z
UID:9887-1544122800-1544130000@parkslopeciviccouncil.org
SUMMARY:Monthly Trustees' Meeting
DESCRIPTION:Please join us for our monthly trustees’ meeting\, 7-9pm at the Old Stone House\, open to all.
URL:https://parkslopeciviccouncil.org/event/monthly-trustees-meeting-3-3/
LOCATION:Old Stone House\, 336 3rd St\, Brooklyn\, NY\, 11215\, United States
CATEGORIES:Community,Old Stone House,Trustees Meeting
END:VEVENT
BEGIN:VEVENT
DTSTART;TZID=America/New_York:20181206T190000
DTEND;TZID=America/New_York:20181206T210000
DTSTAMP:20260423T151200
CREATED:20180724T220204Z
LAST-MODIFIED:20180724T220204Z
UID:10247-1544122800-1544130000@parkslopeciviccouncil.org
SUMMARY:Monthly Trustees' Meeting
DESCRIPTION:Please join us for our monthly trustees’ meeting\, 7-9pm at the Old Stone House\, open to all.
URL:https://parkslopeciviccouncil.org/event/monthly-trustees-meeting-3-4/
LOCATION:Old Stone House\, 336 3rd St\, Brooklyn\, NY\, 11215\, United States
CATEGORIES:Community,Old Stone House,Trustees Meeting
END:VEVENT
BEGIN:VEVENT
DTSTART;TZID=America/New_York:20181206T190000
DTEND;TZID=America/New_York:20181206T210000
DTSTAMP:20260423T151200
CREATED:20180724T220204Z
LAST-MODIFIED:20180724T220204Z
UID:7615-1544122800-1544130000@parkslopeciviccouncil.org
SUMMARY:Monthly Trustees' Meeting
DESCRIPTION:Please join us for our monthly trustees’ meeting\, 7-9pm at the Old Stone House\, open to all.
URL:https://parkslopeciviccouncil.org/event/monthly-trustees-meeting-3/
LOCATION:Old Stone House\, 336 3rd St\, Brooklyn\, NY\, 11215\, United States
CATEGORIES:Community,Old Stone House,Trustees Meeting
END:VEVENT
BEGIN:VEVENT
DTSTART;TZID=America/New_York:20181101T190000
DTEND;TZID=America/New_York:20181101T210000
DTSTAMP:20260423T151200
CREATED:20180724T220029Z
LAST-MODIFIED:20180724T220029Z
UID:12399-1541098800-1541106000@parkslopeciviccouncil.org
SUMMARY:Monthly Trustees\' Meeting
DESCRIPTION:Please join us for our monthly trustees\’ meeting\, 7-9pm at the Old Stone House\, open to all.
URL:https://parkslopeciviccouncil.org/event/monthly-trustees-meeting-2-6/
LOCATION:Old Stone House\, 336 3rd St\, Brooklyn\, NY\, 11215\, United States
CATEGORIES:Old Stone House,Trustees Meeting
END:VEVENT
BEGIN:VEVENT
DTSTART;TZID=America/New_York:20181101T190000
DTEND;TZID=America/New_York:20181101T210000
DTSTAMP:20260423T151200
CREATED:20180724T220029Z
LAST-MODIFIED:20180724T220029Z
UID:9886-1541098800-1541106000@parkslopeciviccouncil.org
SUMMARY:Monthly Trustees' Meeting
DESCRIPTION:Please join us for our monthly trustees’ meeting\, 7-9pm at the Old Stone House\, open to all.
URL:https://parkslopeciviccouncil.org/event/monthly-trustees-meeting-2-3/
LOCATION:Old Stone House\, 336 3rd St\, Brooklyn\, NY\, 11215\, United States
CATEGORIES:Old Stone House,Trustees Meeting
END:VEVENT
BEGIN:VEVENT
DTSTART;TZID=America/New_York:20181101T190000
DTEND;TZID=America/New_York:20181101T210000
DTSTAMP:20260423T151200
CREATED:20180724T220029Z
LAST-MODIFIED:20180724T220029Z
UID:10246-1541098800-1541106000@parkslopeciviccouncil.org
SUMMARY:Monthly Trustees' Meeting
DESCRIPTION:Please join us for our monthly trustees’ meeting\, 7-9pm at the Old Stone House\, open to all.
URL:https://parkslopeciviccouncil.org/event/monthly-trustees-meeting-2-4/
LOCATION:Old Stone House\, 336 3rd St\, Brooklyn\, NY\, 11215\, United States
CATEGORIES:Old Stone House,Trustees Meeting
END:VEVENT
BEGIN:VEVENT
DTSTART;TZID=America/New_York:20181101T190000
DTEND;TZID=America/New_York:20181101T210000
DTSTAMP:20260423T151200
CREATED:20180724T220029Z
LAST-MODIFIED:20180724T220029Z
UID:7614-1541098800-1541106000@parkslopeciviccouncil.org
SUMMARY:Monthly Trustees' Meeting
DESCRIPTION:Please join us for our monthly trustees’ meeting\, 7-9pm at the Old Stone House\, open to all.
URL:https://parkslopeciviccouncil.org/event/monthly-trustees-meeting-2/
LOCATION:Old Stone House\, 336 3rd St\, Brooklyn\, NY\, 11215\, United States
CATEGORIES:Old Stone House,Trustees Meeting
END:VEVENT
BEGIN:VEVENT
DTSTART;TZID=America/New_York:20181101T190000
DTEND;TZID=America/New_York:20181101T210000
DTSTAMP:20260423T151200
CREATED:20180724T220029Z
LAST-MODIFIED:20180724T220029Z
UID:10914-1541098800-1541106000@parkslopeciviccouncil.org
SUMMARY:Monthly Trustees' Meeting
DESCRIPTION:Please join us for our monthly trustees’ meeting\, 7-9pm at the Old Stone House\, open to all.
URL:https://parkslopeciviccouncil.org/event/monthly-trustees-meeting-2-5/
LOCATION:Old Stone House\, 336 3rd St\, Brooklyn\, NY\, 11215\, United States
CATEGORIES:Old Stone House,Trustees Meeting
END:VEVENT
BEGIN:VEVENT
DTSTART;TZID=America/New_York:20181101T190000
DTEND;TZID=America/New_York:20181101T210000
DTSTAMP:20260423T151200
CREATED:20180724T220029Z
LAST-MODIFIED:20180724T220029Z
UID:9527-1541098800-1541106000@parkslopeciviccouncil.org
SUMMARY:Monthly Trustees' Meeting
DESCRIPTION:Please join us for our monthly trustees’ meeting\, 7-9pm at the Old Stone House\, open to all.
URL:https://parkslopeciviccouncil.org/event/monthly-trustees-meeting-2-2/
LOCATION:Old Stone House\, 336 3rd St\, Brooklyn\, NY\, 11215\, United States
CATEGORIES:Old Stone House,Trustees Meeting
END:VEVENT
BEGIN:VEVENT
DTSTART;TZID=America/New_York:20181031T183000
DTEND;TZID=America/New_York:20181031T183000
DTSTAMP:20260423T151200
CREATED:20180725T024455Z
LAST-MODIFIED:20180725T024455Z
UID:10249-1541010600-1541010600@parkslopeciviccouncil.org
SUMMARY:Annual Halloween Parade
DESCRIPTION:Join us for the annual Park Slope Civic Council Halloween Parade on Wednesday\, October 31\, 2018\, kicking off from 14th Street and 7th Avenue at 6:30 pm. The parade will head north on 7th Avenue\, turn left on 3rd Street and end in J.J. Byrne Playground at the Old Stone House.  This is a family-friendly event with a focus on children.
URL:https://parkslopeciviccouncil.org/event/annual-halloween-parade-4/
LOCATION:Starting Point: 14th Street and 7th Avenue\, Head North on 7th Ave\, Turn Left on 3rd St\, End at J.J. Byrne Playground\, Brooklyn\, NY 11215\, Brooklyn\, NY\, 11215\, United States
CATEGORIES:Community,Halloween Parade,Old Stone House
END:VEVENT
BEGIN:VEVENT
DTSTART;TZID=America/New_York:20181031T183000
DTEND;TZID=America/New_York:20181031T183000
DTSTAMP:20260423T151200
CREATED:20180725T024455Z
LAST-MODIFIED:20180725T024455Z
UID:7617-1541010600-1541010600@parkslopeciviccouncil.org
SUMMARY:Annual Halloween Parade
DESCRIPTION:Join us for the annual Park Slope Civic Council Halloween Parade on Wednesday\, October 31\, 2018\, kicking off from 14th Street and 7th Avenue at 6:30 pm. The parade will head north on 7th Avenue\, turn left on 3rd Street and end in J.J. Byrne Playground at the Old Stone House.  This is a family-friendly event with a focus on children.
URL:https://parkslopeciviccouncil.org/event/annual-halloween-parade/
LOCATION:Starting Point: 14th Street and 7th Avenue\, Head North on 7th Ave\, Turn Left on 3rd St\, End at J.J. Byrne Playground\, Brooklyn\, NY 11215\, Brooklyn\, NY\, 11215\, United States
CATEGORIES:Community,Halloween Parade,Old Stone House
END:VEVENT
BEGIN:VEVENT
DTSTART;TZID=America/New_York:20181031T183000
DTEND;TZID=America/New_York:20181031T183000
DTSTAMP:20260423T151200
CREATED:20180725T024455Z
LAST-MODIFIED:20180725T024455Z
UID:10917-1541010600-1541010600@parkslopeciviccouncil.org
SUMMARY:Annual Halloween Parade
DESCRIPTION:Join us for the annual Park Slope Civic Council Halloween Parade on Wednesday\, October 31\, 2018\, kicking off from 14th Street and 7th Avenue at 6:30 pm. The parade will head north on 7th Avenue\, turn left on 3rd Street and end in J.J. Byrne Playground at the Old Stone House.  This is a family-friendly event with a focus on children.
URL:https://parkslopeciviccouncil.org/event/annual-halloween-parade-5/
LOCATION:Starting Point: 14th Street and 7th Avenue\, Head North on 7th Ave\, Turn Left on 3rd St\, End at J.J. Byrne Playground\, Brooklyn\, NY 11215\, Brooklyn\, NY\, 11215\, United States
CATEGORIES:Community,Halloween Parade,Old Stone House
END:VEVENT
BEGIN:VEVENT
DTSTART;TZID=America/New_York:20181031T183000
DTEND;TZID=America/New_York:20181031T183000
DTSTAMP:20260423T151200
CREATED:20180725T024455Z
LAST-MODIFIED:20180725T024455Z
UID:9530-1541010600-1541010600@parkslopeciviccouncil.org
SUMMARY:Annual Halloween Parade
DESCRIPTION:Join us for the annual Park Slope Civic Council Halloween Parade on Wednesday\, October 31\, 2018\, kicking off from 14th Street and 7th Avenue at 6:30 pm. The parade will head north on 7th Avenue\, turn left on 3rd Street and end in J.J. Byrne Playground at the Old Stone House.  This is a family-friendly event with a focus on children.
URL:https://parkslopeciviccouncil.org/event/annual-halloween-parade-2/
LOCATION:Starting Point: 14th Street and 7th Avenue\, Head North on 7th Ave\, Turn Left on 3rd St\, End at J.J. Byrne Playground\, Brooklyn\, NY 11215\, Brooklyn\, NY\, 11215\, United States
CATEGORIES:Community,Halloween Parade,Old Stone House
END:VEVENT
BEGIN:VEVENT
DTSTART;TZID=America/New_York:20181031T183000
DTEND;TZID=America/New_York:20181031T183000
DTSTAMP:20260423T151200
CREATED:20180725T024455Z
LAST-MODIFIED:20180725T024455Z
UID:12402-1541010600-1541010600@parkslopeciviccouncil.org
SUMMARY:Annual Halloween Parade
DESCRIPTION:Join us for the annual Park Slope Civic Council Halloween Parade on Wednesday\, October 31\, 2018\, kicking off from 14th Street and 7th Avenue at 6:30 pm. The parade will head north on 7th Avenue\, turn left on 3rd Street and end in J.J. Byrne Playground at the Old Stone House.  This is a family-friendly event with a focus on children.
URL:https://parkslopeciviccouncil.org/event/annual-halloween-parade-6/
LOCATION:Starting Point: 14th Street and 7th Avenue\, Head North on 7th Ave\, Turn Left on 3rd St\, End at J.J. Byrne Playground\, Brooklyn\, NY 11215\, Brooklyn\, NY\, 11215\, United States
CATEGORIES:Community,Halloween Parade,Old Stone House
END:VEVENT
BEGIN:VEVENT
DTSTART;TZID=America/New_York:20181031T183000
DTEND;TZID=America/New_York:20181031T183000
DTSTAMP:20260423T151200
CREATED:20180725T024455Z
LAST-MODIFIED:20180725T024455Z
UID:9889-1541010600-1541010600@parkslopeciviccouncil.org
SUMMARY:Annual Halloween Parade
DESCRIPTION:Join us for the annual Park Slope Civic Council Halloween Parade on Wednesday\, October 31\, 2018\, kicking off from 14th Street and 7th Avenue at 6:30 pm. The parade will head north on 7th Avenue\, turn left on 3rd Street and end in J.J. Byrne Playground at the Old Stone House.  This is a family-friendly event with a focus on children.
URL:https://parkslopeciviccouncil.org/event/annual-halloween-parade-3/
LOCATION:Starting Point: 14th Street and 7th Avenue\, Head North on 7th Ave\, Turn Left on 3rd St\, End at J.J. Byrne Playground\, Brooklyn\, NY 11215\, Brooklyn\, NY\, 11215\, United States
CATEGORIES:Community,Halloween Parade,Old Stone House
END:VEVENT
END:VCALENDAR