BEGIN:VCALENDAR
VERSION:2.0
PRODID:-//Park Slope Civic Council - ECPv6.15.20//NONSGML v1.0//EN
CALSCALE:GREGORIAN
METHOD:PUBLISH
X-WR-CALNAME:Park Slope Civic Council
X-ORIGINAL-URL:https://parkslopeciviccouncil.org
X-WR-CALDESC:Events for Park Slope Civic Council
REFRESH-INTERVAL;VALUE=DURATION:PT1H
X-Robots-Tag:noindex
X-PUBLISHED-TTL:PT1H
BEGIN:VTIMEZONE
TZID:America/New_York
BEGIN:DAYLIGHT
TZOFFSETFROM:-0500
TZOFFSETTO:-0400
TZNAME:EDT
DTSTART:20170312T070000
END:DAYLIGHT
BEGIN:STANDARD
TZOFFSETFROM:-0400
TZOFFSETTO:-0500
TZNAME:EST
DTSTART:20171105T060000
END:STANDARD
BEGIN:DAYLIGHT
TZOFFSETFROM:-0500
TZOFFSETTO:-0400
TZNAME:EDT
DTSTART:20180311T070000
END:DAYLIGHT
BEGIN:STANDARD
TZOFFSETFROM:-0400
TZOFFSETTO:-0500
TZNAME:EST
DTSTART:20181104T060000
END:STANDARD
BEGIN:DAYLIGHT
TZOFFSETFROM:-0500
TZOFFSETTO:-0400
TZNAME:EDT
DTSTART:20190310T070000
END:DAYLIGHT
BEGIN:STANDARD
TZOFFSETFROM:-0400
TZOFFSETTO:-0500
TZNAME:EST
DTSTART:20191103T060000
END:STANDARD
END:VTIMEZONE
BEGIN:VEVENT
DTSTART;TZID=America/New_York:20180328T183000
DTEND;TZID=America/New_York:20180328T203000
DTSTAMP:20260424T120816
CREATED:20180315T153505Z
LAST-MODIFIED:20180315T153505Z
UID:10561-1522261800-1522269000@parkslopeciviccouncil.org
SUMMARY:Gowanus Lowlands Master Plan Community Feedback Forum
DESCRIPTION:Please join the Gowanus Canal Conservancy\, Old Stone House\, the Park Slope Civic Council\, and Forth on Fourth Avenue on Wednesday\, March 28th at 6:30pm at the Old Stone House for a workshop on the Gowanus Lowlands Master Plan. Help develop a vision for the future of public space in the neighborhood and along the waterfront! \n \n\n\nMore information about the Gowanus Lowlands here.  Can’t make this meeting but want to get involved?  Email lowlands@gowanuscanalconservancy.org for more workshop dates.
URL:https://parkslopeciviccouncil.org/event/gowanus-lowlands-master-plan-community-feedback-forum-5/
LOCATION:Old Stone House\, 336 3rd St\, Brooklyn\, NY\, 11215\, United States
CATEGORIES:Community,Outreach,Sustainability
END:VEVENT
BEGIN:VEVENT
DTSTART;TZID=America/New_York:20180328T183000
DTEND;TZID=America/New_York:20180328T203000
DTSTAMP:20260424T120816
CREATED:20180315T153505Z
LAST-MODIFIED:20180315T153505Z
UID:10881-1522261800-1522269000@parkslopeciviccouncil.org
SUMMARY:Gowanus Lowlands Master Plan Community Feedback Forum
DESCRIPTION:Please join the Gowanus Canal Conservancy\, Old Stone House\, the Park Slope Civic Council\, and Forth on Fourth Avenue on Wednesday\, March 28th at 6:30pm at the Old Stone House for a workshop on the Gowanus Lowlands Master Plan. Help develop a vision for the future of public space in the neighborhood and along the waterfront! \n \n\n\nMore information about the Gowanus Lowlands here.  Can’t make this meeting but want to get involved?  Email lowlands@gowanuscanalconservancy.org for more workshop dates.
URL:https://parkslopeciviccouncil.org/event/gowanus-lowlands-master-plan-community-feedback-forum-6/
LOCATION:Old Stone House\, 336 3rd St\, Brooklyn\, NY\, 11215\, United States
CATEGORIES:Community,Outreach,Sustainability
END:VEVENT
BEGIN:VEVENT
DTSTART;TZID=America/New_York:20180328T183000
DTEND;TZID=America/New_York:20180328T203000
DTSTAMP:20260424T120816
CREATED:20180315T153505Z
LAST-MODIFIED:20180315T153505Z
UID:12366-1522261800-1522269000@parkslopeciviccouncil.org
SUMMARY:Gowanus Lowlands Master Plan Community Feedback Forum
DESCRIPTION:Please join the Gowanus Canal Conservancy\, Old Stone House\, the Park Slope Civic Council\, and Forth on Fourth Avenue on Wednesday\, March 28th at 6:30pm at the Old Stone House for a workshop on the Gowanus Lowlands Master Plan. Help develop a vision for the future of public space in the neighborhood and along the waterfront! \n \n\n\nMore information about the Gowanus Lowlands here.  Can\’t make this meeting but want to get involved?  Email lowlands@gowanuscanalconservancy.org for more workshop dates.
URL:https://parkslopeciviccouncil.org/event/gowanus-lowlands-master-plan-community-feedback-forum-7/
LOCATION:Old Stone House\, 336 3rd St\, Brooklyn\, NY\, 11215\, United States
CATEGORIES:Community,Outreach,Sustainability
END:VEVENT
BEGIN:VEVENT
DTSTART;TZID=America/New_York:20180322T183000
DTEND;TZID=America/New_York:20180322T203000
DTSTAMP:20260424T120816
CREATED:20180315T155810Z
LAST-MODIFIED:20180315T155810Z
UID:9856-1521743400-1521750600@parkslopeciviccouncil.org
SUMMARY:Assemblymember Robert Carroll hosts NYS Budget Town Hall Meeting
DESCRIPTION:Assemblymember Robert Carroll hosts NYS Budget Town Hall Meeting\n\nDATE:  Thursday\, March 22\nTIME:  6:30 PM – 8:30 PM\n\n\n\n\n\n\n\n\nLOCATION:  P.S. 321\, 180 7th Avenue\n\n\n(between 1st and 2nd Streets)\n\n\n\nBrooklyn\, NY 11215\n\n\n\n\n\n\n\n\n\n\nTO RSVP or FOR MORE INFO: 718-788-7221 or CarrollR@nyassembly.gov
URL:https://parkslopeciviccouncil.org/event/assemblymember-robert-carroll-hosts-nys-budget-town-hall-meeting-3/
LOCATION:P.S. 321\, 180 7th Avenue (between 1st and 2nd Streets)\, 180 7th Avenue (between 1st and 2nd Streets\, Brooklyn\, 11215
CATEGORIES:Community,Electeds,Outreach
END:VEVENT
BEGIN:VEVENT
DTSTART;TZID=America/New_York:20180322T183000
DTEND;TZID=America/New_York:20180322T203000
DTSTAMP:20260424T120816
CREATED:20180315T155810Z
LAST-MODIFIED:20180315T155810Z
UID:10216-1521743400-1521750600@parkslopeciviccouncil.org
SUMMARY:Assemblymember Robert Carroll hosts NYS Budget Town Hall Meeting
DESCRIPTION:Assemblymember Robert Carroll hosts NYS Budget Town Hall Meeting\n\nDATE:  Thursday\, March 22\nTIME:  6:30 PM – 8:30 PM\n\n\n\n\n\n\n\n\nLOCATION:  P.S. 321\, 180 7th Avenue\n\n\n(between 1st and 2nd Streets)\n\n\n\nBrooklyn\, NY 11215\n\n\n\n\n\n\n\n\n\n\nTO RSVP or FOR MORE INFO: 718-788-7221 or CarrollR@nyassembly.gov
URL:https://parkslopeciviccouncil.org/event/assemblymember-robert-carroll-hosts-nys-budget-town-hall-meeting-4/
LOCATION:P.S. 321\, 180 7th Avenue (between 1st and 2nd Streets)\, 180 7th Avenue (between 1st and 2nd Streets\, Brooklyn\, 11215
CATEGORIES:Community,Electeds,Outreach
END:VEVENT
BEGIN:VEVENT
DTSTART;TZID=America/New_York:20180322T183000
DTEND;TZID=America/New_York:20180322T203000
DTSTAMP:20260424T120816
CREATED:20180315T155810Z
LAST-MODIFIED:20180315T155810Z
UID:10564-1521743400-1521750600@parkslopeciviccouncil.org
SUMMARY:Assemblymember Robert Carroll hosts NYS Budget Town Hall Meeting
DESCRIPTION:Assemblymember Robert Carroll hosts NYS Budget Town Hall Meeting\n\nDATE:  Thursday\, March 22\nTIME:  6:30 PM – 8:30 PM\n\n\n\n\n\n\n\n\nLOCATION:  P.S. 321\, 180 7th Avenue\n\n\n(between 1st and 2nd Streets)\n\n\n\nBrooklyn\, NY 11215\n\n\n\n\n\n\n\n\n\n\nTO RSVP or FOR MORE INFO: 718-788-7221 or CarrollR@nyassembly.gov
URL:https://parkslopeciviccouncil.org/event/assemblymember-robert-carroll-hosts-nys-budget-town-hall-meeting-5/
LOCATION:P.S. 321\, 180 7th Avenue (between 1st and 2nd Streets)\, 180 7th Avenue (between 1st and 2nd Streets\, Brooklyn\, 11215
CATEGORIES:Community,Electeds,Outreach
END:VEVENT
BEGIN:VEVENT
DTSTART;TZID=America/New_York:20180322T183000
DTEND;TZID=America/New_York:20180322T203000
DTSTAMP:20260424T120816
CREATED:20180315T155810Z
LAST-MODIFIED:20180315T155810Z
UID:10884-1521743400-1521750600@parkslopeciviccouncil.org
SUMMARY:Assemblymember Robert Carroll hosts NYS Budget Town Hall Meeting
DESCRIPTION:Assemblymember Robert Carroll hosts NYS Budget Town Hall Meeting\n\nDATE:  Thursday\, March 22\nTIME:  6:30 PM – 8:30 PM\n\n\n\n\n\n\n\n\nLOCATION:  P.S. 321\, 180 7th Avenue\n\n\n(between 1st and 2nd Streets)\n\n\n\nBrooklyn\, NY 11215\n\n\n\n\n\n\n\n\n\n\nTO RSVP or FOR MORE INFO: 718-788-7221 or CarrollR@nyassembly.gov
URL:https://parkslopeciviccouncil.org/event/assemblymember-robert-carroll-hosts-nys-budget-town-hall-meeting-6/
LOCATION:P.S. 321\, 180 7th Avenue (between 1st and 2nd Streets)\, 180 7th Avenue (between 1st and 2nd Streets\, Brooklyn\, 11215
CATEGORIES:Community,Electeds,Outreach
END:VEVENT
BEGIN:VEVENT
DTSTART;TZID=America/New_York:20180322T183000
DTEND;TZID=America/New_York:20180322T203000
DTSTAMP:20260424T120816
CREATED:20180315T155810Z
LAST-MODIFIED:20180315T155810Z
UID:12369-1521743400-1521750600@parkslopeciviccouncil.org
SUMMARY:Assemblymember Robert Carroll hosts NYS Budget Town Hall Meeting
DESCRIPTION:Assemblymember Robert Carroll hosts NYS Budget Town Hall Meeting\n\nDATE:  Thursday\, March 22\nTIME:  6:30 PM – 8:30 PM\n\n\n\n\n\n\n\n\nLOCATION:  P.S. 321\, 180 7th Avenue\n\n\n(between 1st and 2nd Streets)\n\n\n\nBrooklyn\, NY 11215\n\n\n\n\n\n\n\n\n\n\nTO RSVP or FOR MORE INFO: 718-788-7221 or CarrollR@nyassembly.gov
URL:https://parkslopeciviccouncil.org/event/assemblymember-robert-carroll-hosts-nys-budget-town-hall-meeting-7/
LOCATION:P.S. 321\, 180 7th Avenue (between 1st and 2nd Streets)\, 180 7th Avenue (between 1st and 2nd Streets\, Brooklyn\, 11215
CATEGORIES:Community,Electeds,Outreach
END:VEVENT
BEGIN:VEVENT
DTSTART;TZID=America/New_York:20180322T183000
DTEND;TZID=America/New_York:20180322T203000
DTSTAMP:20260424T120816
CREATED:20180315T155810Z
LAST-MODIFIED:20180315T155810Z
UID:7414-1521743400-1521750600@parkslopeciviccouncil.org
SUMMARY:Assemblymember Robert Carroll hosts NYS Budget Town Hall Meeting
DESCRIPTION:Assemblymember Robert Carroll hosts NYS Budget Town Hall Meeting\n\nDATE:  Thursday\, March 22\nTIME:  6:30 PM – 8:30 PM\n\n\n\n\n\n\n\n\nLOCATION:  P.S. 321\, 180 7th Avenue\n\n\n(between 1st and 2nd Streets)\n\n\n\nBrooklyn\, NY 11215\n\n\n\n\n\n\n\n\n\n\nTO RSVP or FOR MORE INFO: 718-788-7221 or CarrollR@nyassembly.gov
URL:https://parkslopeciviccouncil.org/event/assemblymember-robert-carroll-hosts-nys-budget-town-hall-meeting/
LOCATION:P.S. 321\, 180 7th Avenue (between 1st and 2nd Streets)\, 180 7th Avenue (between 1st and 2nd Streets\, Brooklyn\, 11215
CATEGORIES:Community,Electeds,Outreach
END:VEVENT
BEGIN:VEVENT
DTSTART;TZID=America/New_York:20180322T183000
DTEND;TZID=America/New_York:20180322T203000
DTSTAMP:20260424T120816
CREATED:20180315T155810Z
LAST-MODIFIED:20180315T155810Z
UID:9496-1521743400-1521750600@parkslopeciviccouncil.org
SUMMARY:Assemblymember Robert Carroll hosts NYS Budget Town Hall Meeting
DESCRIPTION:Assemblymember Robert Carroll hosts NYS Budget Town Hall Meeting\n\nDATE:  Thursday\, March 22\nTIME:  6:30 PM – 8:30 PM\n\n\n\n\n\n\n\n\nLOCATION:  P.S. 321\, 180 7th Avenue\n\n\n(between 1st and 2nd Streets)\n\n\n\nBrooklyn\, NY 11215\n\n\n\n\n\n\n\n\n\n\nTO RSVP or FOR MORE INFO: 718-788-7221 or CarrollR@nyassembly.gov
URL:https://parkslopeciviccouncil.org/event/assemblymember-robert-carroll-hosts-nys-budget-town-hall-meeting-2/
LOCATION:P.S. 321\, 180 7th Avenue (between 1st and 2nd Streets)\, 180 7th Avenue (between 1st and 2nd Streets\, Brooklyn\, 11215
CATEGORIES:Community,Electeds,Outreach
END:VEVENT
BEGIN:VEVENT
DTSTART;TZID=America/New_York:20180320T190000
DTEND;TZID=America/New_York:20180320T210000
DTSTAMP:20260424T120816
CREATED:20180306T023503Z
LAST-MODIFIED:20180306T023503Z
UID:9489-1521572400-1521579600@parkslopeciviccouncil.org
SUMMARY:Office Hours at The Commissioner
DESCRIPTION:Please join us for Office Hours at The Commissioner! Office Hours is an informal gathering of PSCC trustees\, members\, and neighbors. It’s a great time to meet your neighbors and make new friends.
URL:https://parkslopeciviccouncil.org/event/office-hours-3-2/
LOCATION:The Commissioner\, 247 5th Avenue\, Brooklyn\, New York\, 11215
CATEGORIES:Community,Office Hours,Outreach
ORGANIZER;CN="Park Slope Civic Council":MAILTO:membership@parkslopecouncil.org
END:VEVENT
BEGIN:VEVENT
DTSTART;TZID=America/New_York:20180320T190000
DTEND;TZID=America/New_York:20180320T210000
DTSTAMP:20260424T120816
CREATED:20180306T023503Z
LAST-MODIFIED:20180306T023503Z
UID:9849-1521572400-1521579600@parkslopeciviccouncil.org
SUMMARY:Office Hours at The Commissioner
DESCRIPTION:Please join us for Office Hours at The Commissioner! Office Hours is an informal gathering of PSCC trustees\, members\, and neighbors. It’s a great time to meet your neighbors and make new friends.
URL:https://parkslopeciviccouncil.org/event/office-hours-3-3/
LOCATION:The Commissioner\, 247 5th Avenue\, Brooklyn\, New York\, 11215
CATEGORIES:Community,Office Hours,Outreach
ORGANIZER;CN="Park Slope Civic Council":MAILTO:membership@parkslopecouncil.org
END:VEVENT
BEGIN:VEVENT
DTSTART;TZID=America/New_York:20180320T190000
DTEND;TZID=America/New_York:20180320T210000
DTSTAMP:20260424T120816
CREATED:20180306T023503Z
LAST-MODIFIED:20180306T023503Z
UID:10209-1521572400-1521579600@parkslopeciviccouncil.org
SUMMARY:Office Hours at The Commissioner
DESCRIPTION:Please join us for Office Hours at The Commissioner! Office Hours is an informal gathering of PSCC trustees\, members\, and neighbors. It’s a great time to meet your neighbors and make new friends.
URL:https://parkslopeciviccouncil.org/event/office-hours-3-4/
LOCATION:The Commissioner\, 247 5th Avenue\, Brooklyn\, New York\, 11215
CATEGORIES:Community,Office Hours,Outreach
ORGANIZER;CN="Park Slope Civic Council":MAILTO:membership@parkslopecouncil.org
END:VEVENT
BEGIN:VEVENT
DTSTART;TZID=America/New_York:20180320T190000
DTEND;TZID=America/New_York:20180320T210000
DTSTAMP:20260424T120816
CREATED:20180306T023503Z
LAST-MODIFIED:20180306T023503Z
UID:10557-1521572400-1521579600@parkslopeciviccouncil.org
SUMMARY:Office Hours at The Commissioner
DESCRIPTION:Please join us for Office Hours at The Commissioner! Office Hours is an informal gathering of PSCC trustees\, members\, and neighbors. It’s a great time to meet your neighbors and make new friends.
URL:https://parkslopeciviccouncil.org/event/office-hours-3-5/
LOCATION:The Commissioner\, 247 5th Avenue\, Brooklyn\, New York\, 11215
CATEGORIES:Community,Office Hours,Outreach
ORGANIZER;CN="Park Slope Civic Council":MAILTO:membership@parkslopecouncil.org
END:VEVENT
BEGIN:VEVENT
DTSTART;TZID=America/New_York:20180320T190000
DTEND;TZID=America/New_York:20180320T210000
DTSTAMP:20260424T120816
CREATED:20180306T023503Z
LAST-MODIFIED:20180306T023503Z
UID:10877-1521572400-1521579600@parkslopeciviccouncil.org
SUMMARY:Office Hours at The Commissioner
DESCRIPTION:Please join us for Office Hours at The Commissioner! Office Hours is an informal gathering of PSCC trustees\, members\, and neighbors. It’s a great time to meet your neighbors and make new friends.
URL:https://parkslopeciviccouncil.org/event/office-hours-3-6/
LOCATION:The Commissioner\, 247 5th Avenue\, Brooklyn\, New York\, 11215
CATEGORIES:Community,Office Hours,Outreach
ORGANIZER;CN="Park Slope Civic Council":MAILTO:membership@parkslopecouncil.org
END:VEVENT
BEGIN:VEVENT
DTSTART;TZID=America/New_York:20180320T190000
DTEND;TZID=America/New_York:20180320T210000
DTSTAMP:20260424T120816
CREATED:20180306T023503Z
LAST-MODIFIED:20180306T023503Z
UID:12362-1521572400-1521579600@parkslopeciviccouncil.org
SUMMARY:Office Hours at The Commissioner
DESCRIPTION:Please join us for Office Hours at The Commissioner! Office Hours is an informal gathering of PSCC trustees\, members\, and neighbors. It’s a great time to meet your neighbors and make new friends.
URL:https://parkslopeciviccouncil.org/event/office-hours-3-7/
LOCATION:The Commissioner\, 247 5th Avenue\, Brooklyn\, New York\, 11215
CATEGORIES:Community,Office Hours,Outreach
ORGANIZER;CN="Park Slope Civic Council":MAILTO:membership@parkslopecouncil.org
END:VEVENT
BEGIN:VEVENT
DTSTART;TZID=America/New_York:20180320T190000
DTEND;TZID=America/New_York:20180320T210000
DTSTAMP:20260424T120816
CREATED:20180306T023503Z
LAST-MODIFIED:20180306T023503Z
UID:7394-1521572400-1521579600@parkslopeciviccouncil.org
SUMMARY:Office Hours at The Commissioner
DESCRIPTION:Please join us for Office Hours at The Commissioner! Office Hours is an informal gathering of PSCC trustees\, members\, and neighbors. It’s a great time to meet your neighbors and make new friends.
URL:https://parkslopeciviccouncil.org/event/office-hours-3/
LOCATION:The Commissioner\, 247 5th Avenue\, Brooklyn\, New York\, 11215
CATEGORIES:Community,Office Hours,Outreach
ORGANIZER;CN="Park Slope Civic Council":MAILTO:membership@parkslopecouncil.org
END:VEVENT
BEGIN:VEVENT
DTSTART;TZID=America/New_York:20180314T140000
DTEND;TZID=America/New_York:20180314T170000
DTSTAMP:20260424T120816
CREATED:20180315T155228Z
LAST-MODIFIED:20180315T155228Z
UID:10215-1521036000-1521046800@parkslopeciviccouncil.org
SUMMARY:National School Walkout Rally
DESCRIPTION:Brooklyn Borough President and Council Member Brad Lander to Host ‘March for Our Lives’ at Prospect Park Bandshell\n\n\n\n\n\n\n\n\n\n\n#ENOUGH#STUDENTSDEMANDACTION\n\n\n\n\n\n\n\n\n\n\n\n\nDATE:  March 14 \n\nTIME: 2:00 PM to 5:00 PM\n\nLOCATION:  Prospect Park Bandshell\, 141 Prospect Park West \nEnter at Prospect Park West and 10th St (F and G Train to 7th Ave)\nBrooklyn\, NY 11215\n\n\n\n\n\n\n\n\n\n\n\n\n\n\n\n\n\n\n\n\n\n\n\n\n\n\n\n\n\n\n\n\n\n\n\n\n\n\n\n\n\n\n\n\n\n\n\n\n\n\n\n\n\n\n\n\n\n\n\nPlease Click Here to RSVP or check out the Facebook event page. If you have any questions\, please email programs@brooklynbp.nyc.govor call (718) 802-2356.
URL:https://parkslopeciviccouncil.org/event/national-school-walkout-rally-4/
LOCATION:Prospect Park Bandshell\, 141 Prospect Park West\, Brooklyn
CATEGORIES:Community,Electeds,Outreach
END:VEVENT
BEGIN:VEVENT
DTSTART;TZID=America/New_York:20180314T140000
DTEND;TZID=America/New_York:20180314T170000
DTSTAMP:20260424T120816
CREATED:20180315T155228Z
LAST-MODIFIED:20180315T155228Z
UID:10563-1521036000-1521046800@parkslopeciviccouncil.org
SUMMARY:National School Walkout Rally
DESCRIPTION:Brooklyn Borough President and Council Member Brad Lander to Host ‘March for Our Lives’ at Prospect Park Bandshell\n\n\n\n\n\n\n\n\n\n\n#ENOUGH#STUDENTSDEMANDACTION\n\n\n\n\n\n\n\n\n\n\n\n\nDATE:  March 14 \n\nTIME: 2:00 PM to 5:00 PM\n\nLOCATION:  Prospect Park Bandshell\, 141 Prospect Park West \nEnter at Prospect Park West and 10th St (F and G Train to 7th Ave)\nBrooklyn\, NY 11215\n\n\n\n\n\n\n\n\n\n\n\n\n\n\n\n\n\n\n\n\n\n\n\n\n\n\n\n\n\n\n\n\n\n\n\n\n\n\n\n\n\n\n\n\n\n\n\n\n\n\n\n\n\n\n\n\n\n\n\nPlease Click Here to RSVP or check out the Facebook event page. If you have any questions\, please email programs@brooklynbp.nyc.govor call (718) 802-2356.
URL:https://parkslopeciviccouncil.org/event/national-school-walkout-rally-5/
LOCATION:Prospect Park Bandshell\, 141 Prospect Park West\, Brooklyn
CATEGORIES:Community,Electeds,Outreach
END:VEVENT
BEGIN:VEVENT
DTSTART;TZID=America/New_York:20180314T140000
DTEND;TZID=America/New_York:20180314T170000
DTSTAMP:20260424T120816
CREATED:20180315T155228Z
LAST-MODIFIED:20180315T155228Z
UID:10883-1521036000-1521046800@parkslopeciviccouncil.org
SUMMARY:National School Walkout Rally
DESCRIPTION:Brooklyn Borough President and Council Member Brad Lander to Host ‘March for Our Lives’ at Prospect Park Bandshell\n\n\n\n\n\n\n\n\n\n\n#ENOUGH#STUDENTSDEMANDACTION\n\n\n\n\n\n\n\n\n\n\n\n\nDATE:  March 14 \n\nTIME: 2:00 PM to 5:00 PM\n\nLOCATION:  Prospect Park Bandshell\, 141 Prospect Park West \nEnter at Prospect Park West and 10th St (F and G Train to 7th Ave)\nBrooklyn\, NY 11215\n\n\n\n\n\n\n\n\n\n\n\n\n\n\n\n\n\n\n\n\n\n\n\n\n\n\n\n\n\n\n\n\n\n\n\n\n\n\n\n\n\n\n\n\n\n\n\n\n\n\n\n\n\n\n\n\n\n\n\nPlease Click Here to RSVP or check out the Facebook event page. If you have any questions\, please email programs@brooklynbp.nyc.govor call (718) 802-2356.
URL:https://parkslopeciviccouncil.org/event/national-school-walkout-rally-6/
LOCATION:Prospect Park Bandshell\, 141 Prospect Park West\, Brooklyn
CATEGORIES:Community,Electeds,Outreach
END:VEVENT
BEGIN:VEVENT
DTSTART;TZID=America/New_York:20180314T140000
DTEND;TZID=America/New_York:20180314T170000
DTSTAMP:20260424T120816
CREATED:20180315T155228Z
LAST-MODIFIED:20180315T155228Z
UID:12368-1521036000-1521046800@parkslopeciviccouncil.org
SUMMARY:National School Walkout Rally
DESCRIPTION:Brooklyn Borough President and Council Member Brad Lander to Host \’March for Our Lives\’ at Prospect Park Bandshell\n\n\n\n\n\n\n\n\n\n\n#ENOUGH#STUDENTSDEMANDACTION\n\n\n\n\n\n\n\n\n\n\n\n\nDATE:  March 14 \n\nTIME: 2:00 PM to 5:00 PM\n\nLOCATION:  Prospect Park Bandshell\, 141 Prospect Park West \nEnter at Prospect Park West and 10th St (F and G Train to 7th Ave)\nBrooklyn\, NY 11215\n\n\n\n\n\n\n\n\n\n\n\n\n\n\n\n\n\n\n\n\n\n\n\n\n\n\n\n\n\n\n\n\n\n\n\n\n\n\n\n\n\n\n\n\n\n\n\n\n\n\n\n\n\n\n\n\n\n\n\nPlease Click Here to RSVP or check out the Facebook event page. If you have any questions\, please email programs@brooklynbp.nyc.govor call (718) 802-2356.
URL:https://parkslopeciviccouncil.org/event/national-school-walkout-rally-7/
LOCATION:Prospect Park Bandshell\, 141 Prospect Park West\, Brooklyn
CATEGORIES:Community,Electeds,Outreach
END:VEVENT
BEGIN:VEVENT
DTSTART;TZID=America/New_York:20180314T140000
DTEND;TZID=America/New_York:20180314T170000
DTSTAMP:20260424T120816
CREATED:20180315T155228Z
LAST-MODIFIED:20180315T155228Z
UID:7411-1521036000-1521046800@parkslopeciviccouncil.org
SUMMARY:National School Walkout Rally
DESCRIPTION:Brooklyn Borough President and Council Member Brad Lander to Host ‘March for Our Lives’ at Prospect Park Bandshell\n\n\n\n\n\n\n\n\n\n\n#ENOUGH#STUDENTSDEMANDACTION\n\n\n\n\n\n\n\n\n\n\n\n\nDATE:  March 14 \n\nTIME: 2:00 PM to 5:00 PM\n\nLOCATION:  Prospect Park Bandshell\, 141 Prospect Park West \nEnter at Prospect Park West and 10th St (F and G Train to 7th Ave)\nBrooklyn\, NY 11215\n\n\n\n\n\n\n\n\n\n\n\n\n\n\n\n\n\n\n\n\n\n\n\n\n\n\n\n\n\n\n\n\n\n\n\n\n\n\n\n\n\n\n\n\n\n\n\n\n\n\n\n\n\n\n\n\n\n\n\nPlease Click Here to RSVP or check out the Facebook event page. If you have any questions\, please email programs@brooklynbp.nyc.govor call (718) 802-2356.
URL:https://parkslopeciviccouncil.org/event/national-school-walkout-rally/
LOCATION:Prospect Park Bandshell\, 141 Prospect Park West\, Brooklyn
CATEGORIES:Community,Electeds,Outreach
END:VEVENT
BEGIN:VEVENT
DTSTART;TZID=America/New_York:20180314T140000
DTEND;TZID=America/New_York:20180314T170000
DTSTAMP:20260424T120816
CREATED:20180315T155228Z
LAST-MODIFIED:20180315T155228Z
UID:9495-1521036000-1521046800@parkslopeciviccouncil.org
SUMMARY:National School Walkout Rally
DESCRIPTION:Brooklyn Borough President and Council Member Brad Lander to Host ‘March for Our Lives’ at Prospect Park Bandshell\n\n\n\n\n\n\n\n\n\n\n#ENOUGH#STUDENTSDEMANDACTION\n\n\n\n\n\n\n\n\n\n\n\n\nDATE:  March 14 \n\nTIME: 2:00 PM to 5:00 PM\n\nLOCATION:  Prospect Park Bandshell\, 141 Prospect Park West \nEnter at Prospect Park West and 10th St (F and G Train to 7th Ave)\nBrooklyn\, NY 11215\n\n\n\n\n\n\n\n\n\n\n\n\n\n\n\n\n\n\n\n\n\n\n\n\n\n\n\n\n\n\n\n\n\n\n\n\n\n\n\n\n\n\n\n\n\n\n\n\n\n\n\n\n\n\n\n\n\n\n\nPlease Click Here to RSVP or check out the Facebook event page. If you have any questions\, please email programs@brooklynbp.nyc.govor call (718) 802-2356.
URL:https://parkslopeciviccouncil.org/event/national-school-walkout-rally-2/
LOCATION:Prospect Park Bandshell\, 141 Prospect Park West\, Brooklyn
CATEGORIES:Community,Electeds,Outreach
END:VEVENT
BEGIN:VEVENT
DTSTART;TZID=America/New_York:20180314T140000
DTEND;TZID=America/New_York:20180314T170000
DTSTAMP:20260424T120816
CREATED:20180315T155228Z
LAST-MODIFIED:20180315T155228Z
UID:9855-1521036000-1521046800@parkslopeciviccouncil.org
SUMMARY:National School Walkout Rally
DESCRIPTION:Brooklyn Borough President and Council Member Brad Lander to Host ‘March for Our Lives’ at Prospect Park Bandshell\n\n\n\n\n\n\n\n\n\n\n#ENOUGH#STUDENTSDEMANDACTION\n\n\n\n\n\n\n\n\n\n\n\n\nDATE:  March 14 \n\nTIME: 2:00 PM to 5:00 PM\n\nLOCATION:  Prospect Park Bandshell\, 141 Prospect Park West \nEnter at Prospect Park West and 10th St (F and G Train to 7th Ave)\nBrooklyn\, NY 11215\n\n\n\n\n\n\n\n\n\n\n\n\n\n\n\n\n\n\n\n\n\n\n\n\n\n\n\n\n\n\n\n\n\n\n\n\n\n\n\n\n\n\n\n\n\n\n\n\n\n\n\n\n\n\n\n\n\n\n\nPlease Click Here to RSVP or check out the Facebook event page. If you have any questions\, please email programs@brooklynbp.nyc.govor call (718) 802-2356.
URL:https://parkslopeciviccouncil.org/event/national-school-walkout-rally-3/
LOCATION:Prospect Park Bandshell\, 141 Prospect Park West\, Brooklyn
CATEGORIES:Community,Electeds,Outreach
END:VEVENT
BEGIN:VEVENT
DTSTART;TZID=America/New_York:20180301T190000
DTEND;TZID=America/New_York:20180301T210000
DTSTAMP:20260424T120816
CREATED:20180204T190851Z
LAST-MODIFIED:20180204T190851Z
UID:10554-1519930800-1519938000@parkslopeciviccouncil.org
SUMMARY:Trustees' General Meeting
DESCRIPTION:Please join us for the Park Slope Civic Council’s Monthly Trustees’ General Meeting. \nThese meetings are generally held the first Thursday of the month from September through June. \nLocation to be determined for the March 2018 meeting.
URL:https://parkslopeciviccouncil.org/event/trustees-general-meeting-5-5/
LOCATION:NY
CATEGORIES:Outreach,Trustees Meeting
END:VEVENT
BEGIN:VEVENT
DTSTART;TZID=America/New_York:20180301T190000
DTEND;TZID=America/New_York:20180301T210000
DTSTAMP:20260424T120816
CREATED:20180204T190851Z
LAST-MODIFIED:20180204T190851Z
UID:10874-1519930800-1519938000@parkslopeciviccouncil.org
SUMMARY:Trustees' General Meeting
DESCRIPTION:Please join us for the Park Slope Civic Council’s Monthly Trustees’ General Meeting. \nThese meetings are generally held the first Thursday of the month from September through June. \nLocation to be determined for the March 2018 meeting.
URL:https://parkslopeciviccouncil.org/event/trustees-general-meeting-5-6/
LOCATION:NY
CATEGORIES:Outreach,Trustees Meeting
END:VEVENT
BEGIN:VEVENT
DTSTART;TZID=America/New_York:20180301T190000
DTEND;TZID=America/New_York:20180301T210000
DTSTAMP:20260424T120816
CREATED:20180204T190851Z
LAST-MODIFIED:20180204T190851Z
UID:12359-1519930800-1519938000@parkslopeciviccouncil.org
SUMMARY:Trustees\' General Meeting
DESCRIPTION:Please join us for the Park Slope Civic Council\’s Monthly Trustees\’ General Meeting. \nThese meetings are generally held the first Thursday of the month from September through June. \nLocation to be determined for the March 2018 meeting.
URL:https://parkslopeciviccouncil.org/event/trustees-general-meeting-5-7/
LOCATION:NY
CATEGORIES:Outreach,Trustees Meeting
END:VEVENT
BEGIN:VEVENT
DTSTART;TZID=America/New_York:20180301T190000
DTEND;TZID=America/New_York:20180301T210000
DTSTAMP:20260424T120816
CREATED:20180204T190851Z
LAST-MODIFIED:20180204T190851Z
UID:7372-1519930800-1519938000@parkslopeciviccouncil.org
SUMMARY:Trustees' General Meeting
DESCRIPTION:Please join us for the Park Slope Civic Council’s Monthly Trustees’ General Meeting. \nThese meetings are generally held the first Thursday of the month from September through June. \nLocation to be determined for the March 2018 meeting.
URL:https://parkslopeciviccouncil.org/event/trustees-general-meeting-5/
LOCATION:NY
CATEGORIES:Outreach,Trustees Meeting
END:VEVENT
BEGIN:VEVENT
DTSTART;TZID=America/New_York:20180301T190000
DTEND;TZID=America/New_York:20180301T210000
DTSTAMP:20260424T120816
CREATED:20180204T190851Z
LAST-MODIFIED:20180204T190851Z
UID:9486-1519930800-1519938000@parkslopeciviccouncil.org
SUMMARY:Trustees' General Meeting
DESCRIPTION:Please join us for the Park Slope Civic Council’s Monthly Trustees’ General Meeting. \nThese meetings are generally held the first Thursday of the month from September through June. \nLocation to be determined for the March 2018 meeting.
URL:https://parkslopeciviccouncil.org/event/trustees-general-meeting-5-2/
LOCATION:NY
CATEGORIES:Outreach,Trustees Meeting
END:VEVENT
BEGIN:VEVENT
DTSTART;TZID=America/New_York:20180301T190000
DTEND;TZID=America/New_York:20180301T210000
DTSTAMP:20260424T120816
CREATED:20180204T190851Z
LAST-MODIFIED:20180204T190851Z
UID:9846-1519930800-1519938000@parkslopeciviccouncil.org
SUMMARY:Trustees' General Meeting
DESCRIPTION:Please join us for the Park Slope Civic Council’s Monthly Trustees’ General Meeting. \nThese meetings are generally held the first Thursday of the month from September through June. \nLocation to be determined for the March 2018 meeting.
URL:https://parkslopeciviccouncil.org/event/trustees-general-meeting-5-3/
LOCATION:NY
CATEGORIES:Outreach,Trustees Meeting
END:VEVENT
END:VCALENDAR