BEGIN:VCALENDAR
VERSION:2.0
PRODID:-//Park Slope Civic Council - ECPv6.15.20//NONSGML v1.0//EN
CALSCALE:GREGORIAN
METHOD:PUBLISH
X-ORIGINAL-URL:https://parkslopeciviccouncil.org
X-WR-CALDESC:Events for Park Slope Civic Council
REFRESH-INTERVAL;VALUE=DURATION:PT1H
X-Robots-Tag:noindex
X-PUBLISHED-TTL:PT1H
BEGIN:VTIMEZONE
TZID:America/New_York
BEGIN:DAYLIGHT
TZOFFSETFROM:-0500
TZOFFSETTO:-0400
TZNAME:EDT
DTSTART:20180311T070000
END:DAYLIGHT
BEGIN:STANDARD
TZOFFSETFROM:-0400
TZOFFSETTO:-0500
TZNAME:EST
DTSTART:20181104T060000
END:STANDARD
BEGIN:DAYLIGHT
TZOFFSETFROM:-0500
TZOFFSETTO:-0400
TZNAME:EDT
DTSTART:20190310T070000
END:DAYLIGHT
BEGIN:STANDARD
TZOFFSETFROM:-0400
TZOFFSETTO:-0500
TZNAME:EST
DTSTART:20191103T060000
END:STANDARD
BEGIN:DAYLIGHT
TZOFFSETFROM:-0500
TZOFFSETTO:-0400
TZNAME:EDT
DTSTART:20200308T070000
END:DAYLIGHT
BEGIN:STANDARD
TZOFFSETFROM:-0400
TZOFFSETTO:-0500
TZNAME:EST
DTSTART:20201101T060000
END:STANDARD
END:VTIMEZONE
BEGIN:VEVENT
DTSTART;TZID=America/New_York:20190416T190000
DTEND;TZID=America/New_York:20190416T210000
DTSTAMP:20260423T085232
CREATED:20180326T222744Z
LAST-MODIFIED:20180326T222744Z
UID:12389-1555441200-1555448400@parkslopeciviccouncil.org
SUMMARY:Office Hours at The Commissioner
DESCRIPTION:Please join us for Office Hours at The Commissioner! Office Hours is an informal gathering of PSCC trustees\, members\, and neighbors. It’s a great time to meet your neighbors and make new friends.
URL:https://parkslopeciviccouncil.org/event/office-hours-at-the-commissioner-2-2-2-2-2-2-2-2-2-8/
LOCATION:The Commissioner\, 247 5th Avenue\, Brooklyn\, New York\, 11215
CATEGORIES:Community,Local business,Office Hours,Outreach
ORGANIZER;CN="Park Slope Civic Council":MAILTO:membership@parkslopecouncil.org
END:VEVENT
BEGIN:VEVENT
DTSTART;TZID=America/New_York:20190416T190000
DTEND;TZID=America/New_York:20190416T210000
DTSTAMP:20260423T085232
CREATED:20180326T222744Z
LAST-MODIFIED:20180326T222744Z
UID:7633-1555441200-1555448400@parkslopeciviccouncil.org
SUMMARY:Office Hours at The Commissioner
DESCRIPTION:Please join us for Office Hours at The Commissioner! Office Hours is an informal gathering of PSCC trustees\, members\, and neighbors. It’s a great time to meet your neighbors and make new friends.
URL:https://parkslopeciviccouncil.org/event/office-hours-at-the-commissioner-2-2-2-2-2-2-2-2-2/
LOCATION:The Commissioner\, 247 5th Avenue\, Brooklyn\, New York\, 11215
CATEGORIES:Community,Local business,Office Hours,Outreach
ORGANIZER;CN="Park Slope Civic Council":MAILTO:membership@parkslopecouncil.org
END:VEVENT
BEGIN:VEVENT
DTSTART;TZID=America/New_York:20190319T190000
DTEND;TZID=America/New_York:20190319T210000
DTSTAMP:20260423T085232
CREATED:20180326T222744Z
LAST-MODIFIED:20180326T222744Z
UID:9517-1553022000-1553029200@parkslopeciviccouncil.org
SUMMARY:Office Hours at The Commissioner
DESCRIPTION:Please join us for Office Hours at The Commissioner! Office Hours is an informal gathering of PSCC trustees\, members\, and neighbors. It’s a great time to meet your neighbors and make new friends.
URL:https://parkslopeciviccouncil.org/event/office-hours-at-the-commissioner-2-2-2-2-2-2-2-2-3/
LOCATION:The Commissioner\, 247 5th Avenue\, Brooklyn\, New York\, 11215
CATEGORIES:Community,Local business,Office Hours,Outreach
ORGANIZER;CN="Park Slope Civic Council":MAILTO:membership@parkslopecouncil.org
END:VEVENT
BEGIN:VEVENT
DTSTART;TZID=America/New_York:20190319T190000
DTEND;TZID=America/New_York:20190319T210000
DTSTAMP:20260423T085232
CREATED:20180326T222744Z
LAST-MODIFIED:20180326T222744Z
UID:9876-1553022000-1553029200@parkslopeciviccouncil.org
SUMMARY:Office Hours at The Commissioner
DESCRIPTION:Please join us for Office Hours at The Commissioner! Office Hours is an informal gathering of PSCC trustees\, members\, and neighbors. It’s a great time to meet your neighbors and make new friends.
URL:https://parkslopeciviccouncil.org/event/office-hours-at-the-commissioner-2-2-2-2-2-2-2-2-4/
LOCATION:The Commissioner\, 247 5th Avenue\, Brooklyn\, New York\, 11215
CATEGORIES:Community,Local business,Office Hours,Outreach
ORGANIZER;CN="Park Slope Civic Council":MAILTO:membership@parkslopecouncil.org
END:VEVENT
BEGIN:VEVENT
DTSTART;TZID=America/New_York:20190319T190000
DTEND;TZID=America/New_York:20190319T210000
DTSTAMP:20260423T085232
CREATED:20180326T222744Z
LAST-MODIFIED:20180326T222744Z
UID:10236-1553022000-1553029200@parkslopeciviccouncil.org
SUMMARY:Office Hours at The Commissioner
DESCRIPTION:Please join us for Office Hours at The Commissioner! Office Hours is an informal gathering of PSCC trustees\, members\, and neighbors. It’s a great time to meet your neighbors and make new friends.
URL:https://parkslopeciviccouncil.org/event/office-hours-at-the-commissioner-2-2-2-2-2-2-2-2-5/
LOCATION:The Commissioner\, 247 5th Avenue\, Brooklyn\, New York\, 11215
CATEGORIES:Community,Local business,Office Hours,Outreach
ORGANIZER;CN="Park Slope Civic Council":MAILTO:membership@parkslopecouncil.org
END:VEVENT
BEGIN:VEVENT
DTSTART;TZID=America/New_York:20190319T190000
DTEND;TZID=America/New_York:20190319T210000
DTSTAMP:20260423T085232
CREATED:20180326T222744Z
LAST-MODIFIED:20180326T222744Z
UID:10584-1553022000-1553029200@parkslopeciviccouncil.org
SUMMARY:Office Hours at The Commissioner
DESCRIPTION:Please join us for Office Hours at The Commissioner! Office Hours is an informal gathering of PSCC trustees\, members\, and neighbors. It’s a great time to meet your neighbors and make new friends.
URL:https://parkslopeciviccouncil.org/event/office-hours-at-the-commissioner-2-2-2-2-2-2-2-2-6/
LOCATION:The Commissioner\, 247 5th Avenue\, Brooklyn\, New York\, 11215
CATEGORIES:Community,Local business,Office Hours,Outreach
ORGANIZER;CN="Park Slope Civic Council":MAILTO:membership@parkslopecouncil.org
END:VEVENT
BEGIN:VEVENT
DTSTART;TZID=America/New_York:20190319T190000
DTEND;TZID=America/New_York:20190319T210000
DTSTAMP:20260423T085232
CREATED:20180326T222744Z
LAST-MODIFIED:20180326T222744Z
UID:10904-1553022000-1553029200@parkslopeciviccouncil.org
SUMMARY:Office Hours at The Commissioner
DESCRIPTION:Please join us for Office Hours at The Commissioner! Office Hours is an informal gathering of PSCC trustees\, members\, and neighbors. It’s a great time to meet your neighbors and make new friends.
URL:https://parkslopeciviccouncil.org/event/office-hours-at-the-commissioner-2-2-2-2-2-2-2-2-7/
LOCATION:The Commissioner\, 247 5th Avenue\, Brooklyn\, New York\, 11215
CATEGORIES:Community,Local business,Office Hours,Outreach
ORGANIZER;CN="Park Slope Civic Council":MAILTO:membership@parkslopecouncil.org
END:VEVENT
BEGIN:VEVENT
DTSTART;TZID=America/New_York:20190319T190000
DTEND;TZID=America/New_York:20190319T210000
DTSTAMP:20260423T085232
CREATED:20180326T222744Z
LAST-MODIFIED:20180326T222744Z
UID:12388-1553022000-1553029200@parkslopeciviccouncil.org
SUMMARY:Office Hours at The Commissioner
DESCRIPTION:Please join us for Office Hours at The Commissioner! Office Hours is an informal gathering of PSCC trustees\, members\, and neighbors. It’s a great time to meet your neighbors and make new friends.
URL:https://parkslopeciviccouncil.org/event/office-hours-at-the-commissioner-2-2-2-2-2-2-2-2-8/
LOCATION:The Commissioner\, 247 5th Avenue\, Brooklyn\, New York\, 11215
CATEGORIES:Community,Local business,Office Hours,Outreach
ORGANIZER;CN="Park Slope Civic Council":MAILTO:membership@parkslopecouncil.org
END:VEVENT
BEGIN:VEVENT
DTSTART;TZID=America/New_York:20190319T190000
DTEND;TZID=America/New_York:20190319T210000
DTSTAMP:20260423T085232
CREATED:20180326T222744Z
LAST-MODIFIED:20180326T222744Z
UID:7632-1553022000-1553029200@parkslopeciviccouncil.org
SUMMARY:Office Hours at The Commissioner
DESCRIPTION:Please join us for Office Hours at The Commissioner! Office Hours is an informal gathering of PSCC trustees\, members\, and neighbors. It’s a great time to meet your neighbors and make new friends.
URL:https://parkslopeciviccouncil.org/event/office-hours-at-the-commissioner-2-2-2-2-2-2-2-2/
LOCATION:The Commissioner\, 247 5th Avenue\, Brooklyn\, New York\, 11215
CATEGORIES:Community,Local business,Office Hours,Outreach
ORGANIZER;CN="Park Slope Civic Council":MAILTO:membership@parkslopecouncil.org
END:VEVENT
BEGIN:VEVENT
DTSTART;TZID=America/New_York:20190219T190000
DTEND;TZID=America/New_York:20190219T210000
DTSTAMP:20260423T085232
CREATED:20180326T222744Z
LAST-MODIFIED:20180326T222744Z
UID:9875-1550602800-1550610000@parkslopeciviccouncil.org
SUMMARY:Office Hours at The Commissioner
DESCRIPTION:Please join us for Office Hours at The Commissioner! Office Hours is an informal gathering of PSCC trustees\, members\, and neighbors. It’s a great time to meet your neighbors and make new friends.
URL:https://parkslopeciviccouncil.org/event/office-hours-at-the-commissioner-2-2-2-2-2-2-2-4/
LOCATION:The Commissioner\, 247 5th Avenue\, Brooklyn\, New York\, 11215
CATEGORIES:Community,Local business,Office Hours,Outreach
ORGANIZER;CN="Park Slope Civic Council":MAILTO:membership@parkslopecouncil.org
END:VEVENT
BEGIN:VEVENT
DTSTART;TZID=America/New_York:20190219T190000
DTEND;TZID=America/New_York:20190219T210000
DTSTAMP:20260423T085232
CREATED:20180326T222744Z
LAST-MODIFIED:20180326T222744Z
UID:10235-1550602800-1550610000@parkslopeciviccouncil.org
SUMMARY:Office Hours at The Commissioner
DESCRIPTION:Please join us for Office Hours at The Commissioner! Office Hours is an informal gathering of PSCC trustees\, members\, and neighbors. It’s a great time to meet your neighbors and make new friends.
URL:https://parkslopeciviccouncil.org/event/office-hours-at-the-commissioner-2-2-2-2-2-2-2-5/
LOCATION:The Commissioner\, 247 5th Avenue\, Brooklyn\, New York\, 11215
CATEGORIES:Community,Local business,Office Hours,Outreach
ORGANIZER;CN="Park Slope Civic Council":MAILTO:membership@parkslopecouncil.org
END:VEVENT
BEGIN:VEVENT
DTSTART;TZID=America/New_York:20190219T190000
DTEND;TZID=America/New_York:20190219T210000
DTSTAMP:20260423T085232
CREATED:20180326T222744Z
LAST-MODIFIED:20180326T222744Z
UID:10583-1550602800-1550610000@parkslopeciviccouncil.org
SUMMARY:Office Hours at The Commissioner
DESCRIPTION:Please join us for Office Hours at The Commissioner! Office Hours is an informal gathering of PSCC trustees\, members\, and neighbors. It’s a great time to meet your neighbors and make new friends.
URL:https://parkslopeciviccouncil.org/event/office-hours-at-the-commissioner-2-2-2-2-2-2-2-6/
LOCATION:The Commissioner\, 247 5th Avenue\, Brooklyn\, New York\, 11215
CATEGORIES:Community,Local business,Office Hours,Outreach
ORGANIZER;CN="Park Slope Civic Council":MAILTO:membership@parkslopecouncil.org
END:VEVENT
BEGIN:VEVENT
DTSTART;TZID=America/New_York:20190219T190000
DTEND;TZID=America/New_York:20190219T210000
DTSTAMP:20260423T085232
CREATED:20180326T222744Z
LAST-MODIFIED:20180326T222744Z
UID:10903-1550602800-1550610000@parkslopeciviccouncil.org
SUMMARY:Office Hours at The Commissioner
DESCRIPTION:Please join us for Office Hours at The Commissioner! Office Hours is an informal gathering of PSCC trustees\, members\, and neighbors. It’s a great time to meet your neighbors and make new friends.
URL:https://parkslopeciviccouncil.org/event/office-hours-at-the-commissioner-2-2-2-2-2-2-2-7/
LOCATION:The Commissioner\, 247 5th Avenue\, Brooklyn\, New York\, 11215
CATEGORIES:Community,Local business,Office Hours,Outreach
ORGANIZER;CN="Park Slope Civic Council":MAILTO:membership@parkslopecouncil.org
END:VEVENT
BEGIN:VEVENT
DTSTART;TZID=America/New_York:20190219T190000
DTEND;TZID=America/New_York:20190219T210000
DTSTAMP:20260423T085232
CREATED:20180326T222744Z
LAST-MODIFIED:20180326T222744Z
UID:12387-1550602800-1550610000@parkslopeciviccouncil.org
SUMMARY:Office Hours at The Commissioner
DESCRIPTION:Please join us for Office Hours at The Commissioner! Office Hours is an informal gathering of PSCC trustees\, members\, and neighbors. It’s a great time to meet your neighbors and make new friends.
URL:https://parkslopeciviccouncil.org/event/office-hours-at-the-commissioner-2-2-2-2-2-2-2-8/
LOCATION:The Commissioner\, 247 5th Avenue\, Brooklyn\, New York\, 11215
CATEGORIES:Community,Local business,Office Hours,Outreach
ORGANIZER;CN="Park Slope Civic Council":MAILTO:membership@parkslopecouncil.org
END:VEVENT
BEGIN:VEVENT
DTSTART;TZID=America/New_York:20190219T190000
DTEND;TZID=America/New_York:20190219T210000
DTSTAMP:20260423T085232
CREATED:20180326T222744Z
LAST-MODIFIED:20180326T222744Z
UID:7631-1550602800-1550610000@parkslopeciviccouncil.org
SUMMARY:Office Hours at The Commissioner
DESCRIPTION:Please join us for Office Hours at The Commissioner! Office Hours is an informal gathering of PSCC trustees\, members\, and neighbors. It’s a great time to meet your neighbors and make new friends.
URL:https://parkslopeciviccouncil.org/event/office-hours-at-the-commissioner-2-2-2-2-2-2-2/
LOCATION:The Commissioner\, 247 5th Avenue\, Brooklyn\, New York\, 11215
CATEGORIES:Community,Local business,Office Hours,Outreach
ORGANIZER;CN="Park Slope Civic Council":MAILTO:membership@parkslopecouncil.org
END:VEVENT
BEGIN:VEVENT
DTSTART;TZID=America/New_York:20190219T190000
DTEND;TZID=America/New_York:20190219T210000
DTSTAMP:20260423T085232
CREATED:20180326T222744Z
LAST-MODIFIED:20180326T222744Z
UID:9516-1550602800-1550610000@parkslopeciviccouncil.org
SUMMARY:Office Hours at The Commissioner
DESCRIPTION:Please join us for Office Hours at The Commissioner! Office Hours is an informal gathering of PSCC trustees\, members\, and neighbors. It’s a great time to meet your neighbors and make new friends.
URL:https://parkslopeciviccouncil.org/event/office-hours-at-the-commissioner-2-2-2-2-2-2-2-3/
LOCATION:The Commissioner\, 247 5th Avenue\, Brooklyn\, New York\, 11215
CATEGORIES:Community,Local business,Office Hours,Outreach
ORGANIZER;CN="Park Slope Civic Council":MAILTO:membership@parkslopecouncil.org
END:VEVENT
BEGIN:VEVENT
DTSTART;TZID=America/New_York:20190213T183000
DTEND;TZID=America/New_York:20190213T203000
DTSTAMP:20260423T085232
CREATED:20190207T200636Z
LAST-MODIFIED:20190207T200636Z
UID:7757-1550082600-1550089800@parkslopeciviccouncil.org
SUMMARY:Assemblymember Carroll's Education Forum
DESCRIPTION:Assemblymember Carroll’s Education Forum \nPS 230 Lower School\, 425 McDonald Avenue (by the Church Ave F/G) \nWednesday\, February 13\, doors open at 6:30pm \nAll are welcome. \n\nAssemblymember Carroll will provide an update on the State budget for education and Fiscal Equity\, give and overview of his Dyslexia Funding Initiative and discuss issues including testing\, diversity and Title I funding. \nPlease RSVP to 718-788-7221 or CarrollR@nyassembly.gov.
URL:https://parkslopeciviccouncil.org/event/assemblymember-carrolls-education-forum/
LOCATION:PS 230 Lower School\, 425 McDonald Avenue (by the Church Ave F/G)\, Brooklyn\, NY\, 11218
CATEGORIES:Electeds,Outreach
END:VEVENT
BEGIN:VEVENT
DTSTART;TZID=America/New_York:20190213T183000
DTEND;TZID=America/New_York:20190213T203000
DTSTAMP:20260423T085232
CREATED:20190207T200636Z
LAST-MODIFIED:20190207T200636Z
UID:9549-1550082600-1550089800@parkslopeciviccouncil.org
SUMMARY:Assemblymember Carroll's Education Forum
DESCRIPTION:Assemblymember Carroll’s Education Forum \nPS 230 Lower School\, 425 McDonald Avenue (by the Church Ave F/G) \nWednesday\, February 13\, doors open at 6:30pm \nAll are welcome. \n\nAssemblymember Carroll will provide an update on the State budget for education and Fiscal Equity\, give and overview of his Dyslexia Funding Initiative and discuss issues including testing\, diversity and Title I funding. \nPlease RSVP to 718-788-7221 or CarrollR@nyassembly.gov.
URL:https://parkslopeciviccouncil.org/event/assemblymember-carrolls-education-forum-2/
LOCATION:PS 230 Lower School\, 425 McDonald Avenue (by the Church Ave F/G)\, Brooklyn\, NY\, 11218
CATEGORIES:Electeds,Outreach
END:VEVENT
BEGIN:VEVENT
DTSTART;TZID=America/New_York:20190213T183000
DTEND;TZID=America/New_York:20190213T203000
DTSTAMP:20260423T085232
CREATED:20190207T200636Z
LAST-MODIFIED:20190207T200636Z
UID:9908-1550082600-1550089800@parkslopeciviccouncil.org
SUMMARY:Assemblymember Carroll's Education Forum
DESCRIPTION:Assemblymember Carroll’s Education Forum \nPS 230 Lower School\, 425 McDonald Avenue (by the Church Ave F/G) \nWednesday\, February 13\, doors open at 6:30pm \nAll are welcome. \n\nAssemblymember Carroll will provide an update on the State budget for education and Fiscal Equity\, give and overview of his Dyslexia Funding Initiative and discuss issues including testing\, diversity and Title I funding. \nPlease RSVP to 718-788-7221 or CarrollR@nyassembly.gov.
URL:https://parkslopeciviccouncil.org/event/assemblymember-carrolls-education-forum-3/
LOCATION:PS 230 Lower School\, 425 McDonald Avenue (by the Church Ave F/G)\, Brooklyn\, NY\, 11218
CATEGORIES:Electeds,Outreach
END:VEVENT
BEGIN:VEVENT
DTSTART;TZID=America/New_York:20190213T183000
DTEND;TZID=America/New_York:20190213T203000
DTSTAMP:20260423T085232
CREATED:20190207T200636Z
LAST-MODIFIED:20190207T200636Z
UID:10268-1550082600-1550089800@parkslopeciviccouncil.org
SUMMARY:Assemblymember Carroll's Education Forum
DESCRIPTION:Assemblymember Carroll’s Education Forum \nPS 230 Lower School\, 425 McDonald Avenue (by the Church Ave F/G) \nWednesday\, February 13\, doors open at 6:30pm \nAll are welcome. \n\nAssemblymember Carroll will provide an update on the State budget for education and Fiscal Equity\, give and overview of his Dyslexia Funding Initiative and discuss issues including testing\, diversity and Title I funding. \nPlease RSVP to 718-788-7221 or CarrollR@nyassembly.gov.
URL:https://parkslopeciviccouncil.org/event/assemblymember-carrolls-education-forum-4/
LOCATION:PS 230 Lower School\, 425 McDonald Avenue (by the Church Ave F/G)\, Brooklyn\, NY\, 11218
CATEGORIES:Electeds,Outreach
END:VEVENT
BEGIN:VEVENT
DTSTART;TZID=America/New_York:20190213T183000
DTEND;TZID=America/New_York:20190213T203000
DTSTAMP:20260423T085232
CREATED:20190207T200636Z
LAST-MODIFIED:20190207T200636Z
UID:12421-1550082600-1550089800@parkslopeciviccouncil.org
SUMMARY:Assemblymember Carroll\'s Education Forum
DESCRIPTION:Assemblymember Carroll’s Education Forum \nPS 230 Lower School\, 425 McDonald Avenue (by the Church Ave F/G) \nWednesday\, February 13\, doors open at 6:30pm \nAll are welcome. \n\nAssemblymember Carroll will provide an update on the State budget for education and Fiscal Equity\, give and overview of his Dyslexia Funding Initiative and discuss issues including testing\, diversity and Title I funding. \nPlease RSVP to 718-788-7221 or CarrollR@nyassembly.gov.
URL:https://parkslopeciviccouncil.org/event/assemblymember-carrolls-education-forum-5/
LOCATION:PS 230 Lower School\, 425 McDonald Avenue (by the Church Ave F/G)\, Brooklyn\, NY\, 11218
CATEGORIES:Electeds,Outreach
END:VEVENT
BEGIN:VEVENT
DTSTART;TZID=America/New_York:20190115T190000
DTEND;TZID=America/New_York:20190115T210000
DTSTAMP:20260423T085232
CREATED:20180326T222744Z
LAST-MODIFIED:20180326T222744Z
UID:10234-1547578800-1547586000@parkslopeciviccouncil.org
SUMMARY:Office Hours at The Commissioner
DESCRIPTION:Please join us for Office Hours at The Commissioner! Office Hours is an informal gathering of PSCC trustees\, members\, and neighbors. It’s a great time to meet your neighbors and make new friends.
URL:https://parkslopeciviccouncil.org/event/office-hours-at-the-commissioner-2-2-2-2-2-2-5/
LOCATION:The Commissioner\, 247 5th Avenue\, Brooklyn\, New York\, 11215
CATEGORIES:Community,Local business,Office Hours,Outreach
ORGANIZER;CN="Park Slope Civic Council":MAILTO:membership@parkslopecouncil.org
END:VEVENT
BEGIN:VEVENT
DTSTART;TZID=America/New_York:20190115T190000
DTEND;TZID=America/New_York:20190115T210000
DTSTAMP:20260423T085232
CREATED:20180326T222744Z
LAST-MODIFIED:20180326T222744Z
UID:10582-1547578800-1547586000@parkslopeciviccouncil.org
SUMMARY:Office Hours at The Commissioner
DESCRIPTION:Please join us for Office Hours at The Commissioner! Office Hours is an informal gathering of PSCC trustees\, members\, and neighbors. It’s a great time to meet your neighbors and make new friends.
URL:https://parkslopeciviccouncil.org/event/office-hours-at-the-commissioner-2-2-2-2-2-2-6/
LOCATION:The Commissioner\, 247 5th Avenue\, Brooklyn\, New York\, 11215
CATEGORIES:Community,Local business,Office Hours,Outreach
ORGANIZER;CN="Park Slope Civic Council":MAILTO:membership@parkslopecouncil.org
END:VEVENT
BEGIN:VEVENT
DTSTART;TZID=America/New_York:20190115T190000
DTEND;TZID=America/New_York:20190115T210000
DTSTAMP:20260423T085232
CREATED:20180326T222744Z
LAST-MODIFIED:20180326T222744Z
UID:10902-1547578800-1547586000@parkslopeciviccouncil.org
SUMMARY:Office Hours at The Commissioner
DESCRIPTION:Please join us for Office Hours at The Commissioner! Office Hours is an informal gathering of PSCC trustees\, members\, and neighbors. It’s a great time to meet your neighbors and make new friends.
URL:https://parkslopeciviccouncil.org/event/office-hours-at-the-commissioner-2-2-2-2-2-2-7/
LOCATION:The Commissioner\, 247 5th Avenue\, Brooklyn\, New York\, 11215
CATEGORIES:Community,Local business,Office Hours,Outreach
ORGANIZER;CN="Park Slope Civic Council":MAILTO:membership@parkslopecouncil.org
END:VEVENT
BEGIN:VEVENT
DTSTART;TZID=America/New_York:20190115T190000
DTEND;TZID=America/New_York:20190115T210000
DTSTAMP:20260423T085232
CREATED:20180326T222744Z
LAST-MODIFIED:20180326T222744Z
UID:12386-1547578800-1547586000@parkslopeciviccouncil.org
SUMMARY:Office Hours at The Commissioner
DESCRIPTION:Please join us for Office Hours at The Commissioner! Office Hours is an informal gathering of PSCC trustees\, members\, and neighbors. It’s a great time to meet your neighbors and make new friends.
URL:https://parkslopeciviccouncil.org/event/office-hours-at-the-commissioner-2-2-2-2-2-2-8/
LOCATION:The Commissioner\, 247 5th Avenue\, Brooklyn\, New York\, 11215
CATEGORIES:Community,Local business,Office Hours,Outreach
ORGANIZER;CN="Park Slope Civic Council":MAILTO:membership@parkslopecouncil.org
END:VEVENT
BEGIN:VEVENT
DTSTART;TZID=America/New_York:20190115T190000
DTEND;TZID=America/New_York:20190115T210000
DTSTAMP:20260423T085232
CREATED:20180326T222744Z
LAST-MODIFIED:20180326T222744Z
UID:7625-1547578800-1547586000@parkslopeciviccouncil.org
SUMMARY:Office Hours at The Commissioner
DESCRIPTION:Please join us for Office Hours at The Commissioner! Office Hours is an informal gathering of PSCC trustees\, members\, and neighbors. It’s a great time to meet your neighbors and make new friends.
URL:https://parkslopeciviccouncil.org/event/office-hours-at-the-commissioner-2-2-2-2-2-2/
LOCATION:The Commissioner\, 247 5th Avenue\, Brooklyn\, New York\, 11215
CATEGORIES:Community,Local business,Office Hours,Outreach
ORGANIZER;CN="Park Slope Civic Council":MAILTO:membership@parkslopecouncil.org
END:VEVENT
BEGIN:VEVENT
DTSTART;TZID=America/New_York:20190115T190000
DTEND;TZID=America/New_York:20190115T210000
DTSTAMP:20260423T085232
CREATED:20180326T222744Z
LAST-MODIFIED:20180326T222744Z
UID:9515-1547578800-1547586000@parkslopeciviccouncil.org
SUMMARY:Office Hours at The Commissioner
DESCRIPTION:Please join us for Office Hours at The Commissioner! Office Hours is an informal gathering of PSCC trustees\, members\, and neighbors. It’s a great time to meet your neighbors and make new friends.
URL:https://parkslopeciviccouncil.org/event/office-hours-at-the-commissioner-2-2-2-2-2-2-3/
LOCATION:The Commissioner\, 247 5th Avenue\, Brooklyn\, New York\, 11215
CATEGORIES:Community,Local business,Office Hours,Outreach
ORGANIZER;CN="Park Slope Civic Council":MAILTO:membership@parkslopecouncil.org
END:VEVENT
BEGIN:VEVENT
DTSTART;TZID=America/New_York:20190115T190000
DTEND;TZID=America/New_York:20190115T210000
DTSTAMP:20260423T085232
CREATED:20180326T222744Z
LAST-MODIFIED:20180326T222744Z
UID:9874-1547578800-1547586000@parkslopeciviccouncil.org
SUMMARY:Office Hours at The Commissioner
DESCRIPTION:Please join us for Office Hours at The Commissioner! Office Hours is an informal gathering of PSCC trustees\, members\, and neighbors. It’s a great time to meet your neighbors and make new friends.
URL:https://parkslopeciviccouncil.org/event/office-hours-at-the-commissioner-2-2-2-2-2-2-4/
LOCATION:The Commissioner\, 247 5th Avenue\, Brooklyn\, New York\, 11215
CATEGORIES:Community,Local business,Office Hours,Outreach
ORGANIZER;CN="Park Slope Civic Council":MAILTO:membership@parkslopecouncil.org
END:VEVENT
BEGIN:VEVENT
DTSTART;TZID=America/New_York:20190112T100000
DTEND;TZID=America/New_York:20190113T140000
DTSTAMP:20260423T085232
CREATED:20190103T005416Z
LAST-MODIFIED:20190103T005416Z
UID:9548-1547287200-1547388000@parkslopeciviccouncil.org
SUMMARY:Mulchfest 2019
DESCRIPTION:Mulchfest 2019 \n\nOn Saturday\, January 12\, or Sunday\, January 13\, 10 a.m. to 2 p.m.\, bring your holiday tree to the Third Street entrance of Prospect Park or the Park Circle entrance at Parkside Avenue and Prospect Park Southwest. Your tree will be turned into environment-friendly mulch\, which you can take home free of charge for your own garden. While you wait for your mulch at the Third Street entrance\, you can enjoy hot chocolate\, served by the Park Slope Civic Council.\n\nCan’t make it? You may leave holiday trees at the Park entrances mentioned above after January 4. Also\, if you live in the area bounded by Union Street\, Sixth Avenue\, 15th Street\, and Prospect Park West\, you can leave your tree at either end of your block before 11 a.m. on Saturday\, January 12 and volunteers will pick it up and bring it to the 3rd Street entrance of the Park.\n\nYou can help make this event a success by volunteering:\n\nTo gather trees and transport them to the Park\nTo help assist people who bring their trees in for recycling at the 3rd St. Entrance\nTo work on the U-Hauls collecting trees from the sidewalks\n\nTo volunteer\, please e-mail the Civic Council’s Sustainability Committee at sustainability@parkslopeciviccouncil.org OR come to the Third Street entrance of the Park on January 12 or 13\, 10am – 2pm.\n\nMulchfest is co-sponsored by the Prospect Park Alliance and the Park Slope Civic Council. Special thanks to U-Haul for their valued participation.\n\n\n\n\n\n\nDATE:   January 12th and 13th\n\n\nTIME:  10:00 AM – 2:00 PM\n\n\nLOCATION:  Third Street entrance of Prospect Park or the Park Circle entrance at Parkside Avenue and Prospect Park Southwest.\nQUESTIONS?:  sustainability@parkslopeciviccouncil.org
URL:https://parkslopeciviccouncil.org/event/mulchfest-2019-2/
LOCATION:Third Street entrance of Prospect Park or the Park Circle entrance at Parkside Avenue and Prospect Park Southwest\, Third Street entrance of Prospect Park or the Park Circle entrance at Parkside Avenue and Prospect Park Southwest
CATEGORIES:Community,Outreach,PSCC Sponsored Event,Sustainability
END:VEVENT
BEGIN:VEVENT
DTSTART;TZID=America/New_York:20190112T100000
DTEND;TZID=America/New_York:20190113T140000
DTSTAMP:20260423T085232
CREATED:20190103T005416Z
LAST-MODIFIED:20190103T005416Z
UID:9907-1547287200-1547388000@parkslopeciviccouncil.org
SUMMARY:Mulchfest 2019
DESCRIPTION:Mulchfest 2019 \n\nOn Saturday\, January 12\, or Sunday\, January 13\, 10 a.m. to 2 p.m.\, bring your holiday tree to the Third Street entrance of Prospect Park or the Park Circle entrance at Parkside Avenue and Prospect Park Southwest. Your tree will be turned into environment-friendly mulch\, which you can take home free of charge for your own garden. While you wait for your mulch at the Third Street entrance\, you can enjoy hot chocolate\, served by the Park Slope Civic Council.\n\nCan’t make it? You may leave holiday trees at the Park entrances mentioned above after January 4. Also\, if you live in the area bounded by Union Street\, Sixth Avenue\, 15th Street\, and Prospect Park West\, you can leave your tree at either end of your block before 11 a.m. on Saturday\, January 12 and volunteers will pick it up and bring it to the 3rd Street entrance of the Park.\n\nYou can help make this event a success by volunteering:\n\nTo gather trees and transport them to the Park\nTo help assist people who bring their trees in for recycling at the 3rd St. Entrance\nTo work on the U-Hauls collecting trees from the sidewalks\n\nTo volunteer\, please e-mail the Civic Council’s Sustainability Committee at sustainability@parkslopeciviccouncil.org OR come to the Third Street entrance of the Park on January 12 or 13\, 10am – 2pm.\n\nMulchfest is co-sponsored by the Prospect Park Alliance and the Park Slope Civic Council. Special thanks to U-Haul for their valued participation.\n\n\n\n\n\n\nDATE:   January 12th and 13th\n\n\nTIME:  10:00 AM – 2:00 PM\n\n\nLOCATION:  Third Street entrance of Prospect Park or the Park Circle entrance at Parkside Avenue and Prospect Park Southwest.\nQUESTIONS?:  sustainability@parkslopeciviccouncil.org
URL:https://parkslopeciviccouncil.org/event/mulchfest-2019-3/
LOCATION:Third Street entrance of Prospect Park or the Park Circle entrance at Parkside Avenue and Prospect Park Southwest\, Third Street entrance of Prospect Park or the Park Circle entrance at Parkside Avenue and Prospect Park Southwest
CATEGORIES:Community,Outreach,PSCC Sponsored Event,Sustainability
END:VEVENT
END:VCALENDAR