BEGIN:VCALENDAR
VERSION:2.0
PRODID:-//Park Slope Civic Council - ECPv6.15.20//NONSGML v1.0//EN
CALSCALE:GREGORIAN
METHOD:PUBLISH
X-WR-CALNAME:Park Slope Civic Council
X-ORIGINAL-URL:https://parkslopeciviccouncil.org
X-WR-CALDESC:Events for Park Slope Civic Council
REFRESH-INTERVAL;VALUE=DURATION:PT1H
X-Robots-Tag:noindex
X-PUBLISHED-TTL:PT1H
BEGIN:VTIMEZONE
TZID:UTC
BEGIN:STANDARD
TZOFFSETFROM:+0000
TZOFFSETTO:+0000
TZNAME:UTC
DTSTART:20150101T000000
END:STANDARD
END:VTIMEZONE
BEGIN:VTIMEZONE
TZID:America/New_York
BEGIN:DAYLIGHT
TZOFFSETFROM:-0500
TZOFFSETTO:-0400
TZNAME:EDT
DTSTART:20150308T070000
END:DAYLIGHT
BEGIN:STANDARD
TZOFFSETFROM:-0400
TZOFFSETTO:-0500
TZNAME:EST
DTSTART:20151101T060000
END:STANDARD
BEGIN:DAYLIGHT
TZOFFSETFROM:-0500
TZOFFSETTO:-0400
TZNAME:EDT
DTSTART:20160313T070000
END:DAYLIGHT
BEGIN:STANDARD
TZOFFSETFROM:-0400
TZOFFSETTO:-0500
TZNAME:EST
DTSTART:20161106T060000
END:STANDARD
BEGIN:DAYLIGHT
TZOFFSETFROM:-0500
TZOFFSETTO:-0400
TZNAME:EDT
DTSTART:20170312T070000
END:DAYLIGHT
BEGIN:STANDARD
TZOFFSETFROM:-0400
TZOFFSETTO:-0500
TZNAME:EST
DTSTART:20171105T060000
END:STANDARD
END:VTIMEZONE
BEGIN:VEVENT
DTSTART;TZID=UTC:20160517T190000
DTEND;TZID=UTC:20160517T210000
DTSTAMP:20260425T111551
CREATED:20150102T172830Z
LAST-MODIFIED:20150102T172830Z
UID:10762-1463511600-1463518800@parkslopeciviccouncil.org
SUMMARY:Office Hours - May
DESCRIPTION:Open to All – Members and Neighbors Welcome! \nOffice Hours is a new and informal way to meet and chat with PSCC and neighborhood folk\, brainstorm\, schmooze\, etc. \nNo agenda.  Just come and be social! \n 
URL:https://parkslopeciviccouncil.org/event/office-hours-jan-2015-edition-2-2-2-2-2-2-7-6/
LOCATION:Parish Bar\, 223 7th Avenue\, Brooklyn\, NY\, United States
CATEGORIES:Community,Outreach
END:VEVENT
BEGIN:VEVENT
DTSTART;TZID=UTC:20160517T190000
DTEND;TZID=UTC:20160517T210000
DTSTAMP:20260425T111551
CREATED:20150102T172830Z
LAST-MODIFIED:20150102T172830Z
UID:6121-1463511600-1463518800@parkslopeciviccouncil.org
SUMMARY:Office Hours - May
DESCRIPTION:Open to All – Members and Neighbors Welcome! \nOffice Hours is a new and informal way to meet and chat with PSCC and neighborhood folk\, brainstorm\, schmooze\, etc. \nNo agenda.  Just come and be social! \n 
URL:https://parkslopeciviccouncil.org/event/office-hours-jan-2015-edition-2-2-2-2-2-2-7/
LOCATION:Parish Bar\, 223 7th Avenue\, Brooklyn\, NY\, United States
CATEGORIES:Community,Outreach
END:VEVENT
BEGIN:VEVENT
DTSTART;TZID=UTC:20160419T190000
DTEND;TZID=UTC:20160419T210000
DTSTAMP:20260425T111551
CREATED:20150102T172830Z
LAST-MODIFIED:20150102T172830Z
UID:6122-1461092400-1461099600@parkslopeciviccouncil.org
SUMMARY:Office Hours - April
DESCRIPTION:Open to All – Members and Neighbors Welcome! \nOffice Hours is a new and informal way to meet and chat with PSCC and neighborhood folk\, brainstorm\, schmooze\, etc. \nNo agenda.  Just come and be social! \n 
URL:https://parkslopeciviccouncil.org/event/office-hours-jan-2015-edition-2-2-2-2-2-2-6/
LOCATION:Parish Bar\, 223 7th Avenue\, Brooklyn\, NY\, United States
CATEGORIES:Community,Outreach
END:VEVENT
BEGIN:VEVENT
DTSTART;TZID=UTC:20160419T190000
DTEND;TZID=UTC:20160419T210000
DTSTAMP:20260425T111551
CREATED:20150102T172830Z
LAST-MODIFIED:20150102T172830Z
UID:9375-1461092400-1461099600@parkslopeciviccouncil.org
SUMMARY:Office Hours - April
DESCRIPTION:Open to All – Members and Neighbors Welcome! \nOffice Hours is a new and informal way to meet and chat with PSCC and neighborhood folk\, brainstorm\, schmooze\, etc. \nNo agenda.  Just come and be social! \n 
URL:https://parkslopeciviccouncil.org/event/office-hours-jan-2015-edition-2-2-2-2-2-2-6-2/
LOCATION:Parish Bar\, 223 7th Avenue\, Brooklyn\, NY\, United States
CATEGORIES:Community,Outreach
END:VEVENT
BEGIN:VEVENT
DTSTART;TZID=UTC:20160419T190000
DTEND;TZID=UTC:20160419T210000
DTSTAMP:20260425T111551
CREATED:20150102T172830Z
LAST-MODIFIED:20150102T172830Z
UID:9735-1461092400-1461099600@parkslopeciviccouncil.org
SUMMARY:Office Hours - April
DESCRIPTION:Open to All – Members and Neighbors Welcome! \nOffice Hours is a new and informal way to meet and chat with PSCC and neighborhood folk\, brainstorm\, schmooze\, etc. \nNo agenda.  Just come and be social! \n 
URL:https://parkslopeciviccouncil.org/event/office-hours-jan-2015-edition-2-2-2-2-2-2-6-3/
LOCATION:Parish Bar\, 223 7th Avenue\, Brooklyn\, NY\, United States
CATEGORIES:Community,Outreach
END:VEVENT
BEGIN:VEVENT
DTSTART;TZID=UTC:20160419T190000
DTEND;TZID=UTC:20160419T210000
DTSTAMP:20260425T111551
CREATED:20150102T172830Z
LAST-MODIFIED:20150102T172830Z
UID:10094-1461092400-1461099600@parkslopeciviccouncil.org
SUMMARY:Office Hours - April
DESCRIPTION:Open to All – Members and Neighbors Welcome! \nOffice Hours is a new and informal way to meet and chat with PSCC and neighborhood folk\, brainstorm\, schmooze\, etc. \nNo agenda.  Just come and be social! \n 
URL:https://parkslopeciviccouncil.org/event/office-hours-jan-2015-edition-2-2-2-2-2-2-6-4/
LOCATION:Parish Bar\, 223 7th Avenue\, Brooklyn\, NY\, United States
CATEGORIES:Community,Outreach
END:VEVENT
BEGIN:VEVENT
DTSTART;TZID=UTC:20160419T190000
DTEND;TZID=UTC:20160419T210000
DTSTAMP:20260425T111551
CREATED:20150102T172830Z
LAST-MODIFIED:20150102T172830Z
UID:12247-1461092400-1461099600@parkslopeciviccouncil.org
SUMMARY:Office Hours - April
DESCRIPTION:Open to All – Members and Neighbors Welcome! \nOffice Hours is a new and informal way to meet and chat with PSCC and neighborhood folk\, brainstorm\, schmooze\, etc. \nNo agenda.  Just come and be social! \n 
URL:https://parkslopeciviccouncil.org/event/office-hours-jan-2015-edition-2-2-2-2-2-2-6-7/
LOCATION:Parish Bar\, 223 7th Avenue\, Brooklyn\, NY\, United States
CATEGORIES:Community,Outreach
END:VEVENT
BEGIN:VEVENT
DTSTART;TZID=UTC:20160419T190000
DTEND;TZID=UTC:20160419T210000
DTSTAMP:20260425T111551
CREATED:20150102T172830Z
LAST-MODIFIED:20150102T172830Z
UID:10443-1461092400-1461099600@parkslopeciviccouncil.org
SUMMARY:Office Hours - April
DESCRIPTION:Open to All – Members and Neighbors Welcome! \nOffice Hours is a new and informal way to meet and chat with PSCC and neighborhood folk\, brainstorm\, schmooze\, etc. \nNo agenda.  Just come and be social! \n 
URL:https://parkslopeciviccouncil.org/event/office-hours-jan-2015-edition-2-2-2-2-2-2-6-5/
LOCATION:Parish Bar\, 223 7th Avenue\, Brooklyn\, NY\, United States
CATEGORIES:Community,Outreach
END:VEVENT
BEGIN:VEVENT
DTSTART;TZID=UTC:20160419T190000
DTEND;TZID=UTC:20160419T210000
DTSTAMP:20260425T111551
CREATED:20150102T172830Z
LAST-MODIFIED:20150102T172830Z
UID:10763-1461092400-1461099600@parkslopeciviccouncil.org
SUMMARY:Office Hours - April
DESCRIPTION:Open to All – Members and Neighbors Welcome! \nOffice Hours is a new and informal way to meet and chat with PSCC and neighborhood folk\, brainstorm\, schmooze\, etc. \nNo agenda.  Just come and be social! \n 
URL:https://parkslopeciviccouncil.org/event/office-hours-jan-2015-edition-2-2-2-2-2-2-6-6/
LOCATION:Parish Bar\, 223 7th Avenue\, Brooklyn\, NY\, United States
CATEGORIES:Community,Outreach
END:VEVENT
BEGIN:VEVENT
DTSTART;TZID=UTC:20160315T190000
DTEND;TZID=UTC:20160315T210000
DTSTAMP:20260425T111551
CREATED:20150102T172830Z
LAST-MODIFIED:20150102T172830Z
UID:12248-1458068400-1458075600@parkslopeciviccouncil.org
SUMMARY:Office Hours - March
DESCRIPTION:Open to All – Members and Neighbors Welcome! \nOffice Hours is a new and informal way to meet and chat with PSCC and neighborhood folk\, brainstorm\, schmooze\, etc. \nNo agenda.  Just come and be social! \n 
URL:https://parkslopeciviccouncil.org/event/office-hours-jan-2015-edition-2-2-2-2-2-2-5-7/
LOCATION:Parish Bar\, 223 7th Avenue\, Brooklyn\, NY\, United States
CATEGORIES:Community,Outreach
END:VEVENT
BEGIN:VEVENT
DTSTART;TZID=UTC:20160315T190000
DTEND;TZID=UTC:20160315T210000
DTSTAMP:20260425T111551
CREATED:20150102T172830Z
LAST-MODIFIED:20150102T172830Z
UID:10444-1458068400-1458075600@parkslopeciviccouncil.org
SUMMARY:Office Hours - March
DESCRIPTION:Open to All – Members and Neighbors Welcome! \nOffice Hours is a new and informal way to meet and chat with PSCC and neighborhood folk\, brainstorm\, schmooze\, etc. \nNo agenda.  Just come and be social! \n 
URL:https://parkslopeciviccouncil.org/event/office-hours-jan-2015-edition-2-2-2-2-2-2-5-5/
LOCATION:Parish Bar\, 223 7th Avenue\, Brooklyn\, NY\, United States
CATEGORIES:Community,Outreach
END:VEVENT
BEGIN:VEVENT
DTSTART;TZID=UTC:20160315T190000
DTEND;TZID=UTC:20160315T210000
DTSTAMP:20260425T111551
CREATED:20150102T172830Z
LAST-MODIFIED:20150102T172830Z
UID:10764-1458068400-1458075600@parkslopeciviccouncil.org
SUMMARY:Office Hours - March
DESCRIPTION:Open to All – Members and Neighbors Welcome! \nOffice Hours is a new and informal way to meet and chat with PSCC and neighborhood folk\, brainstorm\, schmooze\, etc. \nNo agenda.  Just come and be social! \n 
URL:https://parkslopeciviccouncil.org/event/office-hours-jan-2015-edition-2-2-2-2-2-2-5-6/
LOCATION:Parish Bar\, 223 7th Avenue\, Brooklyn\, NY\, United States
CATEGORIES:Community,Outreach
END:VEVENT
BEGIN:VEVENT
DTSTART;TZID=UTC:20160315T190000
DTEND;TZID=UTC:20160315T210000
DTSTAMP:20260425T111551
CREATED:20150102T172830Z
LAST-MODIFIED:20150102T172830Z
UID:6123-1458068400-1458075600@parkslopeciviccouncil.org
SUMMARY:Office Hours - March
DESCRIPTION:Open to All – Members and Neighbors Welcome! \nOffice Hours is a new and informal way to meet and chat with PSCC and neighborhood folk\, brainstorm\, schmooze\, etc. \nNo agenda.  Just come and be social! \n 
URL:https://parkslopeciviccouncil.org/event/office-hours-jan-2015-edition-2-2-2-2-2-2-5/
LOCATION:Parish Bar\, 223 7th Avenue\, Brooklyn\, NY\, United States
CATEGORIES:Community,Outreach
END:VEVENT
BEGIN:VEVENT
DTSTART;TZID=UTC:20160315T190000
DTEND;TZID=UTC:20160315T210000
DTSTAMP:20260425T111551
CREATED:20150102T172830Z
LAST-MODIFIED:20150102T172830Z
UID:9376-1458068400-1458075600@parkslopeciviccouncil.org
SUMMARY:Office Hours - March
DESCRIPTION:Open to All – Members and Neighbors Welcome! \nOffice Hours is a new and informal way to meet and chat with PSCC and neighborhood folk\, brainstorm\, schmooze\, etc. \nNo agenda.  Just come and be social! \n 
URL:https://parkslopeciviccouncil.org/event/office-hours-jan-2015-edition-2-2-2-2-2-2-5-2/
LOCATION:Parish Bar\, 223 7th Avenue\, Brooklyn\, NY\, United States
CATEGORIES:Community,Outreach
END:VEVENT
BEGIN:VEVENT
DTSTART;TZID=UTC:20160315T190000
DTEND;TZID=UTC:20160315T210000
DTSTAMP:20260425T111551
CREATED:20150102T172830Z
LAST-MODIFIED:20150102T172830Z
UID:9736-1458068400-1458075600@parkslopeciviccouncil.org
SUMMARY:Office Hours - March
DESCRIPTION:Open to All – Members and Neighbors Welcome! \nOffice Hours is a new and informal way to meet and chat with PSCC and neighborhood folk\, brainstorm\, schmooze\, etc. \nNo agenda.  Just come and be social! \n 
URL:https://parkslopeciviccouncil.org/event/office-hours-jan-2015-edition-2-2-2-2-2-2-5-3/
LOCATION:Parish Bar\, 223 7th Avenue\, Brooklyn\, NY\, United States
CATEGORIES:Community,Outreach
END:VEVENT
BEGIN:VEVENT
DTSTART;TZID=UTC:20160315T190000
DTEND;TZID=UTC:20160315T210000
DTSTAMP:20260425T111551
CREATED:20150102T172830Z
LAST-MODIFIED:20150102T172830Z
UID:10095-1458068400-1458075600@parkslopeciviccouncil.org
SUMMARY:Office Hours - March
DESCRIPTION:Open to All – Members and Neighbors Welcome! \nOffice Hours is a new and informal way to meet and chat with PSCC and neighborhood folk\, brainstorm\, schmooze\, etc. \nNo agenda.  Just come and be social! \n 
URL:https://parkslopeciviccouncil.org/event/office-hours-jan-2015-edition-2-2-2-2-2-2-5-4/
LOCATION:Parish Bar\, 223 7th Avenue\, Brooklyn\, NY\, United States
CATEGORIES:Community,Outreach
END:VEVENT
BEGIN:VEVENT
DTSTART;TZID=UTC:20160216T190000
DTEND;TZID=UTC:20160216T210000
DTSTAMP:20260425T111551
CREATED:20150102T172830Z
LAST-MODIFIED:20150102T172830Z
UID:9737-1455649200-1455656400@parkslopeciviccouncil.org
SUMMARY:Office Hours - February
DESCRIPTION:Open to All – Members and Neighbors Welcome! \nOffice Hours is a new and informal way to meet and chat with PSCC and neighborhood folk\, brainstorm\, schmooze\, etc. \nNo agenda.  Just come and be social! \n 
URL:https://parkslopeciviccouncil.org/event/office-hours-jan-2015-edition-2-2-2-2-2-2-4-3/
LOCATION:Parish Bar\, 223 7th Avenue\, Brooklyn\, NY\, United States
CATEGORIES:Community,Outreach
END:VEVENT
BEGIN:VEVENT
DTSTART;TZID=UTC:20160216T190000
DTEND;TZID=UTC:20160216T210000
DTSTAMP:20260425T111551
CREATED:20150102T172830Z
LAST-MODIFIED:20150102T172830Z
UID:10096-1455649200-1455656400@parkslopeciviccouncil.org
SUMMARY:Office Hours - February
DESCRIPTION:Open to All – Members and Neighbors Welcome! \nOffice Hours is a new and informal way to meet and chat with PSCC and neighborhood folk\, brainstorm\, schmooze\, etc. \nNo agenda.  Just come and be social! \n 
URL:https://parkslopeciviccouncil.org/event/office-hours-jan-2015-edition-2-2-2-2-2-2-4-4/
LOCATION:Parish Bar\, 223 7th Avenue\, Brooklyn\, NY\, United States
CATEGORIES:Community,Outreach
END:VEVENT
BEGIN:VEVENT
DTSTART;TZID=UTC:20160216T190000
DTEND;TZID=UTC:20160216T210000
DTSTAMP:20260425T111551
CREATED:20150102T172830Z
LAST-MODIFIED:20150102T172830Z
UID:12249-1455649200-1455656400@parkslopeciviccouncil.org
SUMMARY:Office Hours - February
DESCRIPTION:Open to All – Members and Neighbors Welcome! \nOffice Hours is a new and informal way to meet and chat with PSCC and neighborhood folk\, brainstorm\, schmooze\, etc. \nNo agenda.  Just come and be social! \n 
URL:https://parkslopeciviccouncil.org/event/office-hours-jan-2015-edition-2-2-2-2-2-2-4-7/
LOCATION:Parish Bar\, 223 7th Avenue\, Brooklyn\, NY\, United States
CATEGORIES:Community,Outreach
END:VEVENT
BEGIN:VEVENT
DTSTART;TZID=UTC:20160216T190000
DTEND;TZID=UTC:20160216T210000
DTSTAMP:20260425T111551
CREATED:20150102T172830Z
LAST-MODIFIED:20150102T172830Z
UID:10445-1455649200-1455656400@parkslopeciviccouncil.org
SUMMARY:Office Hours - February
DESCRIPTION:Open to All – Members and Neighbors Welcome! \nOffice Hours is a new and informal way to meet and chat with PSCC and neighborhood folk\, brainstorm\, schmooze\, etc. \nNo agenda.  Just come and be social! \n 
URL:https://parkslopeciviccouncil.org/event/office-hours-jan-2015-edition-2-2-2-2-2-2-4-5/
LOCATION:Parish Bar\, 223 7th Avenue\, Brooklyn\, NY\, United States
CATEGORIES:Community,Outreach
END:VEVENT
BEGIN:VEVENT
DTSTART;TZID=UTC:20160216T190000
DTEND;TZID=UTC:20160216T210000
DTSTAMP:20260425T111551
CREATED:20150102T172830Z
LAST-MODIFIED:20150102T172830Z
UID:10765-1455649200-1455656400@parkslopeciviccouncil.org
SUMMARY:Office Hours - February
DESCRIPTION:Open to All – Members and Neighbors Welcome! \nOffice Hours is a new and informal way to meet and chat with PSCC and neighborhood folk\, brainstorm\, schmooze\, etc. \nNo agenda.  Just come and be social! \n 
URL:https://parkslopeciviccouncil.org/event/office-hours-jan-2015-edition-2-2-2-2-2-2-4-6/
LOCATION:Parish Bar\, 223 7th Avenue\, Brooklyn\, NY\, United States
CATEGORIES:Community,Outreach
END:VEVENT
BEGIN:VEVENT
DTSTART;TZID=UTC:20160216T190000
DTEND;TZID=UTC:20160216T210000
DTSTAMP:20260425T111551
CREATED:20150102T172830Z
LAST-MODIFIED:20150102T172830Z
UID:6124-1455649200-1455656400@parkslopeciviccouncil.org
SUMMARY:Office Hours - February
DESCRIPTION:Open to All – Members and Neighbors Welcome! \nOffice Hours is a new and informal way to meet and chat with PSCC and neighborhood folk\, brainstorm\, schmooze\, etc. \nNo agenda.  Just come and be social! \n 
URL:https://parkslopeciviccouncil.org/event/office-hours-jan-2015-edition-2-2-2-2-2-2-4/
LOCATION:Parish Bar\, 223 7th Avenue\, Brooklyn\, NY\, United States
CATEGORIES:Community,Outreach
END:VEVENT
BEGIN:VEVENT
DTSTART;TZID=UTC:20160216T190000
DTEND;TZID=UTC:20160216T210000
DTSTAMP:20260425T111551
CREATED:20150102T172830Z
LAST-MODIFIED:20150102T172830Z
UID:9377-1455649200-1455656400@parkslopeciviccouncil.org
SUMMARY:Office Hours - February
DESCRIPTION:Open to All – Members and Neighbors Welcome! \nOffice Hours is a new and informal way to meet and chat with PSCC and neighborhood folk\, brainstorm\, schmooze\, etc. \nNo agenda.  Just come and be social! \n 
URL:https://parkslopeciviccouncil.org/event/office-hours-jan-2015-edition-2-2-2-2-2-2-4-2/
LOCATION:Parish Bar\, 223 7th Avenue\, Brooklyn\, NY\, United States
CATEGORIES:Community,Outreach
END:VEVENT
BEGIN:VEVENT
DTSTART;TZID=America/New_York:20160119T190000
DTEND;TZID=America/New_York:20160119T210000
DTSTAMP:20260425T111551
CREATED:20150102T172830Z
LAST-MODIFIED:20150102T172830Z
UID:9378-1453230000-1453237200@parkslopeciviccouncil.org
SUMMARY:Office Hours - January
DESCRIPTION:Open to All – Members and Neighbors Welcome! \nOffice Hours is a new and informal way to meet and chat with PSCC and neighborhood folk\, brainstorm\, schmooze\, etc. \nNo agenda.  Just come and be social! \nLocation: Parish Bar\, 223 7th Avenue (between 3rd & 4th Streets)\n 
URL:https://parkslopeciviccouncil.org/event/office-hours-jan-2015-edition-2-2-2-2-2-2-3-2/
LOCATION:Parish Bar\, 223 7th Avenue\, Brooklyn\, NY\, United States
CATEGORIES:Community,Outreach
END:VEVENT
BEGIN:VEVENT
DTSTART;TZID=America/New_York:20160119T190000
DTEND;TZID=America/New_York:20160119T210000
DTSTAMP:20260425T111551
CREATED:20150102T172830Z
LAST-MODIFIED:20150102T172830Z
UID:9738-1453230000-1453237200@parkslopeciviccouncil.org
SUMMARY:Office Hours - January
DESCRIPTION:Open to All – Members and Neighbors Welcome! \nOffice Hours is a new and informal way to meet and chat with PSCC and neighborhood folk\, brainstorm\, schmooze\, etc. \nNo agenda.  Just come and be social! \nLocation: Parish Bar\, 223 7th Avenue (between 3rd & 4th Streets)\n 
URL:https://parkslopeciviccouncil.org/event/office-hours-jan-2015-edition-2-2-2-2-2-2-3-3/
LOCATION:Parish Bar\, 223 7th Avenue\, Brooklyn\, NY\, United States
CATEGORIES:Community,Outreach
END:VEVENT
BEGIN:VEVENT
DTSTART;TZID=America/New_York:20160119T190000
DTEND;TZID=America/New_York:20160119T210000
DTSTAMP:20260425T111551
CREATED:20150102T172830Z
LAST-MODIFIED:20150102T172830Z
UID:10097-1453230000-1453237200@parkslopeciviccouncil.org
SUMMARY:Office Hours - January
DESCRIPTION:Open to All – Members and Neighbors Welcome! \nOffice Hours is a new and informal way to meet and chat with PSCC and neighborhood folk\, brainstorm\, schmooze\, etc. \nNo agenda.  Just come and be social! \nLocation: Parish Bar\, 223 7th Avenue (between 3rd & 4th Streets)\n 
URL:https://parkslopeciviccouncil.org/event/office-hours-jan-2015-edition-2-2-2-2-2-2-3-4/
LOCATION:Parish Bar\, 223 7th Avenue\, Brooklyn\, NY\, United States
CATEGORIES:Community,Outreach
END:VEVENT
BEGIN:VEVENT
DTSTART;TZID=America/New_York:20160119T190000
DTEND;TZID=America/New_York:20160119T210000
DTSTAMP:20260425T111551
CREATED:20150102T172830Z
LAST-MODIFIED:20150102T172830Z
UID:12250-1453230000-1453237200@parkslopeciviccouncil.org
SUMMARY:Office Hours - January
DESCRIPTION:Open to All – Members and Neighbors Welcome! \nOffice Hours is a new and informal way to meet and chat with PSCC and neighborhood folk\, brainstorm\, schmooze\, etc. \nNo agenda.  Just come and be social! \nLocation: Parish Bar\, 223 7th Avenue (between 3rd & 4th Streets)\n 
URL:https://parkslopeciviccouncil.org/event/office-hours-jan-2015-edition-2-2-2-2-2-2-3-7/
LOCATION:Parish Bar\, 223 7th Avenue\, Brooklyn\, NY\, United States
CATEGORIES:Community,Outreach
END:VEVENT
BEGIN:VEVENT
DTSTART;TZID=America/New_York:20160119T190000
DTEND;TZID=America/New_York:20160119T210000
DTSTAMP:20260425T111551
CREATED:20150102T172830Z
LAST-MODIFIED:20150102T172830Z
UID:10446-1453230000-1453237200@parkslopeciviccouncil.org
SUMMARY:Office Hours - January
DESCRIPTION:Open to All – Members and Neighbors Welcome! \nOffice Hours is a new and informal way to meet and chat with PSCC and neighborhood folk\, brainstorm\, schmooze\, etc. \nNo agenda.  Just come and be social! \nLocation: Parish Bar\, 223 7th Avenue (between 3rd & 4th Streets)\n 
URL:https://parkslopeciviccouncil.org/event/office-hours-jan-2015-edition-2-2-2-2-2-2-3-5/
LOCATION:Parish Bar\, 223 7th Avenue\, Brooklyn\, NY\, United States
CATEGORIES:Community,Outreach
END:VEVENT
BEGIN:VEVENT
DTSTART;TZID=America/New_York:20160119T190000
DTEND;TZID=America/New_York:20160119T210000
DTSTAMP:20260425T111551
CREATED:20150102T172830Z
LAST-MODIFIED:20150102T172830Z
UID:10766-1453230000-1453237200@parkslopeciviccouncil.org
SUMMARY:Office Hours - January
DESCRIPTION:Open to All – Members and Neighbors Welcome! \nOffice Hours is a new and informal way to meet and chat with PSCC and neighborhood folk\, brainstorm\, schmooze\, etc. \nNo agenda.  Just come and be social! \nLocation: Parish Bar\, 223 7th Avenue (between 3rd & 4th Streets)\n 
URL:https://parkslopeciviccouncil.org/event/office-hours-jan-2015-edition-2-2-2-2-2-2-3-6/
LOCATION:Parish Bar\, 223 7th Avenue\, Brooklyn\, NY\, United States
CATEGORIES:Community,Outreach
END:VEVENT
BEGIN:VEVENT
DTSTART;TZID=America/New_York:20160119T190000
DTEND;TZID=America/New_York:20160119T210000
DTSTAMP:20260425T111551
CREATED:20150102T172830Z
LAST-MODIFIED:20150102T172830Z
UID:6125-1453230000-1453237200@parkslopeciviccouncil.org
SUMMARY:Office Hours - January
DESCRIPTION:Open to All – Members and Neighbors Welcome! \nOffice Hours is a new and informal way to meet and chat with PSCC and neighborhood folk\, brainstorm\, schmooze\, etc. \nNo agenda.  Just come and be social! \nLocation: Parish Bar\, 223 7th Avenue (between 3rd & 4th Streets)\n 
URL:https://parkslopeciviccouncil.org/event/office-hours-jan-2015-edition-2-2-2-2-2-2-3/
LOCATION:Parish Bar\, 223 7th Avenue\, Brooklyn\, NY\, United States
CATEGORIES:Community,Outreach
END:VEVENT
END:VCALENDAR