BEGIN:VCALENDAR
VERSION:2.0
PRODID:-//Park Slope Civic Council - ECPv6.15.20//NONSGML v1.0//EN
CALSCALE:GREGORIAN
METHOD:PUBLISH
X-WR-CALNAME:Park Slope Civic Council
X-ORIGINAL-URL:https://parkslopeciviccouncil.org
X-WR-CALDESC:Events for Park Slope Civic Council
REFRESH-INTERVAL;VALUE=DURATION:PT1H
X-Robots-Tag:noindex
X-PUBLISHED-TTL:PT1H
BEGIN:VTIMEZONE
TZID:UTC
BEGIN:STANDARD
TZOFFSETFROM:+0000
TZOFFSETTO:+0000
TZNAME:UTC
DTSTART:20140101T000000
END:STANDARD
END:VTIMEZONE
BEGIN:VEVENT
DTSTART;TZID=UTC:20151215T190000
DTEND;TZID=UTC:20151215T210000
DTSTAMP:20260425T160401
CREATED:20150102T172830Z
LAST-MODIFIED:20150102T172830Z
UID:6126-1450206000-1450213200@parkslopeciviccouncil.org
SUMMARY:Office Hours - December
DESCRIPTION:Open to All – Members and Neighbors Welcome! \nOffice Hours is a new and informal way to meet and chat with PSCC and neighborhood folk\, brainstorm\, schmooze\, etc. \nNo agenda.  Just come and be social! \n 
URL:https://parkslopeciviccouncil.org/event/office-hours-jan-2015-edition-2-2-2-2-2-2-2/
LOCATION:Parish Bar\, 223 7th Avenue\, Brooklyn\, NY\, United States
CATEGORIES:Community,Outreach
END:VEVENT
BEGIN:VEVENT
DTSTART;TZID=UTC:20151117T190000
DTEND;TZID=UTC:20151117T210000
DTSTAMP:20260425T160401
CREATED:20150102T172830Z
LAST-MODIFIED:20150102T172830Z
UID:9373-1447786800-1447794000@parkslopeciviccouncil.org
SUMMARY:Office Hours - November
DESCRIPTION:Open to All – Members and Neighbors Welcome! \nOffice Hours is a new and informal way to meet and chat with PSCC and neighborhood folk\, brainstorm\, schmooze\, etc. \nNo agenda.  Just come and be social! \n 
URL:https://parkslopeciviccouncil.org/event/office-hours-jan-2015-edition-2-2-2-2-2-2-8/
LOCATION:Parish Bar\, 223 7th Avenue\, Brooklyn\, NY\, United States
CATEGORIES:Community,Outreach
END:VEVENT
BEGIN:VEVENT
DTSTART;TZID=UTC:20151117T190000
DTEND;TZID=UTC:20151117T210000
DTSTAMP:20260425T160401
CREATED:20150102T172830Z
LAST-MODIFIED:20150102T172830Z
UID:9733-1447786800-1447794000@parkslopeciviccouncil.org
SUMMARY:Office Hours - November
DESCRIPTION:Open to All – Members and Neighbors Welcome! \nOffice Hours is a new and informal way to meet and chat with PSCC and neighborhood folk\, brainstorm\, schmooze\, etc. \nNo agenda.  Just come and be social! \n 
URL:https://parkslopeciviccouncil.org/event/office-hours-jan-2015-edition-2-2-2-2-2-2-9/
LOCATION:Parish Bar\, 223 7th Avenue\, Brooklyn\, NY\, United States
CATEGORIES:Community,Outreach
END:VEVENT
BEGIN:VEVENT
DTSTART;TZID=UTC:20151117T190000
DTEND;TZID=UTC:20151117T210000
DTSTAMP:20260425T160401
CREATED:20150102T172830Z
LAST-MODIFIED:20150102T172830Z
UID:10092-1447786800-1447794000@parkslopeciviccouncil.org
SUMMARY:Office Hours - November
DESCRIPTION:Open to All – Members and Neighbors Welcome! \nOffice Hours is a new and informal way to meet and chat with PSCC and neighborhood folk\, brainstorm\, schmooze\, etc. \nNo agenda.  Just come and be social! \n 
URL:https://parkslopeciviccouncil.org/event/office-hours-jan-2015-edition-2-2-2-2-2-2-10/
LOCATION:Parish Bar\, 223 7th Avenue\, Brooklyn\, NY\, United States
CATEGORIES:Community,Outreach
END:VEVENT
BEGIN:VEVENT
DTSTART;TZID=UTC:20151117T190000
DTEND;TZID=UTC:20151117T210000
DTSTAMP:20260425T160401
CREATED:20150102T172830Z
LAST-MODIFIED:20150102T172830Z
UID:10441-1447786800-1447794000@parkslopeciviccouncil.org
SUMMARY:Office Hours - November
DESCRIPTION:Open to All – Members and Neighbors Welcome! \nOffice Hours is a new and informal way to meet and chat with PSCC and neighborhood folk\, brainstorm\, schmooze\, etc. \nNo agenda.  Just come and be social! \n 
URL:https://parkslopeciviccouncil.org/event/office-hours-jan-2015-edition-2-2-2-2-2-2-11/
LOCATION:Parish Bar\, 223 7th Avenue\, Brooklyn\, NY\, United States
CATEGORIES:Community,Outreach
END:VEVENT
BEGIN:VEVENT
DTSTART;TZID=UTC:20151117T190000
DTEND;TZID=UTC:20151117T210000
DTSTAMP:20260425T160401
CREATED:20150102T172830Z
LAST-MODIFIED:20150102T172830Z
UID:10761-1447786800-1447794000@parkslopeciviccouncil.org
SUMMARY:Office Hours - November
DESCRIPTION:Open to All – Members and Neighbors Welcome! \nOffice Hours is a new and informal way to meet and chat with PSCC and neighborhood folk\, brainstorm\, schmooze\, etc. \nNo agenda.  Just come and be social! \n 
URL:https://parkslopeciviccouncil.org/event/office-hours-jan-2015-edition-2-2-2-2-2-2-12/
LOCATION:Parish Bar\, 223 7th Avenue\, Brooklyn\, NY\, United States
CATEGORIES:Community,Outreach
END:VEVENT
BEGIN:VEVENT
DTSTART;TZID=UTC:20151117T190000
DTEND;TZID=UTC:20151117T210000
DTSTAMP:20260425T160401
CREATED:20150102T172830Z
LAST-MODIFIED:20150102T172830Z
UID:12245-1447786800-1447794000@parkslopeciviccouncil.org
SUMMARY:Office Hours - November
DESCRIPTION:Open to All – Members and Neighbors Welcome! \nOffice Hours is a new and informal way to meet and chat with PSCC and neighborhood folk\, brainstorm\, schmooze\, etc. \nNo agenda.  Just come and be social! \n 
URL:https://parkslopeciviccouncil.org/event/office-hours-jan-2015-edition-2-2-2-2-2-2-13/
LOCATION:Parish Bar\, 223 7th Avenue\, Brooklyn\, NY\, United States
CATEGORIES:Community,Outreach
END:VEVENT
BEGIN:VEVENT
DTSTART;TZID=UTC:20151117T190000
DTEND;TZID=UTC:20151117T210000
DTSTAMP:20260425T160401
CREATED:20150102T172830Z
LAST-MODIFIED:20150102T172830Z
UID:6119-1447786800-1447794000@parkslopeciviccouncil.org
SUMMARY:Office Hours - November
DESCRIPTION:Open to All – Members and Neighbors Welcome! \nOffice Hours is a new and informal way to meet and chat with PSCC and neighborhood folk\, brainstorm\, schmooze\, etc. \nNo agenda.  Just come and be social! \n 
URL:https://parkslopeciviccouncil.org/event/office-hours-jan-2015-edition-2-2-2-2-2-2/
LOCATION:Parish Bar\, 223 7th Avenue\, Brooklyn\, NY\, United States
CATEGORIES:Community,Outreach
END:VEVENT
BEGIN:VEVENT
DTSTART;TZID=UTC:20151020T190000
DTEND;TZID=UTC:20151020T210000
DTSTAMP:20260425T160401
CREATED:20150102T172830Z
LAST-MODIFIED:20150102T172830Z
UID:9732-1445367600-1445374800@parkslopeciviccouncil.org
SUMMARY:Office Hours - October
DESCRIPTION:Open to All – Members and Neighbors Welcome! \nOffice Hours is a new and informal way to meet and chat with PSCC and neighborhood folk\, brainstorm\, schmooze\, etc. \nNo agenda.  Just come and be social! \n 
URL:https://parkslopeciviccouncil.org/event/office-hours-jan-2015-edition-2-2-2-2-2-4/
LOCATION:Parish Bar\, 223 7th Avenue\, Brooklyn\, NY\, United States
CATEGORIES:Community,Outreach
END:VEVENT
BEGIN:VEVENT
DTSTART;TZID=UTC:20151020T190000
DTEND;TZID=UTC:20151020T210000
DTSTAMP:20260425T160401
CREATED:20150102T172830Z
LAST-MODIFIED:20150102T172830Z
UID:10091-1445367600-1445374800@parkslopeciviccouncil.org
SUMMARY:Office Hours - October
DESCRIPTION:Open to All – Members and Neighbors Welcome! \nOffice Hours is a new and informal way to meet and chat with PSCC and neighborhood folk\, brainstorm\, schmooze\, etc. \nNo agenda.  Just come and be social! \n 
URL:https://parkslopeciviccouncil.org/event/office-hours-jan-2015-edition-2-2-2-2-2-5/
LOCATION:Parish Bar\, 223 7th Avenue\, Brooklyn\, NY\, United States
CATEGORIES:Community,Outreach
END:VEVENT
BEGIN:VEVENT
DTSTART;TZID=UTC:20151020T190000
DTEND;TZID=UTC:20151020T210000
DTSTAMP:20260425T160401
CREATED:20150102T172830Z
LAST-MODIFIED:20150102T172830Z
UID:10440-1445367600-1445374800@parkslopeciviccouncil.org
SUMMARY:Office Hours - October
DESCRIPTION:Open to All – Members and Neighbors Welcome! \nOffice Hours is a new and informal way to meet and chat with PSCC and neighborhood folk\, brainstorm\, schmooze\, etc. \nNo agenda.  Just come and be social! \n 
URL:https://parkslopeciviccouncil.org/event/office-hours-jan-2015-edition-2-2-2-2-2-6/
LOCATION:Parish Bar\, 223 7th Avenue\, Brooklyn\, NY\, United States
CATEGORIES:Community,Outreach
END:VEVENT
BEGIN:VEVENT
DTSTART;TZID=UTC:20151020T190000
DTEND;TZID=UTC:20151020T210000
DTSTAMP:20260425T160401
CREATED:20150102T172830Z
LAST-MODIFIED:20150102T172830Z
UID:10760-1445367600-1445374800@parkslopeciviccouncil.org
SUMMARY:Office Hours - October
DESCRIPTION:Open to All – Members and Neighbors Welcome! \nOffice Hours is a new and informal way to meet and chat with PSCC and neighborhood folk\, brainstorm\, schmooze\, etc. \nNo agenda.  Just come and be social! \n 
URL:https://parkslopeciviccouncil.org/event/office-hours-jan-2015-edition-2-2-2-2-2-7/
LOCATION:Parish Bar\, 223 7th Avenue\, Brooklyn\, NY\, United States
CATEGORIES:Community,Outreach
END:VEVENT
BEGIN:VEVENT
DTSTART;TZID=UTC:20151020T190000
DTEND;TZID=UTC:20151020T210000
DTSTAMP:20260425T160401
CREATED:20150102T172830Z
LAST-MODIFIED:20150102T172830Z
UID:12244-1445367600-1445374800@parkslopeciviccouncil.org
SUMMARY:Office Hours - October
DESCRIPTION:Open to All – Members and Neighbors Welcome! \nOffice Hours is a new and informal way to meet and chat with PSCC and neighborhood folk\, brainstorm\, schmooze\, etc. \nNo agenda.  Just come and be social! \n 
URL:https://parkslopeciviccouncil.org/event/office-hours-jan-2015-edition-2-2-2-2-2-8/
LOCATION:Parish Bar\, 223 7th Avenue\, Brooklyn\, NY\, United States
CATEGORIES:Community,Outreach
END:VEVENT
BEGIN:VEVENT
DTSTART;TZID=UTC:20151020T190000
DTEND;TZID=UTC:20151020T210000
DTSTAMP:20260425T160401
CREATED:20150102T172830Z
LAST-MODIFIED:20150102T172830Z
UID:6103-1445367600-1445374800@parkslopeciviccouncil.org
SUMMARY:Office Hours - October
DESCRIPTION:Open to All – Members and Neighbors Welcome! \nOffice Hours is a new and informal way to meet and chat with PSCC and neighborhood folk\, brainstorm\, schmooze\, etc. \nNo agenda.  Just come and be social! \n 
URL:https://parkslopeciviccouncil.org/event/office-hours-jan-2015-edition-2-2-2-2-2/
LOCATION:Parish Bar\, 223 7th Avenue\, Brooklyn\, NY\, United States
CATEGORIES:Community,Outreach
END:VEVENT
BEGIN:VEVENT
DTSTART;TZID=UTC:20151020T190000
DTEND;TZID=UTC:20151020T210000
DTSTAMP:20260425T160401
CREATED:20150102T172830Z
LAST-MODIFIED:20150102T172830Z
UID:9372-1445367600-1445374800@parkslopeciviccouncil.org
SUMMARY:Office Hours - October
DESCRIPTION:Open to All – Members and Neighbors Welcome! \nOffice Hours is a new and informal way to meet and chat with PSCC and neighborhood folk\, brainstorm\, schmooze\, etc. \nNo agenda.  Just come and be social! \n 
URL:https://parkslopeciviccouncil.org/event/office-hours-jan-2015-edition-2-2-2-2-2-3/
LOCATION:Parish Bar\, 223 7th Avenue\, Brooklyn\, NY\, United States
CATEGORIES:Community,Outreach
END:VEVENT
BEGIN:VEVENT
DTSTART;TZID=UTC:20150908T070000
DTEND;TZID=UTC:20150908T203000
DTSTAMP:20260425T160401
CREATED:20150407T232755Z
LAST-MODIFIED:20150407T232755Z
UID:9392-1441695600-1441744200@parkslopeciviccouncil.org
SUMMARY:Outreach Comm. Meeting
DESCRIPTION:At the Lion in the Sun – 232 7th Avenue (at 4th Street)
URL:https://parkslopeciviccouncil.org/event/outreach-comm-meeting-4-2-2-2-2/
LOCATION:Lion in the Sun\, 232 7th Ave. (@ 4th St.)\, Brooklyn\, NY\, 11215\, United States
CATEGORIES:Outreach
END:VEVENT
BEGIN:VEVENT
DTSTART;TZID=UTC:20150908T070000
DTEND;TZID=UTC:20150908T203000
DTSTAMP:20260425T160401
CREATED:20150407T232755Z
LAST-MODIFIED:20150407T232755Z
UID:9752-1441695600-1441744200@parkslopeciviccouncil.org
SUMMARY:Outreach Comm. Meeting
DESCRIPTION:At the Lion in the Sun – 232 7th Avenue (at 4th Street)
URL:https://parkslopeciviccouncil.org/event/outreach-comm-meeting-4-2-2-2-3/
LOCATION:Lion in the Sun\, 232 7th Ave. (@ 4th St.)\, Brooklyn\, NY\, 11215\, United States
CATEGORIES:Outreach
END:VEVENT
BEGIN:VEVENT
DTSTART;TZID=UTC:20150908T070000
DTEND;TZID=UTC:20150908T203000
DTSTAMP:20260425T160401
CREATED:20150407T232755Z
LAST-MODIFIED:20150407T232755Z
UID:10111-1441695600-1441744200@parkslopeciviccouncil.org
SUMMARY:Outreach Comm. Meeting
DESCRIPTION:At the Lion in the Sun – 232 7th Avenue (at 4th Street)
URL:https://parkslopeciviccouncil.org/event/outreach-comm-meeting-4-2-2-2-4/
LOCATION:Lion in the Sun\, 232 7th Ave. (@ 4th St.)\, Brooklyn\, NY\, 11215\, United States
CATEGORIES:Outreach
END:VEVENT
BEGIN:VEVENT
DTSTART;TZID=UTC:20150908T070000
DTEND;TZID=UTC:20150908T203000
DTSTAMP:20260425T160401
CREATED:20150407T232755Z
LAST-MODIFIED:20150407T232755Z
UID:5948-1441695600-1441744200@parkslopeciviccouncil.org
SUMMARY:Outreach Comm. Meeting
DESCRIPTION:At the Lion in the Sun – 232 7th Avenue (at 4th Street)
URL:https://parkslopeciviccouncil.org/event/outreach-comm-meeting-4-2-2-2/
LOCATION:Lion in the Sun\, 232 7th Ave. (@ 4th St.)\, Brooklyn\, NY\, 11215\, United States
CATEGORIES:Outreach
END:VEVENT
BEGIN:VEVENT
DTSTART;TZID=UTC:20150908T070000
DTEND;TZID=UTC:20150908T203000
DTSTAMP:20260425T160401
CREATED:20150407T232755Z
LAST-MODIFIED:20150407T232755Z
UID:10460-1441695600-1441744200@parkslopeciviccouncil.org
SUMMARY:Outreach Comm. Meeting
DESCRIPTION:At the Lion in the Sun – 232 7th Avenue (at 4th Street)
URL:https://parkslopeciviccouncil.org/event/outreach-comm-meeting-4-2-2-2-5/
LOCATION:Lion in the Sun\, 232 7th Ave. (@ 4th St.)\, Brooklyn\, NY\, 11215\, United States
CATEGORIES:Outreach
END:VEVENT
BEGIN:VEVENT
DTSTART;TZID=UTC:20150908T070000
DTEND;TZID=UTC:20150908T203000
DTSTAMP:20260425T160401
CREATED:20150407T232755Z
LAST-MODIFIED:20150407T232755Z
UID:10780-1441695600-1441744200@parkslopeciviccouncil.org
SUMMARY:Outreach Comm. Meeting
DESCRIPTION:At the Lion in the Sun – 232 7th Avenue (at 4th Street)
URL:https://parkslopeciviccouncil.org/event/outreach-comm-meeting-4-2-2-2-6/
LOCATION:Lion in the Sun\, 232 7th Ave. (@ 4th St.)\, Brooklyn\, NY\, 11215\, United States
CATEGORIES:Outreach
END:VEVENT
BEGIN:VEVENT
DTSTART;TZID=UTC:20150908T070000
DTEND;TZID=UTC:20150908T203000
DTSTAMP:20260425T160401
CREATED:20150407T232755Z
LAST-MODIFIED:20150407T232755Z
UID:12265-1441695600-1441744200@parkslopeciviccouncil.org
SUMMARY:Outreach Comm. Meeting
DESCRIPTION:At the Lion in the Sun – 232 7th Avenue (at 4th Street)
URL:https://parkslopeciviccouncil.org/event/outreach-comm-meeting-4-2-2-2-7/
LOCATION:Lion in the Sun\, 232 7th Ave. (@ 4th St.)\, Brooklyn\, NY\, 11215\, United States
CATEGORIES:Outreach
END:VEVENT
BEGIN:VEVENT
DTSTART;TZID=UTC:20150609T070000
DTEND;TZID=UTC:20150609T203000
DTSTAMP:20260425T160401
CREATED:20150407T232755Z
LAST-MODIFIED:20150407T232755Z
UID:10110-1433833200-1433881800@parkslopeciviccouncil.org
SUMMARY:Outreach Comm. Meeting
DESCRIPTION:At the Lion in the Sun – 232 7th Avenue (at 4th Street)
URL:https://parkslopeciviccouncil.org/event/outreach-comm-meeting-4-2-2-5/
LOCATION:Lion in the Sun\, 232 7th Ave. (@ 4th St.)\, Brooklyn\, NY\, 11215\, United States
CATEGORIES:Outreach
END:VEVENT
BEGIN:VEVENT
DTSTART;TZID=UTC:20150609T070000
DTEND;TZID=UTC:20150609T203000
DTSTAMP:20260425T160401
CREATED:20150407T232755Z
LAST-MODIFIED:20150407T232755Z
UID:5947-1433833200-1433881800@parkslopeciviccouncil.org
SUMMARY:Outreach Comm. Meeting
DESCRIPTION:At the Lion in the Sun – 232 7th Avenue (at 4th Street)
URL:https://parkslopeciviccouncil.org/event/outreach-comm-meeting-4-2-2/
LOCATION:Lion in the Sun\, 232 7th Ave. (@ 4th St.)\, Brooklyn\, NY\, 11215\, United States
CATEGORIES:Outreach
END:VEVENT
BEGIN:VEVENT
DTSTART;TZID=UTC:20150609T070000
DTEND;TZID=UTC:20150609T203000
DTSTAMP:20260425T160401
CREATED:20150407T232755Z
LAST-MODIFIED:20150407T232755Z
UID:10459-1433833200-1433881800@parkslopeciviccouncil.org
SUMMARY:Outreach Comm. Meeting
DESCRIPTION:At the Lion in the Sun – 232 7th Avenue (at 4th Street)
URL:https://parkslopeciviccouncil.org/event/outreach-comm-meeting-4-2-2-6/
LOCATION:Lion in the Sun\, 232 7th Ave. (@ 4th St.)\, Brooklyn\, NY\, 11215\, United States
CATEGORIES:Outreach
END:VEVENT
BEGIN:VEVENT
DTSTART;TZID=UTC:20150609T070000
DTEND;TZID=UTC:20150609T203000
DTSTAMP:20260425T160401
CREATED:20150407T232755Z
LAST-MODIFIED:20150407T232755Z
UID:10779-1433833200-1433881800@parkslopeciviccouncil.org
SUMMARY:Outreach Comm. Meeting
DESCRIPTION:At the Lion in the Sun – 232 7th Avenue (at 4th Street)
URL:https://parkslopeciviccouncil.org/event/outreach-comm-meeting-4-2-2-7/
LOCATION:Lion in the Sun\, 232 7th Ave. (@ 4th St.)\, Brooklyn\, NY\, 11215\, United States
CATEGORIES:Outreach
END:VEVENT
BEGIN:VEVENT
DTSTART;TZID=UTC:20150609T070000
DTEND;TZID=UTC:20150609T203000
DTSTAMP:20260425T160401
CREATED:20150407T232755Z
LAST-MODIFIED:20150407T232755Z
UID:12264-1433833200-1433881800@parkslopeciviccouncil.org
SUMMARY:Outreach Comm. Meeting
DESCRIPTION:At the Lion in the Sun – 232 7th Avenue (at 4th Street)
URL:https://parkslopeciviccouncil.org/event/outreach-comm-meeting-4-2-2-8/
LOCATION:Lion in the Sun\, 232 7th Ave. (@ 4th St.)\, Brooklyn\, NY\, 11215\, United States
CATEGORIES:Outreach
END:VEVENT
BEGIN:VEVENT
DTSTART;TZID=UTC:20150609T070000
DTEND;TZID=UTC:20150609T203000
DTSTAMP:20260425T160401
CREATED:20150407T232755Z
LAST-MODIFIED:20150407T232755Z
UID:9391-1433833200-1433881800@parkslopeciviccouncil.org
SUMMARY:Outreach Comm. Meeting
DESCRIPTION:At the Lion in the Sun – 232 7th Avenue (at 4th Street)
URL:https://parkslopeciviccouncil.org/event/outreach-comm-meeting-4-2-2-3/
LOCATION:Lion in the Sun\, 232 7th Ave. (@ 4th St.)\, Brooklyn\, NY\, 11215\, United States
CATEGORIES:Outreach
END:VEVENT
BEGIN:VEVENT
DTSTART;TZID=UTC:20150609T070000
DTEND;TZID=UTC:20150609T203000
DTSTAMP:20260425T160401
CREATED:20150407T232755Z
LAST-MODIFIED:20150407T232755Z
UID:9751-1433833200-1433881800@parkslopeciviccouncil.org
SUMMARY:Outreach Comm. Meeting
DESCRIPTION:At the Lion in the Sun – 232 7th Avenue (at 4th Street)
URL:https://parkslopeciviccouncil.org/event/outreach-comm-meeting-4-2-2-4/
LOCATION:Lion in the Sun\, 232 7th Ave. (@ 4th St.)\, Brooklyn\, NY\, 11215\, United States
CATEGORIES:Outreach
END:VEVENT
BEGIN:VEVENT
DTSTART;TZID=UTC:20150519T190000
DTEND;TZID=UTC:20150519T210000
DTSTAMP:20260425T160401
CREATED:20150102T172830Z
LAST-MODIFIED:20150102T172830Z
UID:10090-1432062000-1432069200@parkslopeciviccouncil.org
SUMMARY:Office Hours - May
DESCRIPTION:Open to All – Members and Neighbors Welcome! \nOffice Hours is a new and informal way to meet and chat with PSCC and neighborhood folk\, brainstorm\, schmooze\, etc. \nNo agenda.  Just come and be social! \n 
URL:https://parkslopeciviccouncil.org/event/office-hours-jan-2015-edition-2-2-2-2-5/
LOCATION:Parish Bar\, 223 7th Avenue\, Brooklyn\, NY\, United States
CATEGORIES:Community,Outreach
END:VEVENT
END:VCALENDAR