BEGIN:VCALENDAR
VERSION:2.0
PRODID:-//Park Slope Civic Council - ECPv6.15.20//NONSGML v1.0//EN
CALSCALE:GREGORIAN
METHOD:PUBLISH
X-WR-CALNAME:Park Slope Civic Council
X-ORIGINAL-URL:https://parkslopeciviccouncil.org
X-WR-CALDESC:Events for Park Slope Civic Council
REFRESH-INTERVAL;VALUE=DURATION:PT1H
X-Robots-Tag:noindex
X-PUBLISHED-TTL:PT1H
BEGIN:VTIMEZONE
TZID:UTC
BEGIN:STANDARD
TZOFFSETFROM:+0000
TZOFFSETTO:+0000
TZNAME:UTC
DTSTART:20130101T000000
END:STANDARD
END:VTIMEZONE
BEGIN:VEVENT
DTSTART;TZID=UTC:20150414T070000
DTEND;TZID=UTC:20150414T203000
DTSTAMP:20260426T000111
CREATED:20150407T232755Z
LAST-MODIFIED:20150407T232755Z
UID:12262-1428994800-1429043400@parkslopeciviccouncil.org
SUMMARY:Outreach Comm. Meeting
DESCRIPTION:At the Lion in the Sun – 232 7th Avenue (at 4th Street)
URL:https://parkslopeciviccouncil.org/event/outreach-comm-meeting-4-8/
LOCATION:Lion in the Sun\, 232 7th Ave. (@ 4th St.)\, Brooklyn\, NY\, 11215\, United States
CATEGORIES:Outreach
END:VEVENT
BEGIN:VEVENT
DTSTART;TZID=UTC:20150414T070000
DTEND;TZID=UTC:20150414T203000
DTSTAMP:20260426T000111
CREATED:20150407T232755Z
LAST-MODIFIED:20150407T232755Z
UID:5944-1428994800-1429043400@parkslopeciviccouncil.org
SUMMARY:Outreach Comm. Meeting
DESCRIPTION:At the Lion in the Sun – 232 7th Avenue (at 4th Street)
URL:https://parkslopeciviccouncil.org/event/outreach-comm-meeting-4/
LOCATION:Lion in the Sun\, 232 7th Ave. (@ 4th St.)\, Brooklyn\, NY\, 11215\, United States
CATEGORIES:Outreach
END:VEVENT
BEGIN:VEVENT
DTSTART;TZID=UTC:20150414T070000
DTEND;TZID=UTC:20150414T203000
DTSTAMP:20260426T000111
CREATED:20150407T232755Z
LAST-MODIFIED:20150407T232755Z
UID:10457-1428994800-1429043400@parkslopeciviccouncil.org
SUMMARY:Outreach Comm. Meeting
DESCRIPTION:At the Lion in the Sun – 232 7th Avenue (at 4th Street)
URL:https://parkslopeciviccouncil.org/event/outreach-comm-meeting-4-6/
LOCATION:Lion in the Sun\, 232 7th Ave. (@ 4th St.)\, Brooklyn\, NY\, 11215\, United States
CATEGORIES:Outreach
END:VEVENT
BEGIN:VEVENT
DTSTART;TZID=UTC:20150414T070000
DTEND;TZID=UTC:20150414T203000
DTSTAMP:20260426T000111
CREATED:20150407T232755Z
LAST-MODIFIED:20150407T232755Z
UID:10777-1428994800-1429043400@parkslopeciviccouncil.org
SUMMARY:Outreach Comm. Meeting
DESCRIPTION:At the Lion in the Sun – 232 7th Avenue (at 4th Street)
URL:https://parkslopeciviccouncil.org/event/outreach-comm-meeting-4-7/
LOCATION:Lion in the Sun\, 232 7th Ave. (@ 4th St.)\, Brooklyn\, NY\, 11215\, United States
CATEGORIES:Outreach
END:VEVENT
BEGIN:VEVENT
DTSTART;TZID=UTC:20150317T190000
DTEND;TZID=UTC:20150317T210000
DTSTAMP:20260426T000111
CREATED:20150102T172830Z
LAST-MODIFIED:20150102T172830Z
UID:5856-1426618800-1426626000@parkslopeciviccouncil.org
SUMMARY:Office Hours - March
DESCRIPTION:Open to All – Members and Neighbors Welcome! \nOffice Hours is a new and informal way to meet and chat with PSCC and neighborhood folk\, brainstorm\, schmooze\, etc. \nNo agenda.  Just come and be social! \nNote: Always (except where noted) the THIRD TUESDAY each month!\n 
URL:https://parkslopeciviccouncil.org/event/office-hours-jan-2015-edition-2-2/
LOCATION:Parish Bar\, 223 7th Avenue\, Brooklyn\, NY\, United States
CATEGORIES:Community,Outreach
END:VEVENT
BEGIN:VEVENT
DTSTART;TZID=UTC:20150317T190000
DTEND;TZID=UTC:20150317T210000
DTSTAMP:20260426T000111
CREATED:20150102T172830Z
LAST-MODIFIED:20150102T172830Z
UID:9369-1426618800-1426626000@parkslopeciviccouncil.org
SUMMARY:Office Hours - March
DESCRIPTION:Open to All – Members and Neighbors Welcome! \nOffice Hours is a new and informal way to meet and chat with PSCC and neighborhood folk\, brainstorm\, schmooze\, etc. \nNo agenda.  Just come and be social! \nNote: Always (except where noted) the THIRD TUESDAY each month!\n 
URL:https://parkslopeciviccouncil.org/event/office-hours-jan-2015-edition-2-2-3/
LOCATION:Parish Bar\, 223 7th Avenue\, Brooklyn\, NY\, United States
CATEGORIES:Community,Outreach
END:VEVENT
BEGIN:VEVENT
DTSTART;TZID=UTC:20150317T190000
DTEND;TZID=UTC:20150317T210000
DTSTAMP:20260426T000111
CREATED:20150102T172830Z
LAST-MODIFIED:20150102T172830Z
UID:9729-1426618800-1426626000@parkslopeciviccouncil.org
SUMMARY:Office Hours - March
DESCRIPTION:Open to All – Members and Neighbors Welcome! \nOffice Hours is a new and informal way to meet and chat with PSCC and neighborhood folk\, brainstorm\, schmooze\, etc. \nNo agenda.  Just come and be social! \nNote: Always (except where noted) the THIRD TUESDAY each month!\n 
URL:https://parkslopeciviccouncil.org/event/office-hours-jan-2015-edition-2-2-4/
LOCATION:Parish Bar\, 223 7th Avenue\, Brooklyn\, NY\, United States
CATEGORIES:Community,Outreach
END:VEVENT
BEGIN:VEVENT
DTSTART;TZID=UTC:20150317T190000
DTEND;TZID=UTC:20150317T210000
DTSTAMP:20260426T000111
CREATED:20150102T172830Z
LAST-MODIFIED:20150102T172830Z
UID:10088-1426618800-1426626000@parkslopeciviccouncil.org
SUMMARY:Office Hours - March
DESCRIPTION:Open to All – Members and Neighbors Welcome! \nOffice Hours is a new and informal way to meet and chat with PSCC and neighborhood folk\, brainstorm\, schmooze\, etc. \nNo agenda.  Just come and be social! \nNote: Always (except where noted) the THIRD TUESDAY each month!\n 
URL:https://parkslopeciviccouncil.org/event/office-hours-jan-2015-edition-2-2-5/
LOCATION:Parish Bar\, 223 7th Avenue\, Brooklyn\, NY\, United States
CATEGORIES:Community,Outreach
END:VEVENT
BEGIN:VEVENT
DTSTART;TZID=UTC:20150317T190000
DTEND;TZID=UTC:20150317T210000
DTSTAMP:20260426T000111
CREATED:20150102T172830Z
LAST-MODIFIED:20150102T172830Z
UID:12241-1426618800-1426626000@parkslopeciviccouncil.org
SUMMARY:Office Hours - March
DESCRIPTION:Open to All – Members and Neighbors Welcome! \nOffice Hours is a new and informal way to meet and chat with PSCC and neighborhood folk\, brainstorm\, schmooze\, etc. \nNo agenda.  Just come and be social! \nNote: Always (except where noted) the THIRD TUESDAY each month!\n 
URL:https://parkslopeciviccouncil.org/event/office-hours-jan-2015-edition-2-2-8/
LOCATION:Parish Bar\, 223 7th Avenue\, Brooklyn\, NY\, United States
CATEGORIES:Community,Outreach
END:VEVENT
BEGIN:VEVENT
DTSTART;TZID=UTC:20150317T190000
DTEND;TZID=UTC:20150317T210000
DTSTAMP:20260426T000111
CREATED:20150102T172830Z
LAST-MODIFIED:20150102T172830Z
UID:10437-1426618800-1426626000@parkslopeciviccouncil.org
SUMMARY:Office Hours - March
DESCRIPTION:Open to All – Members and Neighbors Welcome! \nOffice Hours is a new and informal way to meet and chat with PSCC and neighborhood folk\, brainstorm\, schmooze\, etc. \nNo agenda.  Just come and be social! \nNote: Always (except where noted) the THIRD TUESDAY each month!\n 
URL:https://parkslopeciviccouncil.org/event/office-hours-jan-2015-edition-2-2-6/
LOCATION:Parish Bar\, 223 7th Avenue\, Brooklyn\, NY\, United States
CATEGORIES:Community,Outreach
END:VEVENT
BEGIN:VEVENT
DTSTART;TZID=UTC:20150317T190000
DTEND;TZID=UTC:20150317T210000
DTSTAMP:20260426T000111
CREATED:20150102T172830Z
LAST-MODIFIED:20150102T172830Z
UID:10757-1426618800-1426626000@parkslopeciviccouncil.org
SUMMARY:Office Hours - March
DESCRIPTION:Open to All – Members and Neighbors Welcome! \nOffice Hours is a new and informal way to meet and chat with PSCC and neighborhood folk\, brainstorm\, schmooze\, etc. \nNo agenda.  Just come and be social! \nNote: Always (except where noted) the THIRD TUESDAY each month!\n 
URL:https://parkslopeciviccouncil.org/event/office-hours-jan-2015-edition-2-2-7/
LOCATION:Parish Bar\, 223 7th Avenue\, Brooklyn\, NY\, United States
CATEGORIES:Community,Outreach
END:VEVENT
BEGIN:VEVENT
DTSTART;TZID=UTC:20150217T190000
DTEND;TZID=UTC:20150217T210000
DTSTAMP:20260426T000111
CREATED:20150102T172830Z
LAST-MODIFIED:20150102T172830Z
UID:5835-1424199600-1424206800@parkslopeciviccouncil.org
SUMMARY:Office Hours - Feb. 2015 edition
DESCRIPTION:Open to All – Members and Neighbors Welcome! \nOffice Hours is a new and informal way to meet and chat with PSCC and neighborhood folk\, brainstorm\, schmooze\, etc. \nNo agenda.  Just come and be social! \n 
URL:https://parkslopeciviccouncil.org/event/office-hours-jan-2015-edition-2/
LOCATION:Parish Bar\, 223 7th Avenue\, Brooklyn\, NY\, United States
CATEGORIES:Community,Outreach
END:VEVENT
BEGIN:VEVENT
DTSTART;TZID=UTC:20150217T190000
DTEND;TZID=UTC:20150217T210000
DTSTAMP:20260426T000111
CREATED:20150102T172830Z
LAST-MODIFIED:20150102T172830Z
UID:9368-1424199600-1424206800@parkslopeciviccouncil.org
SUMMARY:Office Hours - Feb. 2015 edition
DESCRIPTION:Open to All – Members and Neighbors Welcome! \nOffice Hours is a new and informal way to meet and chat with PSCC and neighborhood folk\, brainstorm\, schmooze\, etc. \nNo agenda.  Just come and be social! \n 
URL:https://parkslopeciviccouncil.org/event/office-hours-jan-2015-edition-2-3/
LOCATION:Parish Bar\, 223 7th Avenue\, Brooklyn\, NY\, United States
CATEGORIES:Community,Outreach
END:VEVENT
BEGIN:VEVENT
DTSTART;TZID=UTC:20150217T190000
DTEND;TZID=UTC:20150217T210000
DTSTAMP:20260426T000111
CREATED:20150102T172830Z
LAST-MODIFIED:20150102T172830Z
UID:9728-1424199600-1424206800@parkslopeciviccouncil.org
SUMMARY:Office Hours - Feb. 2015 edition
DESCRIPTION:Open to All – Members and Neighbors Welcome! \nOffice Hours is a new and informal way to meet and chat with PSCC and neighborhood folk\, brainstorm\, schmooze\, etc. \nNo agenda.  Just come and be social! \n 
URL:https://parkslopeciviccouncil.org/event/office-hours-jan-2015-edition-2-4/
LOCATION:Parish Bar\, 223 7th Avenue\, Brooklyn\, NY\, United States
CATEGORIES:Community,Outreach
END:VEVENT
BEGIN:VEVENT
DTSTART;TZID=UTC:20150217T190000
DTEND;TZID=UTC:20150217T210000
DTSTAMP:20260426T000111
CREATED:20150102T172830Z
LAST-MODIFIED:20150102T172830Z
UID:10087-1424199600-1424206800@parkslopeciviccouncil.org
SUMMARY:Office Hours - Feb. 2015 edition
DESCRIPTION:Open to All – Members and Neighbors Welcome! \nOffice Hours is a new and informal way to meet and chat with PSCC and neighborhood folk\, brainstorm\, schmooze\, etc. \nNo agenda.  Just come and be social! \n 
URL:https://parkslopeciviccouncil.org/event/office-hours-jan-2015-edition-2-5/
LOCATION:Parish Bar\, 223 7th Avenue\, Brooklyn\, NY\, United States
CATEGORIES:Community,Outreach
END:VEVENT
BEGIN:VEVENT
DTSTART;TZID=UTC:20150217T190000
DTEND;TZID=UTC:20150217T210000
DTSTAMP:20260426T000111
CREATED:20150102T172830Z
LAST-MODIFIED:20150102T172830Z
UID:12240-1424199600-1424206800@parkslopeciviccouncil.org
SUMMARY:Office Hours - Feb. 2015 edition
DESCRIPTION:Open to All – Members and Neighbors Welcome! \nOffice Hours is a new and informal way to meet and chat with PSCC and neighborhood folk\, brainstorm\, schmooze\, etc. \nNo agenda.  Just come and be social! \n 
URL:https://parkslopeciviccouncil.org/event/office-hours-jan-2015-edition-2-8/
LOCATION:Parish Bar\, 223 7th Avenue\, Brooklyn\, NY\, United States
CATEGORIES:Community,Outreach
END:VEVENT
BEGIN:VEVENT
DTSTART;TZID=UTC:20150217T190000
DTEND;TZID=UTC:20150217T210000
DTSTAMP:20260426T000111
CREATED:20150102T172830Z
LAST-MODIFIED:20150102T172830Z
UID:10436-1424199600-1424206800@parkslopeciviccouncil.org
SUMMARY:Office Hours - Feb. 2015 edition
DESCRIPTION:Open to All – Members and Neighbors Welcome! \nOffice Hours is a new and informal way to meet and chat with PSCC and neighborhood folk\, brainstorm\, schmooze\, etc. \nNo agenda.  Just come and be social! \n 
URL:https://parkslopeciviccouncil.org/event/office-hours-jan-2015-edition-2-6/
LOCATION:Parish Bar\, 223 7th Avenue\, Brooklyn\, NY\, United States
CATEGORIES:Community,Outreach
END:VEVENT
BEGIN:VEVENT
DTSTART;TZID=UTC:20150217T190000
DTEND;TZID=UTC:20150217T210000
DTSTAMP:20260426T000111
CREATED:20150102T172830Z
LAST-MODIFIED:20150102T172830Z
UID:10756-1424199600-1424206800@parkslopeciviccouncil.org
SUMMARY:Office Hours - Feb. 2015 edition
DESCRIPTION:Open to All – Members and Neighbors Welcome! \nOffice Hours is a new and informal way to meet and chat with PSCC and neighborhood folk\, brainstorm\, schmooze\, etc. \nNo agenda.  Just come and be social! \n 
URL:https://parkslopeciviccouncil.org/event/office-hours-jan-2015-edition-2-7/
LOCATION:Parish Bar\, 223 7th Avenue\, Brooklyn\, NY\, United States
CATEGORIES:Community,Outreach
END:VEVENT
BEGIN:VEVENT
DTSTART;TZID=UTC:20150120T190000
DTEND;TZID=UTC:20150120T210000
DTSTAMP:20260426T000111
CREATED:20150102T172830Z
LAST-MODIFIED:20150102T172830Z
UID:9366-1421780400-1421787600@parkslopeciviccouncil.org
SUMMARY:Office Hours - Jan. 2015 edition
DESCRIPTION:Open to All – Members and Neighbors Welcome! \nOffice Hours is a new and informal way to meet and chat with PSCC and neighborhood folk\, brainstorm\, schmooze\, etc. \nNo agenda.  Just come and be social! \n 
URL:https://parkslopeciviccouncil.org/event/office-hours-jan-2015-edition-3/
LOCATION:Parish Bar\, 223 7th Avenue\, Brooklyn\, NY\, United States
CATEGORIES:Community,Outreach
END:VEVENT
BEGIN:VEVENT
DTSTART;TZID=UTC:20150120T190000
DTEND;TZID=UTC:20150120T210000
DTSTAMP:20260426T000111
CREATED:20150102T172830Z
LAST-MODIFIED:20150102T172830Z
UID:9726-1421780400-1421787600@parkslopeciviccouncil.org
SUMMARY:Office Hours - Jan. 2015 edition
DESCRIPTION:Open to All – Members and Neighbors Welcome! \nOffice Hours is a new and informal way to meet and chat with PSCC and neighborhood folk\, brainstorm\, schmooze\, etc. \nNo agenda.  Just come and be social! \n 
URL:https://parkslopeciviccouncil.org/event/office-hours-jan-2015-edition-4/
LOCATION:Parish Bar\, 223 7th Avenue\, Brooklyn\, NY\, United States
CATEGORIES:Community,Outreach
END:VEVENT
BEGIN:VEVENT
DTSTART;TZID=UTC:20150120T190000
DTEND;TZID=UTC:20150120T210000
DTSTAMP:20260426T000111
CREATED:20150102T172830Z
LAST-MODIFIED:20150102T172830Z
UID:10085-1421780400-1421787600@parkslopeciviccouncil.org
SUMMARY:Office Hours - Jan. 2015 edition
DESCRIPTION:Open to All – Members and Neighbors Welcome! \nOffice Hours is a new and informal way to meet and chat with PSCC and neighborhood folk\, brainstorm\, schmooze\, etc. \nNo agenda.  Just come and be social! \n 
URL:https://parkslopeciviccouncil.org/event/office-hours-jan-2015-edition-5/
LOCATION:Parish Bar\, 223 7th Avenue\, Brooklyn\, NY\, United States
CATEGORIES:Community,Outreach
END:VEVENT
BEGIN:VEVENT
DTSTART;TZID=UTC:20150120T190000
DTEND;TZID=UTC:20150120T210000
DTSTAMP:20260426T000111
CREATED:20150102T172830Z
LAST-MODIFIED:20150102T172830Z
UID:12239-1421780400-1421787600@parkslopeciviccouncil.org
SUMMARY:Office Hours - Jan. 2015 edition
DESCRIPTION:Open to All – Members and Neighbors Welcome! \nOffice Hours is a new and informal way to meet and chat with PSCC and neighborhood folk\, brainstorm\, schmooze\, etc. \nNo agenda.  Just come and be social! \n 
URL:https://parkslopeciviccouncil.org/event/office-hours-jan-2015-edition-8/
LOCATION:Parish Bar\, 223 7th Avenue\, Brooklyn\, NY\, United States
CATEGORIES:Community,Outreach
END:VEVENT
BEGIN:VEVENT
DTSTART;TZID=UTC:20150120T190000
DTEND;TZID=UTC:20150120T210000
DTSTAMP:20260426T000111
CREATED:20150102T172830Z
LAST-MODIFIED:20150102T172830Z
UID:10434-1421780400-1421787600@parkslopeciviccouncil.org
SUMMARY:Office Hours - Jan. 2015 edition
DESCRIPTION:Open to All – Members and Neighbors Welcome! \nOffice Hours is a new and informal way to meet and chat with PSCC and neighborhood folk\, brainstorm\, schmooze\, etc. \nNo agenda.  Just come and be social! \n 
URL:https://parkslopeciviccouncil.org/event/office-hours-jan-2015-edition-6/
LOCATION:Parish Bar\, 223 7th Avenue\, Brooklyn\, NY\, United States
CATEGORIES:Community,Outreach
END:VEVENT
BEGIN:VEVENT
DTSTART;TZID=UTC:20150120T190000
DTEND;TZID=UTC:20150120T210000
DTSTAMP:20260426T000111
CREATED:20150102T172830Z
LAST-MODIFIED:20150102T172830Z
UID:10754-1421780400-1421787600@parkslopeciviccouncil.org
SUMMARY:Office Hours - Jan. 2015 edition
DESCRIPTION:Open to All – Members and Neighbors Welcome! \nOffice Hours is a new and informal way to meet and chat with PSCC and neighborhood folk\, brainstorm\, schmooze\, etc. \nNo agenda.  Just come and be social! \n 
URL:https://parkslopeciviccouncil.org/event/office-hours-jan-2015-edition-7/
LOCATION:Parish Bar\, 223 7th Avenue\, Brooklyn\, NY\, United States
CATEGORIES:Community,Outreach
END:VEVENT
BEGIN:VEVENT
DTSTART;TZID=UTC:20150120T190000
DTEND;TZID=UTC:20150120T210000
DTSTAMP:20260426T000111
CREATED:20150102T172830Z
LAST-MODIFIED:20150102T172830Z
UID:5757-1421780400-1421787600@parkslopeciviccouncil.org
SUMMARY:Office Hours - Jan. 2015 edition
DESCRIPTION:Open to All – Members and Neighbors Welcome! \nOffice Hours is a new and informal way to meet and chat with PSCC and neighborhood folk\, brainstorm\, schmooze\, etc. \nNo agenda.  Just come and be social! \n 
URL:https://parkslopeciviccouncil.org/event/office-hours-jan-2015-edition/
LOCATION:Parish Bar\, 223 7th Avenue\, Brooklyn\, NY\, United States
CATEGORIES:Community,Outreach
END:VEVENT
BEGIN:VEVENT
DTSTART;TZID=UTC:20141216T190000
DTEND;TZID=UTC:20141216T200000
DTSTAMP:20260426T000111
CREATED:20141202T210407Z
LAST-MODIFIED:20141202T210407Z
UID:12234-1418756400-1418760000@parkslopeciviccouncil.org
SUMMARY:Office Hours!
DESCRIPTION:Members and Neighbors Welcome! \nOffice Hours is a new and informal way to meet and chat with PSCC and neighborhood folk\, brainstorm\, schmooze\, etc. \nNo agenda.  Just come and be social!
URL:https://parkslopeciviccouncil.org/event/office-hours-9/
LOCATION:Parish Bar\, 223 7th Avenue\, Brooklyn\, NY\, United States
CATEGORIES:Community,Outreach
END:VEVENT
BEGIN:VEVENT
DTSTART;TZID=UTC:20141216T190000
DTEND;TZID=UTC:20141216T200000
DTSTAMP:20260426T000111
CREATED:20141202T210407Z
LAST-MODIFIED:20141202T210407Z
UID:10429-1418756400-1418760000@parkslopeciviccouncil.org
SUMMARY:Office Hours!
DESCRIPTION:Members and Neighbors Welcome! \nOffice Hours is a new and informal way to meet and chat with PSCC and neighborhood folk\, brainstorm\, schmooze\, etc. \nNo agenda.  Just come and be social!
URL:https://parkslopeciviccouncil.org/event/office-hours-7/
LOCATION:Parish Bar\, 223 7th Avenue\, Brooklyn\, NY\, United States
CATEGORIES:Community,Outreach
END:VEVENT
BEGIN:VEVENT
DTSTART;TZID=UTC:20141216T190000
DTEND;TZID=UTC:20141216T200000
DTSTAMP:20260426T000111
CREATED:20141202T210407Z
LAST-MODIFIED:20141202T210407Z
UID:10749-1418756400-1418760000@parkslopeciviccouncil.org
SUMMARY:Office Hours!
DESCRIPTION:Members and Neighbors Welcome! \nOffice Hours is a new and informal way to meet and chat with PSCC and neighborhood folk\, brainstorm\, schmooze\, etc. \nNo agenda.  Just come and be social!
URL:https://parkslopeciviccouncil.org/event/office-hours-8/
LOCATION:Parish Bar\, 223 7th Avenue\, Brooklyn\, NY\, United States
CATEGORIES:Community,Outreach
END:VEVENT
BEGIN:VEVENT
DTSTART;TZID=UTC:20141216T190000
DTEND;TZID=UTC:20141216T200000
DTSTAMP:20260426T000111
CREATED:20141202T210407Z
LAST-MODIFIED:20141202T210407Z
UID:5712-1418756400-1418760000@parkslopeciviccouncil.org
SUMMARY:Office Hours!
DESCRIPTION:Members and Neighbors Welcome! \nOffice Hours is a new and informal way to meet and chat with PSCC and neighborhood folk\, brainstorm\, schmooze\, etc. \nNo agenda.  Just come and be social!
URL:https://parkslopeciviccouncil.org/event/office-hours/
LOCATION:Parish Bar\, 223 7th Avenue\, Brooklyn\, NY\, United States
CATEGORIES:Community,Outreach
END:VEVENT
BEGIN:VEVENT
DTSTART;TZID=UTC:20141216T190000
DTEND;TZID=UTC:20141216T200000
DTSTAMP:20260426T000111
CREATED:20141202T210407Z
LAST-MODIFIED:20141202T210407Z
UID:9361-1418756400-1418760000@parkslopeciviccouncil.org
SUMMARY:Office Hours!
DESCRIPTION:Members and Neighbors Welcome! \nOffice Hours is a new and informal way to meet and chat with PSCC and neighborhood folk\, brainstorm\, schmooze\, etc. \nNo agenda.  Just come and be social!
URL:https://parkslopeciviccouncil.org/event/office-hours-4/
LOCATION:Parish Bar\, 223 7th Avenue\, Brooklyn\, NY\, United States
CATEGORIES:Community,Outreach
END:VEVENT
END:VCALENDAR