BEGIN:VCALENDAR
VERSION:2.0
PRODID:-//Park Slope Civic Council - ECPv6.15.20//NONSGML v1.0//EN
CALSCALE:GREGORIAN
METHOD:PUBLISH
X-WR-CALNAME:Park Slope Civic Council
X-ORIGINAL-URL:https://parkslopeciviccouncil.org
X-WR-CALDESC:Events for Park Slope Civic Council
REFRESH-INTERVAL;VALUE=DURATION:PT1H
X-Robots-Tag:noindex
X-PUBLISHED-TTL:PT1H
BEGIN:VTIMEZONE
TZID:America/New_York
BEGIN:DAYLIGHT
TZOFFSETFROM:-0500
TZOFFSETTO:-0400
TZNAME:EDT
DTSTART:20170312T070000
END:DAYLIGHT
BEGIN:STANDARD
TZOFFSETFROM:-0400
TZOFFSETTO:-0500
TZNAME:EST
DTSTART:20171105T060000
END:STANDARD
BEGIN:DAYLIGHT
TZOFFSETFROM:-0500
TZOFFSETTO:-0400
TZNAME:EDT
DTSTART:20180311T070000
END:DAYLIGHT
BEGIN:STANDARD
TZOFFSETFROM:-0400
TZOFFSETTO:-0500
TZNAME:EST
DTSTART:20181104T060000
END:STANDARD
BEGIN:DAYLIGHT
TZOFFSETFROM:-0500
TZOFFSETTO:-0400
TZNAME:EDT
DTSTART:20190310T070000
END:DAYLIGHT
BEGIN:STANDARD
TZOFFSETFROM:-0400
TZOFFSETTO:-0500
TZNAME:EST
DTSTART:20191103T060000
END:STANDARD
END:VTIMEZONE
BEGIN:VEVENT
DTSTART;TZID=America/New_York:20180419T093000
DTEND;TZID=America/New_York:20180419T113000
DTSTAMP:20260423T054807
CREATED:20180417T232943Z
LAST-MODIFIED:20180417T232943Z
UID:10891-1524130200-1524137400@parkslopeciviccouncil.org
SUMMARY:PSCC Small Business Committee Presents: Yelp 101
DESCRIPTION:PSCC Small Business Committee Meet-Up: Yelp 101\n\nIn response to feedback from Park Slope Civic Council’s last Small Business Committee Meet-Up\, we are holding a special get-together on April 19th to learn more about Yelp where you can ask questions and learn how to enhance your business’s online presence.\nYour Park Slope Business On Yelp\nYou’ve probably seen your business on Yelp\, but have you downloaded the Yelp for Business Owners mobile app or taken advantage of all the other free tools? This session will walk you through how you can use Yelp for Business Owners to put your best foot forward on Yelp and tell the story of your business in a place that consumers are looking to find you. Update your business hours\, add photos of yourself\, your staff and your product\, learn what tools can make you most successful in telling your story on your Yelp Business Page. Bring your iPad\, iPhone or Laptop to avoid any homework and receive real-time helpful feedback on your Yelp page. We’ll also discuss best practices for responding to online reviews and have the opportunity to ask questions to Yelp’s Local Business Partner\, Ali Schwartz.\n\n\n\n\n\n\n\nDATE:  Thursday\, April 19th\n\n\n\n\nTIME:  9:30 -11:30 AM\n\n\n\n\nLOCATION:  Ground Floor Gallery\n\n343 5th Street\n\n\n\n\nBrooklyn\, NY 11215 \n\n\nOPEN TO: Registration Required\, Space is Limited\nPlease Click Here to Register
URL:https://parkslopeciviccouncil.org/event/pscc-small-business-committee-presents-yelp-101-6/
LOCATION:Ground Floor Gallery\, 343 5th Street\, Brooklyn\, New York\, 11215
CATEGORIES:Outreach,Small Business
END:VEVENT
BEGIN:VEVENT
DTSTART;TZID=America/New_York:20180419T093000
DTEND;TZID=America/New_York:20180419T113000
DTSTAMP:20260423T054807
CREATED:20180417T232943Z
LAST-MODIFIED:20180417T232943Z
UID:7496-1524130200-1524137400@parkslopeciviccouncil.org
SUMMARY:PSCC Small Business Committee Presents: Yelp 101
DESCRIPTION:PSCC Small Business Committee Meet-Up: Yelp 101\n\nIn response to feedback from Park Slope Civic Council’s last Small Business Committee Meet-Up\, we are holding a special get-together on April 19th to learn more about Yelp where you can ask questions and learn how to enhance your business’s online presence.\nYour Park Slope Business On Yelp\nYou’ve probably seen your business on Yelp\, but have you downloaded the Yelp for Business Owners mobile app or taken advantage of all the other free tools? This session will walk you through how you can use Yelp for Business Owners to put your best foot forward on Yelp and tell the story of your business in a place that consumers are looking to find you. Update your business hours\, add photos of yourself\, your staff and your product\, learn what tools can make you most successful in telling your story on your Yelp Business Page. Bring your iPad\, iPhone or Laptop to avoid any homework and receive real-time helpful feedback on your Yelp page. We’ll also discuss best practices for responding to online reviews and have the opportunity to ask questions to Yelp’s Local Business Partner\, Ali Schwartz.\n\n\n\n\n\n\n\nDATE:  Thursday\, April 19th\n\n\n\n\nTIME:  9:30 -11:30 AM\n\n\n\n\nLOCATION:  Ground Floor Gallery\n\n343 5th Street\n\n\n\n\nBrooklyn\, NY 11215 \n\n\nOPEN TO: Registration Required\, Space is Limited\nPlease Click Here to Register
URL:https://parkslopeciviccouncil.org/event/pscc-small-business-committee-presents-yelp-101/
LOCATION:Ground Floor Gallery\, 343 5th Street\, Brooklyn\, New York\, 11215
CATEGORIES:Outreach,Small Business
END:VEVENT
BEGIN:VEVENT
DTSTART;TZID=America/New_York:20180419T093000
DTEND;TZID=America/New_York:20180419T113000
DTSTAMP:20260423T054807
CREATED:20180417T232943Z
LAST-MODIFIED:20180417T232943Z
UID:12376-1524130200-1524137400@parkslopeciviccouncil.org
SUMMARY:PSCC Small Business Committee Presents: Yelp 101
DESCRIPTION:PSCC Small Business Committee Meet-Up: Yelp 101\n\nIn response to feedback from Park Slope Civic Council\’s last Small Business Committee Meet-Up\, we are holding a special get-together on April 19th to learn more about Yelp where you can ask questions and learn how to enhance your business\’s online presence.\nYour Park Slope Business On Yelp\nYou\’ve probably seen your business on Yelp\, but have you downloaded the Yelp for Business Owners mobile app or taken advantage of all the other free tools? This session will walk you through how you can use Yelp for Business Owners to put your best foot forward on Yelp and tell the story of your business in a place that consumers are looking to find you. Update your business hours\, add photos of yourself\, your staff and your product\, learn what tools can make you most successful in telling your story on your Yelp Business Page. Bring your iPad\, iPhone or Laptop to avoid any homework and receive real-time helpful feedback on your Yelp page. We\’ll also discuss best practices for responding to online reviews and have the opportunity to ask questions to Yelp\’s Local Business Partner\, Ali Schwartz.\n\n\n\n\n\n\n\nDATE:  Thursday\, April 19th\n\n\n\n\nTIME:  9:30 -11:30 AM\n\n\n\n\nLOCATION:  Ground Floor Gallery\n\n343 5th Street\n\n\n\n\nBrooklyn\, NY 11215 \n\n\nOPEN TO: Registration Required\, Space is Limited\nPlease Click Here to Register
URL:https://parkslopeciviccouncil.org/event/pscc-small-business-committee-presents-yelp-101-7/
LOCATION:Ground Floor Gallery\, 343 5th Street\, Brooklyn\, New York\, 11215
CATEGORIES:Outreach,Small Business
END:VEVENT
BEGIN:VEVENT
DTSTART;TZID=America/New_York:20180419T093000
DTEND;TZID=America/New_York:20180419T113000
DTSTAMP:20260423T054808
CREATED:20180417T232943Z
LAST-MODIFIED:20180417T232943Z
UID:9503-1524130200-1524137400@parkslopeciviccouncil.org
SUMMARY:PSCC Small Business Committee Presents: Yelp 101
DESCRIPTION:PSCC Small Business Committee Meet-Up: Yelp 101\n\nIn response to feedback from Park Slope Civic Council’s last Small Business Committee Meet-Up\, we are holding a special get-together on April 19th to learn more about Yelp where you can ask questions and learn how to enhance your business’s online presence.\nYour Park Slope Business On Yelp\nYou’ve probably seen your business on Yelp\, but have you downloaded the Yelp for Business Owners mobile app or taken advantage of all the other free tools? This session will walk you through how you can use Yelp for Business Owners to put your best foot forward on Yelp and tell the story of your business in a place that consumers are looking to find you. Update your business hours\, add photos of yourself\, your staff and your product\, learn what tools can make you most successful in telling your story on your Yelp Business Page. Bring your iPad\, iPhone or Laptop to avoid any homework and receive real-time helpful feedback on your Yelp page. We’ll also discuss best practices for responding to online reviews and have the opportunity to ask questions to Yelp’s Local Business Partner\, Ali Schwartz.\n\n\n\n\n\n\n\nDATE:  Thursday\, April 19th\n\n\n\n\nTIME:  9:30 -11:30 AM\n\n\n\n\nLOCATION:  Ground Floor Gallery\n\n343 5th Street\n\n\n\n\nBrooklyn\, NY 11215 \n\n\nOPEN TO: Registration Required\, Space is Limited\nPlease Click Here to Register
URL:https://parkslopeciviccouncil.org/event/pscc-small-business-committee-presents-yelp-101-2/
LOCATION:Ground Floor Gallery\, 343 5th Street\, Brooklyn\, New York\, 11215
CATEGORIES:Outreach,Small Business
END:VEVENT
BEGIN:VEVENT
DTSTART;TZID=America/New_York:20180419T093000
DTEND;TZID=America/New_York:20180419T113000
DTSTAMP:20260423T054808
CREATED:20180417T232943Z
LAST-MODIFIED:20180417T232943Z
UID:9863-1524130200-1524137400@parkslopeciviccouncil.org
SUMMARY:PSCC Small Business Committee Presents: Yelp 101
DESCRIPTION:PSCC Small Business Committee Meet-Up: Yelp 101\n\nIn response to feedback from Park Slope Civic Council’s last Small Business Committee Meet-Up\, we are holding a special get-together on April 19th to learn more about Yelp where you can ask questions and learn how to enhance your business’s online presence.\nYour Park Slope Business On Yelp\nYou’ve probably seen your business on Yelp\, but have you downloaded the Yelp for Business Owners mobile app or taken advantage of all the other free tools? This session will walk you through how you can use Yelp for Business Owners to put your best foot forward on Yelp and tell the story of your business in a place that consumers are looking to find you. Update your business hours\, add photos of yourself\, your staff and your product\, learn what tools can make you most successful in telling your story on your Yelp Business Page. Bring your iPad\, iPhone or Laptop to avoid any homework and receive real-time helpful feedback on your Yelp page. We’ll also discuss best practices for responding to online reviews and have the opportunity to ask questions to Yelp’s Local Business Partner\, Ali Schwartz.\n\n\n\n\n\n\n\nDATE:  Thursday\, April 19th\n\n\n\n\nTIME:  9:30 -11:30 AM\n\n\n\n\nLOCATION:  Ground Floor Gallery\n\n343 5th Street\n\n\n\n\nBrooklyn\, NY 11215 \n\n\nOPEN TO: Registration Required\, Space is Limited\nPlease Click Here to Register
URL:https://parkslopeciviccouncil.org/event/pscc-small-business-committee-presents-yelp-101-3/
LOCATION:Ground Floor Gallery\, 343 5th Street\, Brooklyn\, New York\, 11215
CATEGORIES:Outreach,Small Business
END:VEVENT
BEGIN:VEVENT
DTSTART;TZID=America/New_York:20180419T093000
DTEND;TZID=America/New_York:20180419T113000
DTSTAMP:20260423T054808
CREATED:20180417T232943Z
LAST-MODIFIED:20180417T232943Z
UID:10223-1524130200-1524137400@parkslopeciviccouncil.org
SUMMARY:PSCC Small Business Committee Presents: Yelp 101
DESCRIPTION:PSCC Small Business Committee Meet-Up: Yelp 101\n\nIn response to feedback from Park Slope Civic Council’s last Small Business Committee Meet-Up\, we are holding a special get-together on April 19th to learn more about Yelp where you can ask questions and learn how to enhance your business’s online presence.\nYour Park Slope Business On Yelp\nYou’ve probably seen your business on Yelp\, but have you downloaded the Yelp for Business Owners mobile app or taken advantage of all the other free tools? This session will walk you through how you can use Yelp for Business Owners to put your best foot forward on Yelp and tell the story of your business in a place that consumers are looking to find you. Update your business hours\, add photos of yourself\, your staff and your product\, learn what tools can make you most successful in telling your story on your Yelp Business Page. Bring your iPad\, iPhone or Laptop to avoid any homework and receive real-time helpful feedback on your Yelp page. We’ll also discuss best practices for responding to online reviews and have the opportunity to ask questions to Yelp’s Local Business Partner\, Ali Schwartz.\n\n\n\n\n\n\n\nDATE:  Thursday\, April 19th\n\n\n\n\nTIME:  9:30 -11:30 AM\n\n\n\n\nLOCATION:  Ground Floor Gallery\n\n343 5th Street\n\n\n\n\nBrooklyn\, NY 11215 \n\n\nOPEN TO: Registration Required\, Space is Limited\nPlease Click Here to Register
URL:https://parkslopeciviccouncil.org/event/pscc-small-business-committee-presents-yelp-101-4/
LOCATION:Ground Floor Gallery\, 343 5th Street\, Brooklyn\, New York\, 11215
CATEGORIES:Outreach,Small Business
END:VEVENT
BEGIN:VEVENT
DTSTART;TZID=America/New_York:20180419T093000
DTEND;TZID=America/New_York:20180419T113000
DTSTAMP:20260423T054808
CREATED:20180417T232943Z
LAST-MODIFIED:20180417T232943Z
UID:10571-1524130200-1524137400@parkslopeciviccouncil.org
SUMMARY:PSCC Small Business Committee Presents: Yelp 101
DESCRIPTION:PSCC Small Business Committee Meet-Up: Yelp 101\n\nIn response to feedback from Park Slope Civic Council’s last Small Business Committee Meet-Up\, we are holding a special get-together on April 19th to learn more about Yelp where you can ask questions and learn how to enhance your business’s online presence.\nYour Park Slope Business On Yelp\nYou’ve probably seen your business on Yelp\, but have you downloaded the Yelp for Business Owners mobile app or taken advantage of all the other free tools? This session will walk you through how you can use Yelp for Business Owners to put your best foot forward on Yelp and tell the story of your business in a place that consumers are looking to find you. Update your business hours\, add photos of yourself\, your staff and your product\, learn what tools can make you most successful in telling your story on your Yelp Business Page. Bring your iPad\, iPhone or Laptop to avoid any homework and receive real-time helpful feedback on your Yelp page. We’ll also discuss best practices for responding to online reviews and have the opportunity to ask questions to Yelp’s Local Business Partner\, Ali Schwartz.\n\n\n\n\n\n\n\nDATE:  Thursday\, April 19th\n\n\n\n\nTIME:  9:30 -11:30 AM\n\n\n\n\nLOCATION:  Ground Floor Gallery\n\n343 5th Street\n\n\n\n\nBrooklyn\, NY 11215 \n\n\nOPEN TO: Registration Required\, Space is Limited\nPlease Click Here to Register
URL:https://parkslopeciviccouncil.org/event/pscc-small-business-committee-presents-yelp-101-5/
LOCATION:Ground Floor Gallery\, 343 5th Street\, Brooklyn\, New York\, 11215
CATEGORIES:Outreach,Small Business
END:VEVENT
END:VCALENDAR