BEGIN:VCALENDAR
VERSION:2.0
PRODID:-//Park Slope Civic Council - ECPv6.15.20//NONSGML v1.0//EN
CALSCALE:GREGORIAN
METHOD:PUBLISH
X-WR-CALNAME:Park Slope Civic Council
X-ORIGINAL-URL:https://parkslopeciviccouncil.org
X-WR-CALDESC:Events for Park Slope Civic Council
REFRESH-INTERVAL;VALUE=DURATION:PT1H
X-Robots-Tag:noindex
X-PUBLISHED-TTL:PT1H
BEGIN:VTIMEZONE
TZID:America/New_York
BEGIN:DAYLIGHT
TZOFFSETFROM:-0500
TZOFFSETTO:-0400
TZNAME:EDT
DTSTART:20160313T070000
END:DAYLIGHT
BEGIN:STANDARD
TZOFFSETFROM:-0400
TZOFFSETTO:-0500
TZNAME:EST
DTSTART:20161106T060000
END:STANDARD
BEGIN:DAYLIGHT
TZOFFSETFROM:-0500
TZOFFSETTO:-0400
TZNAME:EDT
DTSTART:20170312T070000
END:DAYLIGHT
BEGIN:STANDARD
TZOFFSETFROM:-0400
TZOFFSETTO:-0500
TZNAME:EST
DTSTART:20171105T060000
END:STANDARD
BEGIN:DAYLIGHT
TZOFFSETFROM:-0500
TZOFFSETTO:-0400
TZNAME:EDT
DTSTART:20180311T070000
END:DAYLIGHT
BEGIN:STANDARD
TZOFFSETFROM:-0400
TZOFFSETTO:-0500
TZNAME:EST
DTSTART:20181104T060000
END:STANDARD
END:VTIMEZONE
BEGIN:VEVENT
DTSTART;TZID=America/New_York:20171221T190000
DTEND;TZID=America/New_York:20171221T203000
DTSTAMP:20260423T233748
CREATED:20171211T181035Z
LAST-MODIFIED:20171211T181035Z
UID:9832-1513882800-1513888200@parkslopeciviccouncil.org
SUMMARY:The Sixth Annual Snowflake
DESCRIPTION:Support Seventh Avenue boutiques\, shops and restaurants.
URL:https://parkslopeciviccouncil.org/event/sixth-annual-snowflake-2-3/
CATEGORIES:Snowflake
END:VEVENT
BEGIN:VEVENT
DTSTART;TZID=America/New_York:20171221T190000
DTEND;TZID=America/New_York:20171221T203000
DTSTAMP:20260423T233748
CREATED:20171211T181035Z
LAST-MODIFIED:20171211T181035Z
UID:10860-1513882800-1513888200@parkslopeciviccouncil.org
SUMMARY:The Sixth Annual Snowflake
DESCRIPTION:Support Seventh Avenue boutiques\, shops and restaurants.
URL:https://parkslopeciviccouncil.org/event/sixth-annual-snowflake-2-6/
CATEGORIES:Snowflake
END:VEVENT
BEGIN:VEVENT
DTSTART;TZID=America/New_York:20171221T190000
DTEND;TZID=America/New_York:20171221T203000
DTSTAMP:20260423T233748
CREATED:20171211T181035Z
LAST-MODIFIED:20171211T181035Z
UID:7296-1513882800-1513888200@parkslopeciviccouncil.org
SUMMARY:The Sixth Annual Snowflake
DESCRIPTION:Support Seventh Avenue boutiques\, shops and restaurants.
URL:https://parkslopeciviccouncil.org/event/sixth-annual-snowflake-2/
CATEGORIES:Snowflake
END:VEVENT
BEGIN:VEVENT
DTSTART;TZID=America/New_York:20171221T190000
DTEND;TZID=America/New_York:20171221T203000
DTSTAMP:20260423T233748
CREATED:20171211T181035Z
LAST-MODIFIED:20171211T181035Z
UID:10192-1513882800-1513888200@parkslopeciviccouncil.org
SUMMARY:The Sixth Annual Snowflake
DESCRIPTION:Support Seventh Avenue boutiques\, shops and restaurants.
URL:https://parkslopeciviccouncil.org/event/sixth-annual-snowflake-2-4/
CATEGORIES:Snowflake
END:VEVENT
BEGIN:VEVENT
DTSTART;TZID=America/New_York:20171221T190000
DTEND;TZID=America/New_York:20171221T203000
DTSTAMP:20260423T233748
CREATED:20171211T181035Z
LAST-MODIFIED:20171211T181035Z
UID:12345-1513882800-1513888200@parkslopeciviccouncil.org
SUMMARY:The Sixth Annual Snowflake
DESCRIPTION:Support Seventh Avenue boutiques\, shops and restaurants.
URL:https://parkslopeciviccouncil.org/event/sixth-annual-snowflake-2-7/
CATEGORIES:Snowflake
END:VEVENT
BEGIN:VEVENT
DTSTART;TZID=America/New_York:20171221T190000
DTEND;TZID=America/New_York:20171221T203000
DTSTAMP:20260423T233748
CREATED:20171211T181035Z
LAST-MODIFIED:20171211T181035Z
UID:9472-1513882800-1513888200@parkslopeciviccouncil.org
SUMMARY:The Sixth Annual Snowflake
DESCRIPTION:Support Seventh Avenue boutiques\, shops and restaurants.
URL:https://parkslopeciviccouncil.org/event/sixth-annual-snowflake-2-2/
CATEGORIES:Snowflake
END:VEVENT
BEGIN:VEVENT
DTSTART;TZID=America/New_York:20171221T190000
DTEND;TZID=America/New_York:20171221T203000
DTSTAMP:20260423T233748
CREATED:20171211T181035Z
LAST-MODIFIED:20171211T181035Z
UID:10540-1513882800-1513888200@parkslopeciviccouncil.org
SUMMARY:The Sixth Annual Snowflake
DESCRIPTION:Support Seventh Avenue boutiques\, shops and restaurants.
URL:https://parkslopeciviccouncil.org/event/sixth-annual-snowflake-2-5/
CATEGORIES:Snowflake
END:VEVENT
BEGIN:VEVENT
DTSTART;TZID=America/New_York:20171214T190000
DTEND;TZID=America/New_York:20171214T203000
DTSTAMP:20260423T233748
CREATED:20171211T180808Z
LAST-MODIFIED:20171211T180808Z
UID:10859-1513278000-1513283400@parkslopeciviccouncil.org
SUMMARY:The Sixth Annual Snowflake
DESCRIPTION:Support Seventh Avenue boutiques\, shops and restaurants.
URL:https://parkslopeciviccouncil.org/event/sixth-annual-snowflake-7/
CATEGORIES:Snowflake
END:VEVENT
BEGIN:VEVENT
DTSTART;TZID=America/New_York:20171214T190000
DTEND;TZID=America/New_York:20171214T203000
DTSTAMP:20260423T233748
CREATED:20171211T180808Z
LAST-MODIFIED:20171211T180808Z
UID:7294-1513278000-1513283400@parkslopeciviccouncil.org
SUMMARY:The Sixth Annual Snowflake
DESCRIPTION:Support Seventh Avenue boutiques\, shops and restaurants.
URL:https://parkslopeciviccouncil.org/event/sixth-annual-snowflake/
CATEGORIES:Snowflake
END:VEVENT
BEGIN:VEVENT
DTSTART;TZID=America/New_York:20171214T190000
DTEND;TZID=America/New_York:20171214T203000
DTSTAMP:20260423T233748
CREATED:20171211T180808Z
LAST-MODIFIED:20171211T180808Z
UID:10191-1513278000-1513283400@parkslopeciviccouncil.org
SUMMARY:The Sixth Annual Snowflake
DESCRIPTION:Support Seventh Avenue boutiques\, shops and restaurants.
URL:https://parkslopeciviccouncil.org/event/sixth-annual-snowflake-5/
CATEGORIES:Snowflake
END:VEVENT
BEGIN:VEVENT
DTSTART;TZID=America/New_York:20171214T190000
DTEND;TZID=America/New_York:20171214T203000
DTSTAMP:20260423T233748
CREATED:20171211T180808Z
LAST-MODIFIED:20171211T180808Z
UID:12344-1513278000-1513283400@parkslopeciviccouncil.org
SUMMARY:The Sixth Annual Snowflake
DESCRIPTION:Support Seventh Avenue boutiques\, shops and restaurants.
URL:https://parkslopeciviccouncil.org/event/sixth-annual-snowflake-8/
CATEGORIES:Snowflake
END:VEVENT
BEGIN:VEVENT
DTSTART;TZID=America/New_York:20171214T190000
DTEND;TZID=America/New_York:20171214T203000
DTSTAMP:20260423T233748
CREATED:20171211T180808Z
LAST-MODIFIED:20171211T180808Z
UID:9471-1513278000-1513283400@parkslopeciviccouncil.org
SUMMARY:The Sixth Annual Snowflake
DESCRIPTION:Support Seventh Avenue boutiques\, shops and restaurants.
URL:https://parkslopeciviccouncil.org/event/sixth-annual-snowflake-3/
CATEGORIES:Snowflake
END:VEVENT
BEGIN:VEVENT
DTSTART;TZID=America/New_York:20171214T190000
DTEND;TZID=America/New_York:20171214T203000
DTSTAMP:20260423T233748
CREATED:20171211T180808Z
LAST-MODIFIED:20171211T180808Z
UID:10539-1513278000-1513283400@parkslopeciviccouncil.org
SUMMARY:The Sixth Annual Snowflake
DESCRIPTION:Support Seventh Avenue boutiques\, shops and restaurants.
URL:https://parkslopeciviccouncil.org/event/sixth-annual-snowflake-6/
CATEGORIES:Snowflake
END:VEVENT
BEGIN:VEVENT
DTSTART;TZID=America/New_York:20171214T190000
DTEND;TZID=America/New_York:20171214T203000
DTSTAMP:20260423T233748
CREATED:20171211T180808Z
LAST-MODIFIED:20171211T180808Z
UID:9831-1513278000-1513283400@parkslopeciviccouncil.org
SUMMARY:The Sixth Annual Snowflake
DESCRIPTION:Support Seventh Avenue boutiques\, shops and restaurants.
URL:https://parkslopeciviccouncil.org/event/sixth-annual-snowflake-4/
CATEGORIES:Snowflake
END:VEVENT
END:VCALENDAR