BEGIN:VCALENDAR
VERSION:2.0
PRODID:-//Park Slope Civic Council - ECPv6.15.20//NONSGML v1.0//EN
CALSCALE:GREGORIAN
METHOD:PUBLISH
X-WR-CALNAME:Park Slope Civic Council
X-ORIGINAL-URL:https://parkslopeciviccouncil.org
X-WR-CALDESC:Events for Park Slope Civic Council
REFRESH-INTERVAL;VALUE=DURATION:PT1H
X-Robots-Tag:noindex
X-PUBLISHED-TTL:PT1H
BEGIN:VTIMEZONE
TZID:UTC
BEGIN:STANDARD
TZOFFSETFROM:+0000
TZOFFSETTO:+0000
TZNAME:UTC
DTSTART:20110101T000000
END:STANDARD
END:VTIMEZONE
BEGIN:VEVENT
DTSTART;TZID=UTC:20120421T100000
DTEND;TZID=UTC:20120421T140059
DTSTAMP:20260424T165159
CREATED:20120403T022016Z
LAST-MODIFIED:20120403T022016Z
UID:9569-1335002400-1335016859@parkslopeciviccouncil.org
SUMMARY:Spring Civic Sweep 2012
DESCRIPTION:Make a clean sweep of your home and your neighborhood by joining the Park Slope Civic Council at its annual spring beautification and clean-up event: the Spring Civic Sweep. \n\nThe Civic Council is joining with MillionTreesNYC and GrowNYC at this year’s sweep to offer even more opportunities for a better community. Learn more about this event on our blog.
URL:https://parkslopeciviccouncil.org/event/spring-civic-sweep-2012-3/
LOCATION:Da Nonna Rosa; Upstairs Room; 140 7th Ave.\, Fifth Avenue between Third and Fourth Streets\, Park Slope\, Brooklyn\, NY\, United States
CATEGORIES:Sustainability
END:VEVENT
BEGIN:VEVENT
DTSTART;TZID=UTC:20120421T100000
DTEND;TZID=UTC:20120421T140059
DTSTAMP:20260424T165159
CREATED:20120403T022016Z
LAST-MODIFIED:20120403T022016Z
UID:10276-1335002400-1335016859@parkslopeciviccouncil.org
SUMMARY:Spring Civic Sweep 2012
DESCRIPTION:Make a clean sweep of your home and your neighborhood by joining the Park Slope Civic Council at its annual spring beautification and clean-up event: the Spring Civic Sweep. \n\nThe Civic Council is joining with MillionTreesNYC and GrowNYC at this year’s sweep to offer even more opportunities for a better community. Learn more about this event on our blog.
URL:https://parkslopeciviccouncil.org/event/spring-civic-sweep-2012-5/
LOCATION:Da Nonna Rosa; Upstairs Room; 140 7th Ave.\, Fifth Avenue between Third and Fourth Streets\, Park Slope\, Brooklyn\, NY\, United States
CATEGORIES:Sustainability
END:VEVENT
BEGIN:VEVENT
DTSTART;TZID=UTC:20120421T100000
DTEND;TZID=UTC:20120421T140059
DTSTAMP:20260424T165159
CREATED:20120403T022016Z
LAST-MODIFIED:20120403T022016Z
UID:9209-1335002400-1335016859@parkslopeciviccouncil.org
SUMMARY:Spring Civic Sweep 2012
DESCRIPTION:Make a clean sweep of your home and your neighborhood by joining the Park Slope Civic Council at its annual spring beautification and clean-up event: the Spring Civic Sweep. \n\nThe Civic Council is joining with MillionTreesNYC and GrowNYC at this year’s sweep to offer even more opportunities for a better community. Learn more about this event on our blog.
URL:https://parkslopeciviccouncil.org/event/spring-civic-sweep-2012-2/
LOCATION:Da Nonna Rosa; Upstairs Room; 140 7th Ave.\, Fifth Avenue between Third and Fourth Streets\, Park Slope\, Brooklyn\, NY\, United States
CATEGORIES:Sustainability
END:VEVENT
BEGIN:VEVENT
DTSTART;TZID=UTC:20120421T100000
DTEND;TZID=UTC:20120421T140059
DTSTAMP:20260424T165159
CREATED:20120403T022016Z
LAST-MODIFIED:20120403T022016Z
UID:10597-1335002400-1335016859@parkslopeciviccouncil.org
SUMMARY:Spring Civic Sweep 2012
DESCRIPTION:Make a clean sweep of your home and your neighborhood by joining the Park Slope Civic Council at its annual spring beautification and clean-up event: the Spring Civic Sweep. \n\nThe Civic Council is joining with MillionTreesNYC and GrowNYC at this year’s sweep to offer even more opportunities for a better community. Learn more about this event on our blog.
URL:https://parkslopeciviccouncil.org/event/spring-civic-sweep-2012-6/
LOCATION:Da Nonna Rosa; Upstairs Room; 140 7th Ave.\, Fifth Avenue between Third and Fourth Streets\, Park Slope\, Brooklyn\, NY\, United States
CATEGORIES:Sustainability
END:VEVENT
END:VCALENDAR