BEGIN:VCALENDAR
VERSION:2.0
PRODID:-//Park Slope Civic Council - ECPv6.15.20//NONSGML v1.0//EN
CALSCALE:GREGORIAN
METHOD:PUBLISH
X-WR-CALNAME:Park Slope Civic Council
X-ORIGINAL-URL:https://parkslopeciviccouncil.org
X-WR-CALDESC:Events for Park Slope Civic Council
REFRESH-INTERVAL;VALUE=DURATION:PT1H
X-Robots-Tag:noindex
X-PUBLISHED-TTL:PT1H
BEGIN:VTIMEZONE
TZID:America/New_York
BEGIN:DAYLIGHT
TZOFFSETFROM:-0500
TZOFFSETTO:-0400
TZNAME:EDT
DTSTART:20170312T070000
END:DAYLIGHT
BEGIN:STANDARD
TZOFFSETFROM:-0400
TZOFFSETTO:-0500
TZNAME:EST
DTSTART:20171105T060000
END:STANDARD
BEGIN:DAYLIGHT
TZOFFSETFROM:-0500
TZOFFSETTO:-0400
TZNAME:EDT
DTSTART:20180311T070000
END:DAYLIGHT
BEGIN:STANDARD
TZOFFSETFROM:-0400
TZOFFSETTO:-0500
TZNAME:EST
DTSTART:20181104T060000
END:STANDARD
BEGIN:DAYLIGHT
TZOFFSETFROM:-0500
TZOFFSETTO:-0400
TZNAME:EDT
DTSTART:20190310T070000
END:DAYLIGHT
BEGIN:STANDARD
TZOFFSETFROM:-0400
TZOFFSETTO:-0500
TZNAME:EST
DTSTART:20191103T060000
END:STANDARD
END:VTIMEZONE
BEGIN:VEVENT
DTSTART;TZID=America/New_York:20180529T183000
DTEND;TZID=America/New_York:20180529T203000
DTSTAMP:20260423T165912
CREATED:20180515T172651Z
LAST-MODIFIED:20180515T172651Z
UID:10896-1527618600-1527625800@parkslopeciviccouncil.org
SUMMARY:Tues May 29: Assemblymember Robert Carroll To Host Town Hall on the MTA
DESCRIPTION:NYC Subways and Buses – Come get answers to your questions about service issues and plans for the future. \nJoin Assemblymember Robert Carroll at a Town Hall on the MTA \nwith Andy Byford\, the new President of the New York City Transit Authority. \n6:30pm to 8:30pm on Tuesday\, May 29 (doors open at 6pm) \nJohn Jay Educational Complex \n237 7th Avenue between 4th and 5th Streets in Park Slope \nFor more information or to  RSVP please contact Assemblymember Carroll at \ncarrollr@nyassembly.gov or 718-788-7221.
URL:https://parkslopeciviccouncil.org/event/tues-may-29-assemblymember-robert-carroll-to-host-town-hall-on-the-mta-6/
LOCATION:John Jay Educational Complex\, 237 7th Avenue between 4th and 5th Streets in Park Slope\, 11215
CATEGORIES:Community,Electeds,Outreach,Transportation
END:VEVENT
BEGIN:VEVENT
DTSTART;TZID=America/New_York:20180529T183000
DTEND;TZID=America/New_York:20180529T203000
DTSTAMP:20260423T165912
CREATED:20180515T172651Z
LAST-MODIFIED:20180515T172651Z
UID:7535-1527618600-1527625800@parkslopeciviccouncil.org
SUMMARY:Tues May 29: Assemblymember Robert Carroll To Host Town Hall on the MTA
DESCRIPTION:NYC Subways and Buses – Come get answers to your questions about service issues and plans for the future. \nJoin Assemblymember Robert Carroll at a Town Hall on the MTA \nwith Andy Byford\, the new President of the New York City Transit Authority. \n6:30pm to 8:30pm on Tuesday\, May 29 (doors open at 6pm) \nJohn Jay Educational Complex \n237 7th Avenue between 4th and 5th Streets in Park Slope \nFor more information or to  RSVP please contact Assemblymember Carroll at \ncarrollr@nyassembly.gov or 718-788-7221.
URL:https://parkslopeciviccouncil.org/event/tues-may-29-assemblymember-robert-carroll-to-host-town-hall-on-the-mta/
LOCATION:John Jay Educational Complex\, 237 7th Avenue between 4th and 5th Streets in Park Slope\, 11215
CATEGORIES:Community,Electeds,Outreach,Transportation
END:VEVENT
BEGIN:VEVENT
DTSTART;TZID=America/New_York:20180529T183000
DTEND;TZID=America/New_York:20180529T203000
DTSTAMP:20260423T165912
CREATED:20180515T172651Z
LAST-MODIFIED:20180515T172651Z
UID:12381-1527618600-1527625800@parkslopeciviccouncil.org
SUMMARY:Tues May 29: Assemblymember Robert Carroll To Host Town Hall on the MTA
DESCRIPTION:NYC Subways and Buses – Come get answers to your questions about service issues and plans for the future. \nJoin Assemblymember Robert Carroll at a Town Hall on the MTA \nwith Andy Byford\, the new President of the New York City Transit Authority. \n6:30pm to 8:30pm on Tuesday\, May 29 (doors open at 6pm) \nJohn Jay Educational Complex \n237 7th Avenue between 4th and 5th Streets in Park Slope \nFor more information or to  RSVP please contact Assemblymember Carroll at \ncarrollr@nyassembly.gov or 718-788-7221.
URL:https://parkslopeciviccouncil.org/event/tues-may-29-assemblymember-robert-carroll-to-host-town-hall-on-the-mta-7/
LOCATION:John Jay Educational Complex\, 237 7th Avenue between 4th and 5th Streets in Park Slope\, 11215
CATEGORIES:Community,Electeds,Outreach,Transportation
END:VEVENT
BEGIN:VEVENT
DTSTART;TZID=America/New_York:20180529T183000
DTEND;TZID=America/New_York:20180529T203000
DTSTAMP:20260423T165912
CREATED:20180515T172651Z
LAST-MODIFIED:20180515T172651Z
UID:9509-1527618600-1527625800@parkslopeciviccouncil.org
SUMMARY:Tues May 29: Assemblymember Robert Carroll To Host Town Hall on the MTA
DESCRIPTION:NYC Subways and Buses – Come get answers to your questions about service issues and plans for the future. \nJoin Assemblymember Robert Carroll at a Town Hall on the MTA \nwith Andy Byford\, the new President of the New York City Transit Authority. \n6:30pm to 8:30pm on Tuesday\, May 29 (doors open at 6pm) \nJohn Jay Educational Complex \n237 7th Avenue between 4th and 5th Streets in Park Slope \nFor more information or to  RSVP please contact Assemblymember Carroll at \ncarrollr@nyassembly.gov or 718-788-7221.
URL:https://parkslopeciviccouncil.org/event/tues-may-29-assemblymember-robert-carroll-to-host-town-hall-on-the-mta-2/
LOCATION:John Jay Educational Complex\, 237 7th Avenue between 4th and 5th Streets in Park Slope\, 11215
CATEGORIES:Community,Electeds,Outreach,Transportation
END:VEVENT
BEGIN:VEVENT
DTSTART;TZID=America/New_York:20180529T183000
DTEND;TZID=America/New_York:20180529T203000
DTSTAMP:20260423T165912
CREATED:20180515T172651Z
LAST-MODIFIED:20180515T172651Z
UID:9868-1527618600-1527625800@parkslopeciviccouncil.org
SUMMARY:Tues May 29: Assemblymember Robert Carroll To Host Town Hall on the MTA
DESCRIPTION:NYC Subways and Buses – Come get answers to your questions about service issues and plans for the future. \nJoin Assemblymember Robert Carroll at a Town Hall on the MTA \nwith Andy Byford\, the new President of the New York City Transit Authority. \n6:30pm to 8:30pm on Tuesday\, May 29 (doors open at 6pm) \nJohn Jay Educational Complex \n237 7th Avenue between 4th and 5th Streets in Park Slope \nFor more information or to  RSVP please contact Assemblymember Carroll at \ncarrollr@nyassembly.gov or 718-788-7221.
URL:https://parkslopeciviccouncil.org/event/tues-may-29-assemblymember-robert-carroll-to-host-town-hall-on-the-mta-3/
LOCATION:John Jay Educational Complex\, 237 7th Avenue between 4th and 5th Streets in Park Slope\, 11215
CATEGORIES:Community,Electeds,Outreach,Transportation
END:VEVENT
BEGIN:VEVENT
DTSTART;TZID=America/New_York:20180529T183000
DTEND;TZID=America/New_York:20180529T203000
DTSTAMP:20260423T165912
CREATED:20180515T172651Z
LAST-MODIFIED:20180515T172651Z
UID:10228-1527618600-1527625800@parkslopeciviccouncil.org
SUMMARY:Tues May 29: Assemblymember Robert Carroll To Host Town Hall on the MTA
DESCRIPTION:NYC Subways and Buses – Come get answers to your questions about service issues and plans for the future. \nJoin Assemblymember Robert Carroll at a Town Hall on the MTA \nwith Andy Byford\, the new President of the New York City Transit Authority. \n6:30pm to 8:30pm on Tuesday\, May 29 (doors open at 6pm) \nJohn Jay Educational Complex \n237 7th Avenue between 4th and 5th Streets in Park Slope \nFor more information or to  RSVP please contact Assemblymember Carroll at \ncarrollr@nyassembly.gov or 718-788-7221.
URL:https://parkslopeciviccouncil.org/event/tues-may-29-assemblymember-robert-carroll-to-host-town-hall-on-the-mta-4/
LOCATION:John Jay Educational Complex\, 237 7th Avenue between 4th and 5th Streets in Park Slope\, 11215
CATEGORIES:Community,Electeds,Outreach,Transportation
END:VEVENT
BEGIN:VEVENT
DTSTART;TZID=America/New_York:20180529T183000
DTEND;TZID=America/New_York:20180529T203000
DTSTAMP:20260423T165912
CREATED:20180515T172651Z
LAST-MODIFIED:20180515T172651Z
UID:10576-1527618600-1527625800@parkslopeciviccouncil.org
SUMMARY:Tues May 29: Assemblymember Robert Carroll To Host Town Hall on the MTA
DESCRIPTION:NYC Subways and Buses – Come get answers to your questions about service issues and plans for the future. \nJoin Assemblymember Robert Carroll at a Town Hall on the MTA \nwith Andy Byford\, the new President of the New York City Transit Authority. \n6:30pm to 8:30pm on Tuesday\, May 29 (doors open at 6pm) \nJohn Jay Educational Complex \n237 7th Avenue between 4th and 5th Streets in Park Slope \nFor more information or to  RSVP please contact Assemblymember Carroll at \ncarrollr@nyassembly.gov or 718-788-7221.
URL:https://parkslopeciviccouncil.org/event/tues-may-29-assemblymember-robert-carroll-to-host-town-hall-on-the-mta-5/
LOCATION:John Jay Educational Complex\, 237 7th Avenue between 4th and 5th Streets in Park Slope\, 11215
CATEGORIES:Community,Electeds,Outreach,Transportation
END:VEVENT
END:VCALENDAR