BEGIN:VCALENDAR
VERSION:2.0
PRODID:-//Park Slope Civic Council - ECPv6.15.20//NONSGML v1.0//EN
CALSCALE:GREGORIAN
METHOD:PUBLISH
X-WR-CALNAME:Park Slope Civic Council
X-ORIGINAL-URL:https://parkslopeciviccouncil.org
X-WR-CALDESC:Events for Park Slope Civic Council
REFRESH-INTERVAL;VALUE=DURATION:PT1H
X-Robots-Tag:noindex
X-PUBLISHED-TTL:PT1H
BEGIN:VTIMEZONE
TZID:America/New_York
BEGIN:DAYLIGHT
TZOFFSETFROM:-0500
TZOFFSETTO:-0400
TZNAME:EDT
DTSTART:20170312T070000
END:DAYLIGHT
BEGIN:STANDARD
TZOFFSETFROM:-0400
TZOFFSETTO:-0500
TZNAME:EST
DTSTART:20171105T060000
END:STANDARD
BEGIN:DAYLIGHT
TZOFFSETFROM:-0500
TZOFFSETTO:-0400
TZNAME:EDT
DTSTART:20180311T070000
END:DAYLIGHT
BEGIN:STANDARD
TZOFFSETFROM:-0400
TZOFFSETTO:-0500
TZNAME:EST
DTSTART:20181104T060000
END:STANDARD
BEGIN:DAYLIGHT
TZOFFSETFROM:-0500
TZOFFSETTO:-0400
TZNAME:EDT
DTSTART:20190310T070000
END:DAYLIGHT
BEGIN:STANDARD
TZOFFSETFROM:-0400
TZOFFSETTO:-0500
TZNAME:EST
DTSTART:20191103T060000
END:STANDARD
END:VTIMEZONE
BEGIN:VEVENT
DTSTART;TZID=America/New_York:20181004T190000
DTEND;TZID=America/New_York:20181004T210000
DTSTAMP:20260423T170056
CREATED:20180724T215929Z
LAST-MODIFIED:20180724T215929Z
UID:7613-1538679600-1538686800@parkslopeciviccouncil.org
SUMMARY:Monthly Trustees' Meeting
DESCRIPTION:Please join us for our monthly trustees’ meeting\, 7-9pm at the Old Stone House\, open to all.
URL:https://parkslopeciviccouncil.org/event/monthly-trustees-meeting/
LOCATION:Old Stone House\, 336 3rd St\, Brooklyn\, NY\, 11215\, United States
CATEGORIES:Old Stone House,Trustees Meeting
END:VEVENT
BEGIN:VEVENT
DTSTART;TZID=America/New_York:20181004T190000
DTEND;TZID=America/New_York:20181004T210000
DTSTAMP:20260423T170056
CREATED:20180724T215929Z
LAST-MODIFIED:20180724T215929Z
UID:9526-1538679600-1538686800@parkslopeciviccouncil.org
SUMMARY:Monthly Trustees' Meeting
DESCRIPTION:Please join us for our monthly trustees’ meeting\, 7-9pm at the Old Stone House\, open to all.
URL:https://parkslopeciviccouncil.org/event/monthly-trustees-meeting-5/
LOCATION:Old Stone House\, 336 3rd St\, Brooklyn\, NY\, 11215\, United States
CATEGORIES:Old Stone House,Trustees Meeting
END:VEVENT
BEGIN:VEVENT
DTSTART;TZID=America/New_York:20181004T190000
DTEND;TZID=America/New_York:20181004T210000
DTSTAMP:20260423T170056
CREATED:20180724T215929Z
LAST-MODIFIED:20180724T215929Z
UID:10913-1538679600-1538686800@parkslopeciviccouncil.org
SUMMARY:Monthly Trustees' Meeting
DESCRIPTION:Please join us for our monthly trustees’ meeting\, 7-9pm at the Old Stone House\, open to all.
URL:https://parkslopeciviccouncil.org/event/monthly-trustees-meeting-11/
LOCATION:Old Stone House\, 336 3rd St\, Brooklyn\, NY\, 11215\, United States
CATEGORIES:Old Stone House,Trustees Meeting
END:VEVENT
BEGIN:VEVENT
DTSTART;TZID=America/New_York:20181004T190000
DTEND;TZID=America/New_York:20181004T210000
DTSTAMP:20260423T170056
CREATED:20180724T215929Z
LAST-MODIFIED:20180724T215929Z
UID:9885-1538679600-1538686800@parkslopeciviccouncil.org
SUMMARY:Monthly Trustees' Meeting
DESCRIPTION:Please join us for our monthly trustees’ meeting\, 7-9pm at the Old Stone House\, open to all.
URL:https://parkslopeciviccouncil.org/event/monthly-trustees-meeting-9/
LOCATION:Old Stone House\, 336 3rd St\, Brooklyn\, NY\, 11215\, United States
CATEGORIES:Old Stone House,Trustees Meeting
END:VEVENT
BEGIN:VEVENT
DTSTART;TZID=America/New_York:20180906T190000
DTEND;TZID=America/New_York:20180906T210000
DTSTAMP:20260423T170056
CREATED:20180719T003320Z
LAST-MODIFIED:20180719T003320Z
UID:10590-1536260400-1536267600@parkslopeciviccouncil.org
SUMMARY:PSCC Season Kickoff General Meeting of the Trustees and Party! - All Are Welcome
DESCRIPTION:Please Join Us for Our September Kickoff Meeting and Party!\n\n\nDATE:  Thursday\, September 6\nTIME:  7:00 PM\n\n\n\n\nLOCATION:  Old Stone House\n\nJ.J. Byrne Playground / Washington Park\n5th Avenue between 3rd and 4th Streets\n\n\n\n\nBrooklyn\, NY 11215 \n\n\nOPEN TO: ALL!\n\n\n\n\n\n\n\n\nPlease bring your neighbors and friends!!  The more the merrier!\n\nPizza and home-made dinner dishes\, snacks\, beer\, wine and other beverages\, and desserts will be served courtesy of the Park Slope Civic Council.\n\nPlease come and enjoy\, and start your season with some community spirit!
URL:https://parkslopeciviccouncil.org/event/pscc-season-kickoff-general-meeting-of-the-trustees-and-party-all-are-welcome-5/
LOCATION:Old Stone House\, 336 3rd St\, Brooklyn\, NY\, 11215\, United States
CATEGORIES:Community,Old Stone House,Outreach,Trustees Meeting
END:VEVENT
BEGIN:VEVENT
DTSTART;TZID=America/New_York:20180906T190000
DTEND;TZID=America/New_York:20180906T210000
DTSTAMP:20260423T170056
CREATED:20180719T003320Z
LAST-MODIFIED:20180719T003320Z
UID:7595-1536260400-1536267600@parkslopeciviccouncil.org
SUMMARY:PSCC Season Kickoff General Meeting of the Trustees and Party! - All Are Welcome
DESCRIPTION:Please Join Us for Our September Kickoff Meeting and Party!\n\n\nDATE:  Thursday\, September 6\nTIME:  7:00 PM\n\n\n\n\nLOCATION:  Old Stone House\n\nJ.J. Byrne Playground / Washington Park\n5th Avenue between 3rd and 4th Streets\n\n\n\n\nBrooklyn\, NY 11215 \n\n\nOPEN TO: ALL!\n\n\n\n\n\n\n\n\nPlease bring your neighbors and friends!!  The more the merrier!\n\nPizza and home-made dinner dishes\, snacks\, beer\, wine and other beverages\, and desserts will be served courtesy of the Park Slope Civic Council.\n\nPlease come and enjoy\, and start your season with some community spirit!
URL:https://parkslopeciviccouncil.org/event/pscc-season-kickoff-general-meeting-of-the-trustees-and-party-all-are-welcome/
LOCATION:Old Stone House\, 336 3rd St\, Brooklyn\, NY\, 11215\, United States
CATEGORIES:Community,Old Stone House,Outreach,Trustees Meeting
END:VEVENT
BEGIN:VEVENT
DTSTART;TZID=America/New_York:20180906T190000
DTEND;TZID=America/New_York:20180906T210000
DTSTAMP:20260423T170056
CREATED:20180719T003320Z
LAST-MODIFIED:20180719T003320Z
UID:9523-1536260400-1536267600@parkslopeciviccouncil.org
SUMMARY:PSCC Season Kickoff General Meeting of the Trustees and Party! - All Are Welcome
DESCRIPTION:Please Join Us for Our September Kickoff Meeting and Party!\n\n\nDATE:  Thursday\, September 6\nTIME:  7:00 PM\n\n\n\n\nLOCATION:  Old Stone House\n\nJ.J. Byrne Playground / Washington Park\n5th Avenue between 3rd and 4th Streets\n\n\n\n\nBrooklyn\, NY 11215 \n\n\nOPEN TO: ALL!\n\n\n\n\n\n\n\n\nPlease bring your neighbors and friends!!  The more the merrier!\n\nPizza and home-made dinner dishes\, snacks\, beer\, wine and other beverages\, and desserts will be served courtesy of the Park Slope Civic Council.\n\nPlease come and enjoy\, and start your season with some community spirit!
URL:https://parkslopeciviccouncil.org/event/pscc-season-kickoff-general-meeting-of-the-trustees-and-party-all-are-welcome-2/
LOCATION:Old Stone House\, 336 3rd St\, Brooklyn\, NY\, 11215\, United States
CATEGORIES:Community,Old Stone House,Outreach,Trustees Meeting
END:VEVENT
BEGIN:VEVENT
DTSTART;TZID=America/New_York:20180906T190000
DTEND;TZID=America/New_York:20180906T210000
DTSTAMP:20260423T170056
CREATED:20180719T003320Z
LAST-MODIFIED:20180719T003320Z
UID:10910-1536260400-1536267600@parkslopeciviccouncil.org
SUMMARY:PSCC Season Kickoff General Meeting of the Trustees and Party! - All Are Welcome
DESCRIPTION:Please Join Us for Our September Kickoff Meeting and Party!\n\n\nDATE:  Thursday\, September 6\nTIME:  7:00 PM\n\n\n\n\nLOCATION:  Old Stone House\n\nJ.J. Byrne Playground / Washington Park\n5th Avenue between 3rd and 4th Streets\n\n\n\n\nBrooklyn\, NY 11215 \n\n\nOPEN TO: ALL!\n\n\n\n\n\n\n\n\nPlease bring your neighbors and friends!!  The more the merrier!\n\nPizza and home-made dinner dishes\, snacks\, beer\, wine and other beverages\, and desserts will be served courtesy of the Park Slope Civic Council.\n\nPlease come and enjoy\, and start your season with some community spirit!
URL:https://parkslopeciviccouncil.org/event/pscc-season-kickoff-general-meeting-of-the-trustees-and-party-all-are-welcome-6/
LOCATION:Old Stone House\, 336 3rd St\, Brooklyn\, NY\, 11215\, United States
CATEGORIES:Community,Old Stone House,Outreach,Trustees Meeting
END:VEVENT
BEGIN:VEVENT
DTSTART;TZID=America/New_York:20180906T190000
DTEND;TZID=America/New_York:20180906T210000
DTSTAMP:20260423T170056
CREATED:20180719T003320Z
LAST-MODIFIED:20180719T003320Z
UID:9882-1536260400-1536267600@parkslopeciviccouncil.org
SUMMARY:PSCC Season Kickoff General Meeting of the Trustees and Party! - All Are Welcome
DESCRIPTION:Please Join Us for Our September Kickoff Meeting and Party!\n\n\nDATE:  Thursday\, September 6\nTIME:  7:00 PM\n\n\n\n\nLOCATION:  Old Stone House\n\nJ.J. Byrne Playground / Washington Park\n5th Avenue between 3rd and 4th Streets\n\n\n\n\nBrooklyn\, NY 11215 \n\n\nOPEN TO: ALL!\n\n\n\n\n\n\n\n\nPlease bring your neighbors and friends!!  The more the merrier!\n\nPizza and home-made dinner dishes\, snacks\, beer\, wine and other beverages\, and desserts will be served courtesy of the Park Slope Civic Council.\n\nPlease come and enjoy\, and start your season with some community spirit!
URL:https://parkslopeciviccouncil.org/event/pscc-season-kickoff-general-meeting-of-the-trustees-and-party-all-are-welcome-3/
LOCATION:Old Stone House\, 336 3rd St\, Brooklyn\, NY\, 11215\, United States
CATEGORIES:Community,Old Stone House,Outreach,Trustees Meeting
END:VEVENT
BEGIN:VEVENT
DTSTART;TZID=America/New_York:20180906T190000
DTEND;TZID=America/New_York:20180906T210000
DTSTAMP:20260423T170056
CREATED:20180719T003320Z
LAST-MODIFIED:20180719T003320Z
UID:12395-1536260400-1536267600@parkslopeciviccouncil.org
SUMMARY:PSCC Season Kickoff General Meeting of the Trustees and Party! - All Are Welcome
DESCRIPTION:Please Join Us for Our September Kickoff Meeting and Party!\n\n\nDATE:  Thursday\, September 6\nTIME:  7:00 PM\n\n\n\n\nLOCATION:  Old Stone House\n\nJ.J. Byrne Playground / Washington Park\n5th Avenue between 3rd and 4th Streets\n\n\n\n\nBrooklyn\, NY 11215 \n\n\nOPEN TO: ALL!\n\n\n\n\n\n\n\n\nPlease bring your neighbors and friends!!  The more the merrier!\n\nPizza and home-made dinner dishes\, snacks\, beer\, wine and other beverages\, and desserts will be served courtesy of the Park Slope Civic Council.\n\nPlease come and enjoy\, and start your season with some community spirit!
URL:https://parkslopeciviccouncil.org/event/pscc-season-kickoff-general-meeting-of-the-trustees-and-party-all-are-welcome-7/
LOCATION:Old Stone House\, 336 3rd St\, Brooklyn\, NY\, 11215\, United States
CATEGORIES:Community,Old Stone House,Outreach,Trustees Meeting
END:VEVENT
BEGIN:VEVENT
DTSTART;TZID=America/New_York:20180906T190000
DTEND;TZID=America/New_York:20180906T210000
DTSTAMP:20260423T170056
CREATED:20180719T003320Z
LAST-MODIFIED:20180719T003320Z
UID:10242-1536260400-1536267600@parkslopeciviccouncil.org
SUMMARY:PSCC Season Kickoff General Meeting of the Trustees and Party! - All Are Welcome
DESCRIPTION:Please Join Us for Our September Kickoff Meeting and Party!\n\n\nDATE:  Thursday\, September 6\nTIME:  7:00 PM\n\n\n\n\nLOCATION:  Old Stone House\n\nJ.J. Byrne Playground / Washington Park\n5th Avenue between 3rd and 4th Streets\n\n\n\n\nBrooklyn\, NY 11215 \n\n\nOPEN TO: ALL!\n\n\n\n\n\n\n\n\nPlease bring your neighbors and friends!!  The more the merrier!\n\nPizza and home-made dinner dishes\, snacks\, beer\, wine and other beverages\, and desserts will be served courtesy of the Park Slope Civic Council.\n\nPlease come and enjoy\, and start your season with some community spirit!
URL:https://parkslopeciviccouncil.org/event/pscc-season-kickoff-general-meeting-of-the-trustees-and-party-all-are-welcome-4/
LOCATION:Old Stone House\, 336 3rd St\, Brooklyn\, NY\, 11215\, United States
CATEGORIES:Community,Old Stone House,Outreach,Trustees Meeting
END:VEVENT
BEGIN:VEVENT
DTSTART;TZID=America/New_York:20180607T183000
DTEND;TZID=America/New_York:20180607T210000
DTSTAMP:20260423T170056
CREATED:20180326T230701Z
LAST-MODIFIED:20180326T230701Z
UID:7465-1528396200-1528405200@parkslopeciviccouncil.org
SUMMARY:*June General Meeting / Scholarship Awards / End-of-Season Party -*Starts at 6:30PM
DESCRIPTION:Please join PSCC for our annual end-of-season party where following a brief business meeting\, we award scholarships to local high school students (sponsored by our annual Food for Thought) and award local residents for volunteer and professional achievements. This will be a festive occasion and it’s always a lot of fun. \n*Please note that the meeting will begin at an earlier start time of 6:30PM in order to accommodate the high school students’ need to get to their proms on time.
URL:https://parkslopeciviccouncil.org/event/june-general-meeting-scholarship-awards-end-of-season-party/
LOCATION:Old Stone House\, 336 3rd St\, Brooklyn\, NY\, 11215\, United States
CATEGORIES:Community,Outreach,Trustees Meeting
ORGANIZER;CN="Park Slope Civic Council":MAILTO:membership@parkslopecouncil.org
END:VEVENT
BEGIN:VEVENT
DTSTART;TZID=America/New_York:20180607T183000
DTEND;TZID=America/New_York:20180607T210000
DTSTAMP:20260423T170056
CREATED:20180326T230701Z
LAST-MODIFIED:20180326T230701Z
UID:9501-1528396200-1528405200@parkslopeciviccouncil.org
SUMMARY:*June General Meeting / Scholarship Awards / End-of-Season Party -*Starts at 6:30PM
DESCRIPTION:Please join PSCC for our annual end-of-season party where following a brief business meeting\, we award scholarships to local high school students (sponsored by our annual Food for Thought) and award local residents for volunteer and professional achievements. This will be a festive occasion and it’s always a lot of fun. \n*Please note that the meeting will begin at an earlier start time of 6:30PM in order to accommodate the high school students’ need to get to their proms on time.
URL:https://parkslopeciviccouncil.org/event/june-general-meeting-scholarship-awards-end-of-season-party-2/
LOCATION:Old Stone House\, 336 3rd St\, Brooklyn\, NY\, 11215\, United States
CATEGORIES:Community,Outreach,Trustees Meeting
ORGANIZER;CN="Park Slope Civic Council":MAILTO:membership@parkslopecouncil.org
END:VEVENT
BEGIN:VEVENT
DTSTART;TZID=America/New_York:20180607T183000
DTEND;TZID=America/New_York:20180607T210000
DTSTAMP:20260423T170056
CREATED:20180326T230701Z
LAST-MODIFIED:20180326T230701Z
UID:10889-1528396200-1528405200@parkslopeciviccouncil.org
SUMMARY:*June General Meeting / Scholarship Awards / End-of-Season Party -*Starts at 6:30PM
DESCRIPTION:Please join PSCC for our annual end-of-season party where following a brief business meeting\, we award scholarships to local high school students (sponsored by our annual Food for Thought) and award local residents for volunteer and professional achievements. This will be a festive occasion and it’s always a lot of fun. \n*Please note that the meeting will begin at an earlier start time of 6:30PM in order to accommodate the high school students’ need to get to their proms on time.
URL:https://parkslopeciviccouncil.org/event/june-general-meeting-scholarship-awards-end-of-season-party-6/
LOCATION:Old Stone House\, 336 3rd St\, Brooklyn\, NY\, 11215\, United States
CATEGORIES:Community,Outreach,Trustees Meeting
ORGANIZER;CN="Park Slope Civic Council":MAILTO:membership@parkslopecouncil.org
END:VEVENT
BEGIN:VEVENT
DTSTART;TZID=America/New_York:20180607T183000
DTEND;TZID=America/New_York:20180607T210000
DTSTAMP:20260423T170056
CREATED:20180326T230701Z
LAST-MODIFIED:20180326T230701Z
UID:9861-1528396200-1528405200@parkslopeciviccouncil.org
SUMMARY:*June General Meeting / Scholarship Awards / End-of-Season Party -*Starts at 6:30PM
DESCRIPTION:Please join PSCC for our annual end-of-season party where following a brief business meeting\, we award scholarships to local high school students (sponsored by our annual Food for Thought) and award local residents for volunteer and professional achievements. This will be a festive occasion and it’s always a lot of fun. \n*Please note that the meeting will begin at an earlier start time of 6:30PM in order to accommodate the high school students’ need to get to their proms on time.
URL:https://parkslopeciviccouncil.org/event/june-general-meeting-scholarship-awards-end-of-season-party-3/
LOCATION:Old Stone House\, 336 3rd St\, Brooklyn\, NY\, 11215\, United States
CATEGORIES:Community,Outreach,Trustees Meeting
ORGANIZER;CN="Park Slope Civic Council":MAILTO:membership@parkslopecouncil.org
END:VEVENT
BEGIN:VEVENT
DTSTART;TZID=America/New_York:20180607T183000
DTEND;TZID=America/New_York:20180607T210000
DTSTAMP:20260423T170056
CREATED:20180326T230701Z
LAST-MODIFIED:20180326T230701Z
UID:12374-1528396200-1528405200@parkslopeciviccouncil.org
SUMMARY:*June General Meeting / Scholarship Awards / End-of-Season Party -*Starts at 6:30PM
DESCRIPTION:Please join PSCC for our annual end-of-season party where following a brief business meeting\, we award scholarships to local high school students (sponsored by our annual Food for Thought) and award local residents for volunteer and professional achievements. This will be a festive occasion and it\’s always a lot of fun. \n*Please note that the meeting will begin at an earlier start time of 6:30PM in order to accommodate the high school students\’ need to get to their proms on time.
URL:https://parkslopeciviccouncil.org/event/june-general-meeting-scholarship-awards-end-of-season-party-7/
LOCATION:Old Stone House\, 336 3rd St\, Brooklyn\, NY\, 11215\, United States
CATEGORIES:Community,Outreach,Trustees Meeting
ORGANIZER;CN="Park Slope Civic Council":MAILTO:membership@parkslopecouncil.org
END:VEVENT
BEGIN:VEVENT
DTSTART;TZID=America/New_York:20180607T183000
DTEND;TZID=America/New_York:20180607T210000
DTSTAMP:20260423T170056
CREATED:20180326T230701Z
LAST-MODIFIED:20180326T230701Z
UID:10221-1528396200-1528405200@parkslopeciviccouncil.org
SUMMARY:*June General Meeting / Scholarship Awards / End-of-Season Party -*Starts at 6:30PM
DESCRIPTION:Please join PSCC for our annual end-of-season party where following a brief business meeting\, we award scholarships to local high school students (sponsored by our annual Food for Thought) and award local residents for volunteer and professional achievements. This will be a festive occasion and it’s always a lot of fun. \n*Please note that the meeting will begin at an earlier start time of 6:30PM in order to accommodate the high school students’ need to get to their proms on time.
URL:https://parkslopeciviccouncil.org/event/june-general-meeting-scholarship-awards-end-of-season-party-4/
LOCATION:Old Stone House\, 336 3rd St\, Brooklyn\, NY\, 11215\, United States
CATEGORIES:Community,Outreach,Trustees Meeting
ORGANIZER;CN="Park Slope Civic Council":MAILTO:membership@parkslopecouncil.org
END:VEVENT
BEGIN:VEVENT
DTSTART;TZID=America/New_York:20180607T183000
DTEND;TZID=America/New_York:20180607T210000
DTSTAMP:20260423T170056
CREATED:20180326T230701Z
LAST-MODIFIED:20180326T230701Z
UID:10569-1528396200-1528405200@parkslopeciviccouncil.org
SUMMARY:*June General Meeting / Scholarship Awards / End-of-Season Party -*Starts at 6:30PM
DESCRIPTION:Please join PSCC for our annual end-of-season party where following a brief business meeting\, we award scholarships to local high school students (sponsored by our annual Food for Thought) and award local residents for volunteer and professional achievements. This will be a festive occasion and it’s always a lot of fun. \n*Please note that the meeting will begin at an earlier start time of 6:30PM in order to accommodate the high school students’ need to get to their proms on time.
URL:https://parkslopeciviccouncil.org/event/june-general-meeting-scholarship-awards-end-of-season-party-5/
LOCATION:Old Stone House\, 336 3rd St\, Brooklyn\, NY\, 11215\, United States
CATEGORIES:Community,Outreach,Trustees Meeting
ORGANIZER;CN="Park Slope Civic Council":MAILTO:membership@parkslopecouncil.org
END:VEVENT
BEGIN:VEVENT
DTSTART;TZID=America/New_York:20180503T190000
DTEND;TZID=America/New_York:20180503T210000
DTSTAMP:20260423T170056
CREATED:20180306T040904Z
LAST-MODIFIED:20180306T040904Z
UID:7399-1525374000-1525381200@parkslopeciviccouncil.org
SUMMARY:May General Meeting
DESCRIPTION:Please join us for the Park Slope Civic Council’s Monthly Trustees’ General Meeting. \nThese meetings are generally held the first Thursday of the month from September through June.
URL:https://parkslopeciviccouncil.org/event/may-general-meeting/
LOCATION:Old Stone House\, 336 3rd St\, Brooklyn\, NY\, 11215\, United States
CATEGORIES:Community,Trustees Meeting
END:VEVENT
BEGIN:VEVENT
DTSTART;TZID=America/New_York:20180503T190000
DTEND;TZID=America/New_York:20180503T210000
DTSTAMP:20260423T170056
CREATED:20180306T040904Z
LAST-MODIFIED:20180306T040904Z
UID:9492-1525374000-1525381200@parkslopeciviccouncil.org
SUMMARY:May General Meeting
DESCRIPTION:Please join us for the Park Slope Civic Council’s Monthly Trustees’ General Meeting. \nThese meetings are generally held the first Thursday of the month from September through June.
URL:https://parkslopeciviccouncil.org/event/may-general-meeting-2/
LOCATION:Old Stone House\, 336 3rd St\, Brooklyn\, NY\, 11215\, United States
CATEGORIES:Community,Trustees Meeting
END:VEVENT
BEGIN:VEVENT
DTSTART;TZID=America/New_York:20180503T190000
DTEND;TZID=America/New_York:20180503T210000
DTSTAMP:20260423T170056
CREATED:20180306T040904Z
LAST-MODIFIED:20180306T040904Z
UID:10880-1525374000-1525381200@parkslopeciviccouncil.org
SUMMARY:May General Meeting
DESCRIPTION:Please join us for the Park Slope Civic Council’s Monthly Trustees’ General Meeting. \nThese meetings are generally held the first Thursday of the month from September through June.
URL:https://parkslopeciviccouncil.org/event/may-general-meeting-6/
LOCATION:Old Stone House\, 336 3rd St\, Brooklyn\, NY\, 11215\, United States
CATEGORIES:Community,Trustees Meeting
END:VEVENT
BEGIN:VEVENT
DTSTART;TZID=America/New_York:20180503T190000
DTEND;TZID=America/New_York:20180503T210000
DTSTAMP:20260423T170056
CREATED:20180306T040904Z
LAST-MODIFIED:20180306T040904Z
UID:9852-1525374000-1525381200@parkslopeciviccouncil.org
SUMMARY:May General Meeting
DESCRIPTION:Please join us for the Park Slope Civic Council’s Monthly Trustees’ General Meeting. \nThese meetings are generally held the first Thursday of the month from September through June.
URL:https://parkslopeciviccouncil.org/event/may-general-meeting-3/
LOCATION:Old Stone House\, 336 3rd St\, Brooklyn\, NY\, 11215\, United States
CATEGORIES:Community,Trustees Meeting
END:VEVENT
BEGIN:VEVENT
DTSTART;TZID=America/New_York:20180503T190000
DTEND;TZID=America/New_York:20180503T210000
DTSTAMP:20260423T170056
CREATED:20180306T040904Z
LAST-MODIFIED:20180306T040904Z
UID:12365-1525374000-1525381200@parkslopeciviccouncil.org
SUMMARY:May General Meeting
DESCRIPTION:Please join us for the Park Slope Civic Council’s Monthly Trustees’ General Meeting. \nThese meetings are generally held the first Thursday of the month from September through June.
URL:https://parkslopeciviccouncil.org/event/may-general-meeting-7/
LOCATION:Old Stone House\, 336 3rd St\, Brooklyn\, NY\, 11215\, United States
CATEGORIES:Community,Trustees Meeting
END:VEVENT
BEGIN:VEVENT
DTSTART;TZID=America/New_York:20180503T190000
DTEND;TZID=America/New_York:20180503T210000
DTSTAMP:20260423T170056
CREATED:20180306T040904Z
LAST-MODIFIED:20180306T040904Z
UID:10212-1525374000-1525381200@parkslopeciviccouncil.org
SUMMARY:May General Meeting
DESCRIPTION:Please join us for the Park Slope Civic Council’s Monthly Trustees’ General Meeting. \nThese meetings are generally held the first Thursday of the month from September through June.
URL:https://parkslopeciviccouncil.org/event/may-general-meeting-4/
LOCATION:Old Stone House\, 336 3rd St\, Brooklyn\, NY\, 11215\, United States
CATEGORIES:Community,Trustees Meeting
END:VEVENT
BEGIN:VEVENT
DTSTART;TZID=America/New_York:20180503T190000
DTEND;TZID=America/New_York:20180503T210000
DTSTAMP:20260423T170056
CREATED:20180306T040904Z
LAST-MODIFIED:20180306T040904Z
UID:10560-1525374000-1525381200@parkslopeciviccouncil.org
SUMMARY:May General Meeting
DESCRIPTION:Please join us for the Park Slope Civic Council’s Monthly Trustees’ General Meeting. \nThese meetings are generally held the first Thursday of the month from September through June.
URL:https://parkslopeciviccouncil.org/event/may-general-meeting-5/
LOCATION:Old Stone House\, 336 3rd St\, Brooklyn\, NY\, 11215\, United States
CATEGORIES:Community,Trustees Meeting
END:VEVENT
BEGIN:VEVENT
DTSTART;TZID=America/New_York:20180412T190000
DTEND;TZID=America/New_York:20180412T210000
DTSTAMP:20260423T170056
CREATED:20180306T040409Z
LAST-MODIFIED:20180306T040409Z
UID:9490-1523559600-1523566800@parkslopeciviccouncil.org
SUMMARY:PSCC General Meeting - RESCHEDULED to April 12 at 7pm at the Montauk Club
DESCRIPTION:PSCC’s April General Meeting has been rescheduled to April 12th at 7PM at the Montauk Club \nPlease join us for the Park Slope Civic Council’s Monthly Trustees’ General Meeting. \nThese meetings are generally held the first Thursday of the month from September through June.
URL:https://parkslopeciviccouncil.org/event/pscc-general-meeting-rescheduled-location-tbd-2/
LOCATION:The Montauk Club\, 25 8th Avenue\, Brooklyn\, New York\, 11217
CATEGORIES:Outreach,Trustees Meeting
END:VEVENT
BEGIN:VEVENT
DTSTART;TZID=America/New_York:20180412T190000
DTEND;TZID=America/New_York:20180412T210000
DTSTAMP:20260423T170056
CREATED:20180306T040409Z
LAST-MODIFIED:20180306T040409Z
UID:10878-1523559600-1523566800@parkslopeciviccouncil.org
SUMMARY:PSCC General Meeting - RESCHEDULED to April 12 at 7pm at the Montauk Club
DESCRIPTION:PSCC’s April General Meeting has been rescheduled to April 12th at 7PM at the Montauk Club \nPlease join us for the Park Slope Civic Council’s Monthly Trustees’ General Meeting. \nThese meetings are generally held the first Thursday of the month from September through June.
URL:https://parkslopeciviccouncil.org/event/pscc-general-meeting-rescheduled-location-tbd-6/
LOCATION:The Montauk Club\, 25 8th Avenue\, Brooklyn\, New York\, 11217
CATEGORIES:Outreach,Trustees Meeting
END:VEVENT
BEGIN:VEVENT
DTSTART;TZID=America/New_York:20180412T190000
DTEND;TZID=America/New_York:20180412T210000
DTSTAMP:20260423T170056
CREATED:20180306T040409Z
LAST-MODIFIED:20180306T040409Z
UID:9850-1523559600-1523566800@parkslopeciviccouncil.org
SUMMARY:PSCC General Meeting - RESCHEDULED to April 12 at 7pm at the Montauk Club
DESCRIPTION:PSCC’s April General Meeting has been rescheduled to April 12th at 7PM at the Montauk Club \nPlease join us for the Park Slope Civic Council’s Monthly Trustees’ General Meeting. \nThese meetings are generally held the first Thursday of the month from September through June.
URL:https://parkslopeciviccouncil.org/event/pscc-general-meeting-rescheduled-location-tbd-3/
LOCATION:The Montauk Club\, 25 8th Avenue\, Brooklyn\, New York\, 11217
CATEGORIES:Outreach,Trustees Meeting
END:VEVENT
BEGIN:VEVENT
DTSTART;TZID=America/New_York:20180412T190000
DTEND;TZID=America/New_York:20180412T210000
DTSTAMP:20260423T170056
CREATED:20180306T040409Z
LAST-MODIFIED:20180306T040409Z
UID:12363-1523559600-1523566800@parkslopeciviccouncil.org
SUMMARY:PSCC General Meeting - RESCHEDULED to April 12 at 7pm at the Montauk Club
DESCRIPTION:PSCC\’s April General Meeting has been rescheduled to April 12th at 7PM at the Montauk Club \nPlease join us for the Park Slope Civic Council’s Monthly Trustees’ General Meeting. \nThese meetings are generally held the first Thursday of the month from September through June.
URL:https://parkslopeciviccouncil.org/event/pscc-general-meeting-rescheduled-location-tbd-7/
LOCATION:The Montauk Club\, 25 8th Avenue\, Brooklyn\, New York\, 11217
CATEGORIES:Outreach,Trustees Meeting
END:VEVENT
BEGIN:VEVENT
DTSTART;TZID=America/New_York:20180412T190000
DTEND;TZID=America/New_York:20180412T210000
DTSTAMP:20260423T170056
CREATED:20180306T040409Z
LAST-MODIFIED:20180306T040409Z
UID:10210-1523559600-1523566800@parkslopeciviccouncil.org
SUMMARY:PSCC General Meeting - RESCHEDULED to April 12 at 7pm at the Montauk Club
DESCRIPTION:PSCC’s April General Meeting has been rescheduled to April 12th at 7PM at the Montauk Club \nPlease join us for the Park Slope Civic Council’s Monthly Trustees’ General Meeting. \nThese meetings are generally held the first Thursday of the month from September through June.
URL:https://parkslopeciviccouncil.org/event/pscc-general-meeting-rescheduled-location-tbd-4/
LOCATION:The Montauk Club\, 25 8th Avenue\, Brooklyn\, New York\, 11217
CATEGORIES:Outreach,Trustees Meeting
END:VEVENT
END:VCALENDAR