BEGIN:VCALENDAR
VERSION:2.0
PRODID:-//Park Slope Civic Council - ECPv6.15.20//NONSGML v1.0//EN
CALSCALE:GREGORIAN
METHOD:PUBLISH
X-WR-CALNAME:Park Slope Civic Council
X-ORIGINAL-URL:https://parkslopeciviccouncil.org
X-WR-CALDESC:Events for Park Slope Civic Council
REFRESH-INTERVAL;VALUE=DURATION:PT1H
X-Robots-Tag:noindex
X-PUBLISHED-TTL:PT1H
BEGIN:VTIMEZONE
TZID:America/New_York
BEGIN:DAYLIGHT
TZOFFSETFROM:-0500
TZOFFSETTO:-0400
TZNAME:EDT
DTSTART:20250309T070000
END:DAYLIGHT
BEGIN:STANDARD
TZOFFSETFROM:-0400
TZOFFSETTO:-0500
TZNAME:EST
DTSTART:20251102T060000
END:STANDARD
BEGIN:DAYLIGHT
TZOFFSETFROM:-0500
TZOFFSETTO:-0400
TZNAME:EDT
DTSTART:20260308T070000
END:DAYLIGHT
BEGIN:STANDARD
TZOFFSETFROM:-0400
TZOFFSETTO:-0500
TZNAME:EST
DTSTART:20261101T060000
END:STANDARD
BEGIN:DAYLIGHT
TZOFFSETFROM:-0500
TZOFFSETTO:-0400
TZNAME:EDT
DTSTART:20270314T070000
END:DAYLIGHT
BEGIN:STANDARD
TZOFFSETFROM:-0400
TZOFFSETTO:-0500
TZNAME:EST
DTSTART:20271107T060000
END:STANDARD
END:VTIMEZONE
BEGIN:VEVENT
DTSTART;TZID=America/New_York:20260507T173000
DTEND;TZID=America/New_York:20260507T190000
DTSTAMP:20260423T041959
CREATED:20260323T123502Z
LAST-MODIFIED:20260406T165821Z
UID:16133-1778175000-1778180400@parkslopeciviccouncil.org
SUMMARY:Lenny's Classic Cars Fundraiser
DESCRIPTION:A rare peek at a hidden local treasure\, it’s a chance to see a one-of-a-kind collection right here in Park Slope. Over 60+ antique cars\, some from the early 1900’s. Lenny will share how he found the cars and talk about the movies and commercials they’ve appeared in. \n\n\n\nThis fundraiser helps support the free community events we bring to the neighborhood all year. Stay after for our monthly meeting.
URL:https://parkslopeciviccouncil.org/event/fundraiser-vintage-car-tour/
END:VEVENT
BEGIN:VEVENT
DTSTART;TZID=America/New_York:20260507T190000
DTEND;TZID=America/New_York:20260507T203000
DTSTAMP:20260423T041959
CREATED:20250813T125459Z
LAST-MODIFIED:20260323T123802Z
UID:15717-1778180400-1778185800@parkslopeciviccouncil.org
SUMMARY:Meeting
DESCRIPTION:
URL:https://parkslopeciviccouncil.org/event/meeting-3/
LOCATION:300 Douglas Street\, 300 Douglass Street\, Brooklyn\, New York
END:VEVENT
BEGIN:VEVENT
DTSTART;TZID=America/New_York:20260517T110000
DTEND;TZID=America/New_York:20260517T150000
DTSTAMP:20260423T041959
CREATED:20260205T200108Z
LAST-MODIFIED:20260205T200111Z
UID:16068-1779015600-1779030000@parkslopeciviccouncil.org
SUMMARY:Sustainability House Tour
DESCRIPTION:
URL:https://parkslopeciviccouncil.org/event/sustainability-house-tour-2/
END:VEVENT
BEGIN:VEVENT
DTSTART;TZID=America/New_York:20260530T110000
DTEND;TZID=America/New_York:20260530T140000
DTSTAMP:20260423T041959
CREATED:20260205T200438Z
LAST-MODIFIED:20260205T200440Z
UID:16072-1780138800-1780149600@parkslopeciviccouncil.org
SUMMARY:Bike Day in Prospect Park
DESCRIPTION:Community day of cycling 
URL:https://parkslopeciviccouncil.org/event/bike-day-in-prospect-park-2/
END:VEVENT
BEGIN:VEVENT
DTSTART;TZID=America/New_York:20260604T190000
DTEND;TZID=America/New_York:20260604T203000
DTSTAMP:20260423T041959
CREATED:20250813T125627Z
LAST-MODIFIED:20251204T205338Z
UID:15719-1780599600-1780605000@parkslopeciviccouncil.org
SUMMARY:Annual Meeting
DESCRIPTION:And potluck
URL:https://parkslopeciviccouncil.org/event/annual-meeting-3/
LOCATION:Old Stone House\, 336 3rd St\, Brooklyn\, NY\, 11215\, United States
END:VEVENT
END:VCALENDAR