BEGIN:VCALENDAR
VERSION:2.0
PRODID:-//Park Slope Civic Council - ECPv6.15.20//NONSGML v1.0//EN
CALSCALE:GREGORIAN
METHOD:PUBLISH
X-WR-CALNAME:Park Slope Civic Council
X-ORIGINAL-URL:https://parkslopeciviccouncil.org
X-WR-CALDESC:Events for Park Slope Civic Council
REFRESH-INTERVAL;VALUE=DURATION:PT1H
X-Robots-Tag:noindex
X-PUBLISHED-TTL:PT1H
BEGIN:VTIMEZONE
TZID:America/New_York
BEGIN:DAYLIGHT
TZOFFSETFROM:-0500
TZOFFSETTO:-0400
TZNAME:EDT
DTSTART:20190310T070000
END:DAYLIGHT
BEGIN:STANDARD
TZOFFSETFROM:-0400
TZOFFSETTO:-0500
TZNAME:EST
DTSTART:20191103T060000
END:STANDARD
BEGIN:DAYLIGHT
TZOFFSETFROM:-0500
TZOFFSETTO:-0400
TZNAME:EDT
DTSTART:20200308T070000
END:DAYLIGHT
BEGIN:STANDARD
TZOFFSETFROM:-0400
TZOFFSETTO:-0500
TZNAME:EST
DTSTART:20201101T060000
END:STANDARD
BEGIN:DAYLIGHT
TZOFFSETFROM:-0500
TZOFFSETTO:-0400
TZNAME:EDT
DTSTART:20210314T070000
END:DAYLIGHT
BEGIN:STANDARD
TZOFFSETFROM:-0400
TZOFFSETTO:-0500
TZNAME:EST
DTSTART:20211107T060000
END:STANDARD
BEGIN:DAYLIGHT
TZOFFSETFROM:-0500
TZOFFSETTO:-0400
TZNAME:EDT
DTSTART:20220313T070000
END:DAYLIGHT
BEGIN:STANDARD
TZOFFSETFROM:-0400
TZOFFSETTO:-0500
TZNAME:EST
DTSTART:20221106T060000
END:STANDARD
END:VTIMEZONE
BEGIN:VEVENT
DTSTART;TZID=America/New_York:20210207T140000
DTEND;TZID=America/New_York:20210207T170000
DTSTAMP:20260423T182754
CREATED:20210126T225105Z
LAST-MODIFIED:20210126T225105Z
UID:8372-1612706400-1612717200@parkslopeciviccouncil.org
SUMMARY:Tour Park Slope West with Francis Morrone
DESCRIPTION:
URL:https://parkslopeciviccouncil.org/event/tour-park-slope-west-with-francis-morrone/
END:VEVENT
BEGIN:VEVENT
DTSTART;TZID=America/New_York:20210207T140000
DTEND;TZID=America/New_York:20210207T170000
DTSTAMP:20260423T182754
CREATED:20210126T225105Z
LAST-MODIFIED:20210126T225105Z
UID:12440-1612706400-1612717200@parkslopeciviccouncil.org
SUMMARY:Tour Park Slope West with Francis Morrone
DESCRIPTION:
URL:https://parkslopeciviccouncil.org/event/tour-park-slope-west-with-francis-morrone-2/
END:VEVENT
BEGIN:VEVENT
DTSTART;TZID=America/New_York:20210118T100000
DTEND;TZID=America/New_York:20210118T160000
DTSTAMP:20260423T182754
CREATED:20210127T153655Z
LAST-MODIFIED:20210127T153655Z
UID:8385-1610964000-1610985600@parkslopeciviccouncil.org
SUMMARY:Blood Donation Drive
DESCRIPTION:
URL:https://parkslopeciviccouncil.org/event/blood-donation-drive-january2/
LOCATION:283 Prospect Avenue\, 283 Prospect Avenue\, Brooklyn\, NY\, United States
END:VEVENT
BEGIN:VEVENT
DTSTART;TZID=America/New_York:20210118T100000
DTEND;TZID=America/New_York:20210118T160000
DTSTAMP:20260423T182754
CREATED:20210127T153655Z
LAST-MODIFIED:20210127T153655Z
UID:12451-1610964000-1610985600@parkslopeciviccouncil.org
SUMMARY:Blood Donation Drive
DESCRIPTION:
URL:https://parkslopeciviccouncil.org/event/blood-donation-drive-january2-2/
LOCATION:283 Prospect Avenue\, 283 Prospect Avenue\, Brooklyn\, NY\, United States
END:VEVENT
BEGIN:VEVENT
DTSTART;TZID=America/New_York:20210109T100000
DTEND;TZID=America/New_York:20210109T140000
DTSTAMP:20260423T182754
CREATED:20210127T153251Z
LAST-MODIFIED:20210127T153251Z
UID:8381-1610186400-1610200800@parkslopeciviccouncil.org
SUMMARY:Mulchfest
DESCRIPTION:
URL:https://parkslopeciviccouncil.org/event/mulchfest-5-2/
LOCATION:Prospect Park West and 3rd. Street\, Brooklyn\, NY
END:VEVENT
BEGIN:VEVENT
DTSTART;TZID=America/New_York:20210109T100000
DTEND;TZID=America/New_York:20210109T140000
DTSTAMP:20260423T182754
CREATED:20210127T153251Z
LAST-MODIFIED:20210127T153251Z
UID:12448-1610186400-1610200800@parkslopeciviccouncil.org
SUMMARY:Mulchfest
DESCRIPTION:
URL:https://parkslopeciviccouncil.org/event/mulchfest-5-3/
LOCATION:Prospect Park West and 3rd. Street\, Brooklyn\, NY
END:VEVENT
BEGIN:VEVENT
DTSTART;TZID=America/New_York:20210107T190000
DTEND;TZID=America/New_York:20210107T200000
DTSTAMP:20260423T182754
CREATED:20210127T152931Z
LAST-MODIFIED:20210127T152931Z
UID:8377-1610046000-1610049600@parkslopeciviccouncil.org
SUMMARY:Monthly Trustee Meeting
DESCRIPTION:
URL:https://parkslopeciviccouncil.org/event/monthly-trustee-meeting-january/
CATEGORIES:Trustees Meeting
END:VEVENT
BEGIN:VEVENT
DTSTART;TZID=America/New_York:20210107T190000
DTEND;TZID=America/New_York:20210107T200000
DTSTAMP:20260423T182754
CREATED:20210127T152931Z
LAST-MODIFIED:20210127T152931Z
UID:12445-1610046000-1610049600@parkslopeciviccouncil.org
SUMMARY:Monthly Trustee Meeting
DESCRIPTION:
URL:https://parkslopeciviccouncil.org/event/monthly-trustee-meeting-january-2/
CATEGORIES:Trustees Meeting
END:VEVENT
BEGIN:VEVENT
DTSTART;TZID=America/New_York:20210104T100000
DTEND;TZID=America/New_York:20210104T160000
DTSTAMP:20260423T182754
CREATED:20210127T153557Z
LAST-MODIFIED:20210127T153557Z
UID:8384-1609754400-1609776000@parkslopeciviccouncil.org
SUMMARY:Blood Donation Drive
DESCRIPTION:
URL:https://parkslopeciviccouncil.org/event/blood-donation-drive-january/
LOCATION:283 Prospect Avenue\, 283 Prospect Avenue\, Brooklyn\, NY\, United States
END:VEVENT
BEGIN:VEVENT
DTSTART;TZID=America/New_York:20210104T100000
DTEND;TZID=America/New_York:20210104T160000
DTSTAMP:20260423T182754
CREATED:20210127T153557Z
LAST-MODIFIED:20210127T153557Z
UID:12450-1609754400-1609776000@parkslopeciviccouncil.org
SUMMARY:Blood Donation Drive
DESCRIPTION:
URL:https://parkslopeciviccouncil.org/event/blood-donation-drive-january-2/
LOCATION:283 Prospect Avenue\, 283 Prospect Avenue\, Brooklyn\, NY\, United States
END:VEVENT
BEGIN:VEVENT
DTSTART;TZID=America/New_York:20210102T100000
DTEND;TZID=America/New_York:20210102T140000
DTSTAMP:20260423T182754
CREATED:20210127T153211Z
LAST-MODIFIED:20210127T153211Z
UID:8380-1609581600-1609596000@parkslopeciviccouncil.org
SUMMARY:Mulchfest
DESCRIPTION:
URL:https://parkslopeciviccouncil.org/event/mulchfest-4-2/
LOCATION:Prospect Park West and 3rd. Street\, Brooklyn\, NY
END:VEVENT
BEGIN:VEVENT
DTSTART;TZID=America/New_York:20210102T100000
DTEND;TZID=America/New_York:20210102T140000
DTSTAMP:20260423T182754
CREATED:20210127T153211Z
LAST-MODIFIED:20210127T153211Z
UID:12447-1609581600-1609596000@parkslopeciviccouncil.org
SUMMARY:Mulchfest
DESCRIPTION:
URL:https://parkslopeciviccouncil.org/event/mulchfest-4-3/
LOCATION:Prospect Park West and 3rd. Street\, Brooklyn\, NY
END:VEVENT
BEGIN:VEVENT
DTSTART;TZID=America/New_York:20201229T100000
DTEND;TZID=America/New_York:20201229T160000
DTSTAMP:20260423T182754
CREATED:20210127T153508Z
LAST-MODIFIED:20210127T153508Z
UID:12449-1609236000-1609257600@parkslopeciviccouncil.org
SUMMARY:Blood Donation Drive
DESCRIPTION:
URL:https://parkslopeciviccouncil.org/event/blood-donation-drive-2/
LOCATION:283 Prospect Avenue\, 283 Prospect Avenue\, Brooklyn\, NY\, United States
END:VEVENT
BEGIN:VEVENT
DTSTART;TZID=America/New_York:20201229T100000
DTEND;TZID=America/New_York:20201229T160000
DTSTAMP:20260423T182754
CREATED:20210127T153508Z
LAST-MODIFIED:20210127T153508Z
UID:8382-1609236000-1609257600@parkslopeciviccouncil.org
SUMMARY:Blood Donation Drive
DESCRIPTION:
URL:https://parkslopeciviccouncil.org/event/blood-donation-drive/
LOCATION:283 Prospect Avenue\, 283 Prospect Avenue\, Brooklyn\, NY\, United States
END:VEVENT
BEGIN:VEVENT
DTSTART;TZID=America/New_York:20201203T190000
DTEND;TZID=America/New_York:20201203T200000
DTSTAMP:20260423T182754
CREATED:20210127T152837Z
LAST-MODIFIED:20210127T152837Z
UID:12444-1607022000-1607025600@parkslopeciviccouncil.org
SUMMARY:Monthly Trustee Meeting
DESCRIPTION:
URL:https://parkslopeciviccouncil.org/event/monthly-trustee-meeting-december-2/
CATEGORIES:Trustees Meeting
END:VEVENT
BEGIN:VEVENT
DTSTART;TZID=America/New_York:20201203T190000
DTEND;TZID=America/New_York:20201203T200000
DTSTAMP:20260423T182754
CREATED:20210127T152837Z
LAST-MODIFIED:20210127T152837Z
UID:8376-1607022000-1607025600@parkslopeciviccouncil.org
SUMMARY:Monthly Trustee Meeting
DESCRIPTION:
URL:https://parkslopeciviccouncil.org/event/monthly-trustee-meeting-december/
CATEGORIES:Trustees Meeting
END:VEVENT
BEGIN:VEVENT
DTSTART;TZID=America/New_York:20201105T190000
DTEND;TZID=America/New_York:20201105T200000
DTSTAMP:20260423T182754
CREATED:20210127T152809Z
LAST-MODIFIED:20210127T152809Z
UID:8375-1604602800-1604606400@parkslopeciviccouncil.org
SUMMARY:Monthly Trustee Meeting
DESCRIPTION:
URL:https://parkslopeciviccouncil.org/event/monthly-trustee-meeting-november/
CATEGORIES:Trustees Meeting
END:VEVENT
BEGIN:VEVENT
DTSTART;TZID=America/New_York:20201105T190000
DTEND;TZID=America/New_York:20201105T200000
DTSTAMP:20260423T182754
CREATED:20210127T152809Z
LAST-MODIFIED:20210127T152809Z
UID:12443-1604602800-1604606400@parkslopeciviccouncil.org
SUMMARY:Monthly Trustee Meeting
DESCRIPTION:
URL:https://parkslopeciviccouncil.org/event/monthly-trustee-meeting-november-2/
CATEGORIES:Trustees Meeting
END:VEVENT
BEGIN:VEVENT
DTSTART;TZID=America/New_York:20201031T100000
DTEND;TZID=America/New_York:20201031T200000
DTSTAMP:20260423T182754
CREATED:20210127T153747Z
LAST-MODIFIED:20210127T153747Z
UID:12452-1604138400-1604174400@parkslopeciviccouncil.org
SUMMARY:Halloween Events
DESCRIPTION:
URL:https://parkslopeciviccouncil.org/event/halloween-events-2/
LOCATION:Old Stone House and Washington Square Park\, 4th Avenue and 3rd Street\, Park Slope\, Brooklyn\, 11215
END:VEVENT
BEGIN:VEVENT
DTSTART;TZID=America/New_York:20201031T100000
DTEND;TZID=America/New_York:20201031T200000
DTSTAMP:20260423T182754
CREATED:20210127T153747Z
LAST-MODIFIED:20210127T153747Z
UID:8386-1604138400-1604174400@parkslopeciviccouncil.org
SUMMARY:Halloween Events
DESCRIPTION:
URL:https://parkslopeciviccouncil.org/event/halloween-events/
LOCATION:Old Stone House and Washington Square Park\, 4th Avenue and 3rd Street\, Park Slope\, Brooklyn\, 11215
END:VEVENT
BEGIN:VEVENT
DTSTART;TZID=America/New_York:20201018T100000
DTEND;TZID=America/New_York:20201018T140000
DTSTAMP:20260423T182754
CREATED:20210127T153119Z
LAST-MODIFIED:20210127T153119Z
UID:8378-1603015200-1603029600@parkslopeciviccouncil.org
SUMMARY:Civic Sweep
DESCRIPTION:
URL:https://parkslopeciviccouncil.org/event/civic-sweep-2020/
LOCATION:John Jay Campus\, 237 7th Ave\, New York City\, NY\, United States
CATEGORIES:Civic Sweep
END:VEVENT
BEGIN:VEVENT
DTSTART;TZID=America/New_York:20201018T100000
DTEND;TZID=America/New_York:20201018T140000
DTSTAMP:20260423T182754
CREATED:20210127T153119Z
LAST-MODIFIED:20210127T153119Z
UID:12446-1603015200-1603029600@parkslopeciviccouncil.org
SUMMARY:Civic Sweep
DESCRIPTION:
URL:https://parkslopeciviccouncil.org/event/civic-sweep-2020-2/
LOCATION:John Jay Campus\, 237 7th Ave\, New York City\, NY\, United States
CATEGORIES:Civic Sweep
END:VEVENT
BEGIN:VEVENT
DTSTART;TZID=America/New_York:20201018T100000
DTEND;TZID=America/New_York:20201018T140000
DTSTAMP:20260423T182754
CREATED:20200330T203215Z
LAST-MODIFIED:20200330T203215Z
UID:8078-1603015200-1603029600@parkslopeciviccouncil.org
SUMMARY:Civic Sweep
DESCRIPTION:
URL:https://parkslopeciviccouncil.org/event/civic-sweep/
LOCATION:JJ Byrne Park\, 5th Avenue & 4th Street\, Brooklyn
CATEGORIES:Civic Sweep
END:VEVENT
BEGIN:VEVENT
DTSTART;TZID=America/New_York:20201018T100000
DTEND;TZID=America/New_York:20201018T140000
DTSTAMP:20260423T182754
CREATED:20200330T203215Z
LAST-MODIFIED:20200330T203215Z
UID:12439-1603015200-1603029600@parkslopeciviccouncil.org
SUMMARY:Civic Sweep
DESCRIPTION:
URL:https://parkslopeciviccouncil.org/event/civic-sweep-3/
LOCATION:JJ Byrne Park\, 5th Avenue & 4th Street\, Brooklyn
CATEGORIES:Civic Sweep
END:VEVENT
BEGIN:VEVENT
DTSTART;TZID=America/New_York:20201001T190000
DTEND;TZID=America/New_York:20201001T200000
DTSTAMP:20260423T182754
CREATED:20210127T152729Z
LAST-MODIFIED:20210127T152729Z
UID:8374-1601578800-1601582400@parkslopeciviccouncil.org
SUMMARY:Monthly Trustee Meeting
DESCRIPTION:
URL:https://parkslopeciviccouncil.org/event/monthly-trustee-meeting-october/
CATEGORIES:Trustees Meeting
END:VEVENT
BEGIN:VEVENT
DTSTART;TZID=America/New_York:20201001T190000
DTEND;TZID=America/New_York:20201001T200000
DTSTAMP:20260423T182754
CREATED:20210127T152729Z
LAST-MODIFIED:20210127T152729Z
UID:12442-1601578800-1601582400@parkslopeciviccouncil.org
SUMMARY:Monthly Trustee Meeting
DESCRIPTION:
URL:https://parkslopeciviccouncil.org/event/monthly-trustee-meeting-october-2/
CATEGORIES:Trustees Meeting
END:VEVENT
BEGIN:VEVENT
DTSTART;TZID=America/New_York:20200910T190000
DTEND;TZID=America/New_York:20200910T200000
DTSTAMP:20260423T182754
CREATED:20210127T152646Z
LAST-MODIFIED:20210127T152646Z
UID:12441-1599764400-1599768000@parkslopeciviccouncil.org
SUMMARY:Monthly Trustee Meeting
DESCRIPTION:
URL:https://parkslopeciviccouncil.org/event/monthly-trustee-meeting-2/
CATEGORIES:Trustees Meeting
END:VEVENT
BEGIN:VEVENT
DTSTART;TZID=America/New_York:20200910T190000
DTEND;TZID=America/New_York:20200910T200000
DTSTAMP:20260423T182754
CREATED:20210127T152646Z
LAST-MODIFIED:20210127T152646Z
UID:8373-1599764400-1599768000@parkslopeciviccouncil.org
SUMMARY:Monthly Trustee Meeting
DESCRIPTION:
URL:https://parkslopeciviccouncil.org/event/monthly-trustee-meeting/
CATEGORIES:Trustees Meeting
END:VEVENT
BEGIN:VEVENT
DTSTART;TZID=America/New_York:20200305T190000
DTEND;TZID=America/New_York:20200305T203000
DTSTAMP:20260423T182754
CREATED:20190609T222512Z
LAST-MODIFIED:20190609T222512Z
UID:7840-1583434800-1583440200@parkslopeciviccouncil.org
SUMMARY:Monthly General Board Meeting
DESCRIPTION:
URL:https://parkslopeciviccouncil.org/event/monthly-meeting-10/
LOCATION:Old Stone House/JJ Byrne Playground\, 5th Avenue between 3rd and 4th Streets\, NY\, Select a Country:
END:VEVENT
BEGIN:VEVENT
DTSTART;TZID=America/New_York:20200305T190000
DTEND;TZID=America/New_York:20200305T203000
DTSTAMP:20260423T182754
CREATED:20190609T222512Z
LAST-MODIFIED:20190609T222512Z
UID:9917-1583434800-1583440200@parkslopeciviccouncil.org
SUMMARY:Monthly General Board Meeting
DESCRIPTION:
URL:https://parkslopeciviccouncil.org/event/monthly-meeting-10-2/
LOCATION:Old Stone House/JJ Byrne Playground\, 5th Avenue between 3rd and 4th Streets\, NY\, Select a Country:
END:VEVENT
END:VCALENDAR