BEGIN:VCALENDAR
VERSION:2.0
PRODID:-//Park Slope Civic Council - ECPv6.15.20//NONSGML v1.0//EN
CALSCALE:GREGORIAN
METHOD:PUBLISH
X-WR-CALNAME:Park Slope Civic Council
X-ORIGINAL-URL:https://parkslopeciviccouncil.org
X-WR-CALDESC:Events for Park Slope Civic Council
REFRESH-INTERVAL;VALUE=DURATION:PT1H
X-Robots-Tag:noindex
X-PUBLISHED-TTL:PT1H
BEGIN:VTIMEZONE
TZID:America/New_York
BEGIN:DAYLIGHT
TZOFFSETFROM:-0500
TZOFFSETTO:-0400
TZNAME:EDT
DTSTART:20180311T070000
END:DAYLIGHT
BEGIN:STANDARD
TZOFFSETFROM:-0400
TZOFFSETTO:-0500
TZNAME:EST
DTSTART:20181104T060000
END:STANDARD
BEGIN:DAYLIGHT
TZOFFSETFROM:-0500
TZOFFSETTO:-0400
TZNAME:EDT
DTSTART:20190310T070000
END:DAYLIGHT
BEGIN:STANDARD
TZOFFSETFROM:-0400
TZOFFSETTO:-0500
TZNAME:EST
DTSTART:20191103T060000
END:STANDARD
BEGIN:DAYLIGHT
TZOFFSETFROM:-0500
TZOFFSETTO:-0400
TZNAME:EDT
DTSTART:20200308T070000
END:DAYLIGHT
BEGIN:STANDARD
TZOFFSETFROM:-0400
TZOFFSETTO:-0500
TZNAME:EST
DTSTART:20201101T060000
END:STANDARD
END:VTIMEZONE
BEGIN:VTIMEZONE
TZID:UTC
BEGIN:STANDARD
TZOFFSETFROM:+0000
TZOFFSETTO:+0000
TZNAME:UTC
DTSTART:20180101T000000
END:STANDARD
END:VTIMEZONE
BEGIN:VEVENT
DTSTART;TZID=America/New_York:20191107T190000
DTEND;TZID=America/New_York:20191107T203000
DTSTAMP:20260425T121226
CREATED:20190609T222137Z
LAST-MODIFIED:20190609T222137Z
UID:7836-1573153200-1573158600@parkslopeciviccouncil.org
SUMMARY:Monthly Trustees' Meeting
DESCRIPTION:
URL:https://parkslopeciviccouncil.org/event/monthly-trustees-meeting-6/
LOCATION:Old Stone House\, 336 3rd St\, Brooklyn\, NY\, 11215\, United States
END:VEVENT
BEGIN:VEVENT
DTSTART;TZID=UTC:20191031T183000
DTEND;TZID=UTC:20191031T200000
DTSTAMP:20260425T121226
CREATED:20190922T203335Z
LAST-MODIFIED:20190922T203335Z
UID:7922-1572546600-1572552000@parkslopeciviccouncil.org
SUMMARY:Halloween Parade!!
DESCRIPTION:\”Mother Earth\” themed family fun event\, kicks off at 7th Ave and 14th Street at 6:30pm sharp! Ends at Old Stone House
URL:https://parkslopeciviccouncil.org/event/halloween-parade-3-2/
END:VEVENT
BEGIN:VEVENT
DTSTART;TZID=UTC:20191031T160000
DTEND;TZID=UTC:20191031T180000
DTSTAMP:20260425T121226
CREATED:20190922T202901Z
LAST-MODIFIED:20190922T202901Z
UID:7918-1572537600-1572544800@parkslopeciviccouncil.org
SUMMARY:Brooklyn Con-spook-atory of Music
DESCRIPTION:
URL:https://parkslopeciviccouncil.org/event/brooklyn-con-spook-atory-of-music/
LOCATION:Brooklyn Conservatory of Music\, 58 Seventh Avenue & Lincoln Place\, Brooklyn\, NY\, 11217
END:VEVENT
BEGIN:VEVENT
DTSTART;TZID=UTC:20191031T160000
DTEND;TZID=UTC:20191031T180000
DTSTAMP:20260425T121226
CREATED:20190922T202901Z
LAST-MODIFIED:20190922T202901Z
UID:12436-1572537600-1572544800@parkslopeciviccouncil.org
SUMMARY:Brooklyn Con-spook-atory of Music
DESCRIPTION:
URL:https://parkslopeciviccouncil.org/event/brooklyn-con-spook-atory-of-music-2/
LOCATION:Brooklyn Conservatory of Music\, 58 Seventh Avenue & Lincoln Place\, Brooklyn\, NY\, 11217
END:VEVENT
BEGIN:VEVENT
DTSTART;TZID=UTC:20191027T140000
DTEND;TZID=UTC:20191027T170000
DTSTAMP:20260425T121226
CREATED:20190922T203148Z
LAST-MODIFIED:20190922T203148Z
UID:12438-1572184800-1572195600@parkslopeciviccouncil.org
SUMMARY:Costume Contest and Mini Parade
DESCRIPTION:Old Stone House and JJ Bryne Playground \nCostume contest at 2pm-2pm\, mini parade at 3:30pm
URL:https://parkslopeciviccouncil.org/event/costume-contest-and-mini-parade-2/
LOCATION:Old Stone House\, 336 3rd St\, Brooklyn\, NY\, 11215\, United States
END:VEVENT
BEGIN:VEVENT
DTSTART;TZID=UTC:20191023T183000
DTEND;TZID=UTC:20191023T210000
DTSTAMP:20260425T121226
CREATED:20190922T202744Z
LAST-MODIFIED:20190922T202744Z
UID:9922-1571855400-1571864400@parkslopeciviccouncil.org
SUMMARY:Food for Thought Annual Fundraiser!
DESCRIPTION:Sample the best food and drink from local restaurants and help raise funds for our annual scholarships!
URL:https://parkslopeciviccouncil.org/event/food-for-thought-annual-fundraiser-2/
LOCATION:Prospect Park Picnic House\, Prospect Park West and West Dr.\, Brooklyn\, NY\, 11215\, United States
END:VEVENT
BEGIN:VEVENT
DTSTART;TZID=UTC:20191023T183000
DTEND;TZID=UTC:20191023T210000
DTSTAMP:20260425T121226
CREATED:20190922T202744Z
LAST-MODIFIED:20190922T202744Z
UID:12435-1571855400-1571864400@parkslopeciviccouncil.org
SUMMARY:Food for Thought Annual Fundraiser!
DESCRIPTION:Sample the best food and drink from local restaurants and help raise funds for our annual scholarships!
URL:https://parkslopeciviccouncil.org/event/food-for-thought-annual-fundraiser-3/
LOCATION:Prospect Park Picnic House\, Prospect Park West and West Dr.\, Brooklyn\, NY\, 11215\, United States
END:VEVENT
BEGIN:VEVENT
DTSTART;TZID=UTC:20191020T110000
DTEND;TZID=UTC:20191020T140000
DTSTAMP:20260425T121226
CREATED:20190922T202530Z
LAST-MODIFIED:20190922T202530Z
UID:7914-1571569200-1571580000@parkslopeciviccouncil.org
SUMMARY:Fall Civic Sweep!
DESCRIPTION:Join us on 5th Ave between 3rd and 4th streets in front of the Old Stone House between 11am and 2pm.
URL:https://parkslopeciviccouncil.org/event/fall-civic-sweep-4-2/
END:VEVENT
BEGIN:VEVENT
DTSTART;TZID=UTC:20191020T110000
DTEND;TZID=UTC:20191020T140000
DTSTAMP:20260425T121226
CREATED:20190922T202530Z
LAST-MODIFIED:20190922T202530Z
UID:9921-1571569200-1571580000@parkslopeciviccouncil.org
SUMMARY:Fall Civic Sweep!
DESCRIPTION:Join us on 5th Ave between 3rd and 4th streets in front of the Old Stone House between 11am and 2pm.
URL:https://parkslopeciviccouncil.org/event/fall-civic-sweep-4-3/
END:VEVENT
BEGIN:VEVENT
DTSTART;TZID=UTC:20191020T110000
DTEND;TZID=UTC:20191020T140000
DTSTAMP:20260425T121226
CREATED:20190922T202530Z
LAST-MODIFIED:20190922T202530Z
UID:12434-1571569200-1571580000@parkslopeciviccouncil.org
SUMMARY:Fall Civic Sweep!
DESCRIPTION:Join us on 5th Ave between 3rd and 4th streets in front of the Old Stone House between 11am and 2pm.
URL:https://parkslopeciviccouncil.org/event/fall-civic-sweep-4-4/
END:VEVENT
BEGIN:VEVENT
DTSTART;TZID=UTC:20191019T110000
DTEND;TZID=UTC:20191019T130000
DTSTAMP:20260425T121226
CREATED:20190922T201518Z
LAST-MODIFIED:20190922T201518Z
UID:7901-1571482800-1571490000@parkslopeciviccouncil.org
SUMMARY:Walking Tours of Gowanus Canal Consevancy's Stewardship and Education Site
DESCRIPTION:
URL:https://parkslopeciviccouncil.org/event/walking-tours-of-gowanus-canal-consevancys-stewardship-and-education-site/
END:VEVENT
BEGIN:VEVENT
DTSTART;TZID=UTC:20191019T110000
DTEND;TZID=UTC:20191019T130000
DTSTAMP:20260425T121226
CREATED:20190922T201518Z
LAST-MODIFIED:20190922T201518Z
UID:9919-1571482800-1571490000@parkslopeciviccouncil.org
SUMMARY:Walking Tours of Gowanus Canal Consevancy's Stewardship and Education Site
DESCRIPTION:
URL:https://parkslopeciviccouncil.org/event/walking-tours-of-gowanus-canal-consevancys-stewardship-and-education-site-2/
END:VEVENT
BEGIN:VEVENT
DTSTART;TZID=UTC:20191019T110000
DTEND;TZID=UTC:20191019T130000
DTSTAMP:20260425T121226
CREATED:20190922T201518Z
LAST-MODIFIED:20190922T201518Z
UID:12432-1571482800-1571490000@parkslopeciviccouncil.org
SUMMARY:Walking Tours of Gowanus Canal Consevancy\'s Stewardship and Education Site
DESCRIPTION:
URL:https://parkslopeciviccouncil.org/event/walking-tours-of-gowanus-canal-consevancys-stewardship-and-education-site-3/
END:VEVENT
BEGIN:VEVENT
DTSTART;VALUE=DATE:20191019
DTEND;VALUE=DATE:20191021
DTSTAMP:20260425T121226
CREATED:20190922T202407Z
LAST-MODIFIED:20190922T202407Z
UID:9920-1571443200-1571615999@parkslopeciviccouncil.org
SUMMARY:Annual Gowanus Open Studios
DESCRIPTION:400+ artists in the neighborhood open their studio doors!
URL:https://parkslopeciviccouncil.org/event/annual-gowanus-open-studios-2/
END:VEVENT
BEGIN:VEVENT
DTSTART;VALUE=DATE:20191019
DTEND;VALUE=DATE:20191021
DTSTAMP:20260425T121226
CREATED:20190922T202407Z
LAST-MODIFIED:20190922T202407Z
UID:12433-1571443200-1571615999@parkslopeciviccouncil.org
SUMMARY:Annual Gowanus Open Studios
DESCRIPTION:400+ artists in the neighborhood open their studio doors!
URL:https://parkslopeciviccouncil.org/event/annual-gowanus-open-studios-3/
END:VEVENT
BEGIN:VEVENT
DTSTART;VALUE=DATE:20191019
DTEND;VALUE=DATE:20191021
DTSTAMP:20260425T121226
CREATED:20190922T202407Z
LAST-MODIFIED:20190922T202407Z
UID:7911-1571443200-1571615999@parkslopeciviccouncil.org
SUMMARY:Annual Gowanus Open Studios
DESCRIPTION:400+ artists in the neighborhood open their studio doors!
URL:https://parkslopeciviccouncil.org/event/annual-gowanus-open-studios/
END:VEVENT
BEGIN:VEVENT
DTSTART;TZID=UTC:20191015T190000
DTEND;TZID=UTC:20191015T210000
DTSTAMP:20260425T121226
CREATED:20190922T201143Z
LAST-MODIFIED:20190922T201143Z
UID:12431-1571166000-1571173200@parkslopeciviccouncil.org
SUMMARY:Office Hours - A casual civic council hangout
DESCRIPTION:At the Commissioner\, 247 5th Ave. \n7:00pm
URL:https://parkslopeciviccouncil.org/event/office-hours-a-casual-civic-council-hangout-3/
LOCATION:The Commissioner\, 247 5th Avenue\, Brooklyn\, New York\, 11215
END:VEVENT
BEGIN:VEVENT
DTSTART;TZID=UTC:20191015T190000
DTEND;TZID=UTC:20191015T210000
DTSTAMP:20260425T121226
CREATED:20190922T201143Z
LAST-MODIFIED:20190922T201143Z
UID:7900-1571166000-1571173200@parkslopeciviccouncil.org
SUMMARY:Office Hours - A casual civic council hangout
DESCRIPTION:At the Commissioner\, 247 5th Ave. \n7:00pm
URL:https://parkslopeciviccouncil.org/event/office-hours-a-casual-civic-council-hangout/
LOCATION:The Commissioner\, 247 5th Avenue\, Brooklyn\, New York\, 11215
END:VEVENT
BEGIN:VEVENT
DTSTART;TZID=UTC:20191015T190000
DTEND;TZID=UTC:20191015T210000
DTSTAMP:20260425T121226
CREATED:20190922T201143Z
LAST-MODIFIED:20190922T201143Z
UID:9918-1571166000-1571173200@parkslopeciviccouncil.org
SUMMARY:Office Hours - A casual civic council hangout
DESCRIPTION:At the Commissioner\, 247 5th Ave. \n7:00pm
URL:https://parkslopeciviccouncil.org/event/office-hours-a-casual-civic-council-hangout-2/
LOCATION:The Commissioner\, 247 5th Avenue\, Brooklyn\, New York\, 11215
END:VEVENT
BEGIN:VEVENT
DTSTART;TZID=America/New_York:20191003T190000
DTEND;TZID=America/New_York:20191003T203000
DTSTAMP:20260425T121226
CREATED:20190609T222045Z
LAST-MODIFIED:20190609T222045Z
UID:7835-1570129200-1570134600@parkslopeciviccouncil.org
SUMMARY:Monthly Trustees' Meeting
DESCRIPTION:
URL:https://parkslopeciviccouncil.org/event/monthly-trustees-meeting-5-2/
LOCATION:Old Stone House\, 336 3rd St\, Brooklyn\, NY\, 11215\, United States
END:VEVENT
BEGIN:VEVENT
DTSTART;TZID=America/New_York:20191003T190000
DTEND;TZID=America/New_York:20191003T203000
DTSTAMP:20260425T121226
CREATED:20190609T222045Z
LAST-MODIFIED:20190609T222045Z
UID:9912-1570129200-1570134600@parkslopeciviccouncil.org
SUMMARY:Monthly Trustees' Meeting
DESCRIPTION:
URL:https://parkslopeciviccouncil.org/event/monthly-trustees-meeting-5-3/
LOCATION:Old Stone House\, 336 3rd St\, Brooklyn\, NY\, 11215\, United States
END:VEVENT
BEGIN:VEVENT
DTSTART;TZID=America/New_York:20191003T190000
DTEND;TZID=America/New_York:20191003T203000
DTSTAMP:20260425T121226
CREATED:20190609T222045Z
LAST-MODIFIED:20190609T222045Z
UID:12425-1570129200-1570134600@parkslopeciviccouncil.org
SUMMARY:Monthly Trustees\' Meeting
DESCRIPTION:
URL:https://parkslopeciviccouncil.org/event/monthly-trustees-meeting-5-4/
LOCATION:Old Stone House\, 336 3rd St\, Brooklyn\, NY\, 11215\, United States
END:VEVENT
BEGIN:VEVENT
DTSTART;TZID=America/New_York:20190905T190000
DTEND;TZID=America/New_York:20190905T203000
DTSTAMP:20260425T121226
CREATED:20190609T221901Z
LAST-MODIFIED:20190609T221901Z
UID:12424-1567710000-1567715400@parkslopeciviccouncil.org
SUMMARY:Season kickoff general meeting of the trustees and party. All are welcome!
DESCRIPTION:
URL:https://parkslopeciviccouncil.org/event/season-kickoff-general-meeting-of-the-trustees-and-party-all-are-welcome-3/
LOCATION:Old Stone House\, 336 3rd St\, Brooklyn\, NY\, 11215\, United States
END:VEVENT
BEGIN:VEVENT
DTSTART;TZID=America/New_York:20190905T190000
DTEND;TZID=America/New_York:20190905T203000
DTSTAMP:20260425T121226
CREATED:20190609T221901Z
LAST-MODIFIED:20190609T221901Z
UID:7834-1567710000-1567715400@parkslopeciviccouncil.org
SUMMARY:Season kickoff general meeting of the trustees and party. All are welcome!
DESCRIPTION:
URL:https://parkslopeciviccouncil.org/event/season-kickoff-general-meeting-of-the-trustees-and-party-all-are-welcome/
LOCATION:Old Stone House\, 336 3rd St\, Brooklyn\, NY\, 11215\, United States
END:VEVENT
BEGIN:VEVENT
DTSTART;TZID=America/New_York:20190905T190000
DTEND;TZID=America/New_York:20190905T203000
DTSTAMP:20260425T121226
CREATED:20190609T221901Z
LAST-MODIFIED:20190609T221901Z
UID:9911-1567710000-1567715400@parkslopeciviccouncil.org
SUMMARY:Season kickoff general meeting of the trustees and party. All are welcome!
DESCRIPTION:
URL:https://parkslopeciviccouncil.org/event/season-kickoff-general-meeting-of-the-trustees-and-party-all-are-welcome-2/
LOCATION:Old Stone House\, 336 3rd St\, Brooklyn\, NY\, 11215\, United States
END:VEVENT
BEGIN:VEVENT
DTSTART;TZID=America/New_York:20190606T183000
DTEND;TZID=America/New_York:20190606T210000
DTSTAMP:20260425T121226
CREATED:20180724T220321Z
LAST-MODIFIED:20180724T220321Z
UID:9535-1559845800-1559854800@parkslopeciviccouncil.org
SUMMARY:Annual Membership Meeting
DESCRIPTION:June Trustees’ Meeting\, Awards\, New Trustees & End-of-Season Party!\n\n\n\n\n\n\nDATE:  Thursday\, June 6th\n\n\n\n\nTIME:  6:30 PM – Please note the earlier start time to accommodate the students’ prom schedule.\n\n\n\n\nLOCATION:  Old Stone House\n\nJ.J. Byrne Playground / Washington Park\n5th Avenue between 3rd and 4th Streets\n\n\n\n\nBrooklyn\, NY 11215 \n\n\nOPEN TO: ALL!\n\n\n\n\n\n\n\n\n\n\n\n\n\n\n\n\n\n\n\n\n\n\nJoin us as we award scholarships to distinguished college-bound students\, recognize outstanding community service\, and vote in our new trustees!\n\nPresent members in good standing will vote on the nominated trustees. Annual dues must be current in order to qualify for voting privileges.\n\nThe student scholarships will be awarded toward the beginning of the meeting which will begin at 6:30PM.  The business portion of the evening\, award presentations\, trustee inductions and festivities will follow.\n\nJoin us and bring a friend or neighbor!\n\n\nThis meeting is open to the public – members and non-members are welcome to attend and join and/or renew membership!
URL:https://parkslopeciviccouncil.org/event/monthly-trustees-meeting-4-2-2-2-2-2-2/
LOCATION:Old Stone House\, 336 3rd St\, Brooklyn\, NY\, 11215\, United States
CATEGORIES:Community,Old Stone House,Trustees Meeting
END:VEVENT
BEGIN:VEVENT
DTSTART;TZID=America/New_York:20190606T183000
DTEND;TZID=America/New_York:20190606T210000
DTSTAMP:20260425T121226
CREATED:20180724T220321Z
LAST-MODIFIED:20180724T220321Z
UID:10254-1559845800-1559854800@parkslopeciviccouncil.org
SUMMARY:Annual Membership Meeting
DESCRIPTION:June Trustees’ Meeting\, Awards\, New Trustees & End-of-Season Party!\n\n\n\n\n\n\nDATE:  Thursday\, June 6th\n\n\n\n\nTIME:  6:30 PM – Please note the earlier start time to accommodate the students’ prom schedule.\n\n\n\n\nLOCATION:  Old Stone House\n\nJ.J. Byrne Playground / Washington Park\n5th Avenue between 3rd and 4th Streets\n\n\n\n\nBrooklyn\, NY 11215 \n\n\nOPEN TO: ALL!\n\n\n\n\n\n\n\n\n\n\n\n\n\n\n\n\n\n\n\n\n\n\nJoin us as we award scholarships to distinguished college-bound students\, recognize outstanding community service\, and vote in our new trustees!\n\nPresent members in good standing will vote on the nominated trustees. Annual dues must be current in order to qualify for voting privileges.\n\nThe student scholarships will be awarded toward the beginning of the meeting which will begin at 6:30PM.  The business portion of the evening\, award presentations\, trustee inductions and festivities will follow.\n\nJoin us and bring a friend or neighbor!\n\n\nThis meeting is open to the public – members and non-members are welcome to attend and join and/or renew membership!
URL:https://parkslopeciviccouncil.org/event/monthly-trustees-meeting-4-2-2-2-2-2-4/
LOCATION:Old Stone House\, 336 3rd St\, Brooklyn\, NY\, 11215\, United States
CATEGORIES:Community,Old Stone House,Trustees Meeting
END:VEVENT
BEGIN:VEVENT
DTSTART;TZID=America/New_York:20190606T183000
DTEND;TZID=America/New_York:20190606T210000
DTSTAMP:20260425T121226
CREATED:20180724T220321Z
LAST-MODIFIED:20180724T220321Z
UID:10922-1559845800-1559854800@parkslopeciviccouncil.org
SUMMARY:Annual Membership Meeting
DESCRIPTION:June Trustees’ Meeting\, Awards\, New Trustees & End-of-Season Party!\n\n\n\n\n\n\nDATE:  Thursday\, June 6th\n\n\n\n\nTIME:  6:30 PM – Please note the earlier start time to accommodate the students’ prom schedule.\n\n\n\n\nLOCATION:  Old Stone House\n\nJ.J. Byrne Playground / Washington Park\n5th Avenue between 3rd and 4th Streets\n\n\n\n\nBrooklyn\, NY 11215 \n\n\nOPEN TO: ALL!\n\n\n\n\n\n\n\n\n\n\n\n\n\n\n\n\n\n\n\n\n\n\nJoin us as we award scholarships to distinguished college-bound students\, recognize outstanding community service\, and vote in our new trustees!\n\nPresent members in good standing will vote on the nominated trustees. Annual dues must be current in order to qualify for voting privileges.\n\nThe student scholarships will be awarded toward the beginning of the meeting which will begin at 6:30PM.  The business portion of the evening\, award presentations\, trustee inductions and festivities will follow.\n\nJoin us and bring a friend or neighbor!\n\n\nThis meeting is open to the public – members and non-members are welcome to attend and join and/or renew membership!
URL:https://parkslopeciviccouncil.org/event/monthly-trustees-meeting-4-2-2-2-2-2-5/
LOCATION:Old Stone House\, 336 3rd St\, Brooklyn\, NY\, 11215\, United States
CATEGORIES:Community,Old Stone House,Trustees Meeting
END:VEVENT
BEGIN:VEVENT
DTSTART;TZID=America/New_York:20190606T183000
DTEND;TZID=America/New_York:20190606T210000
DTSTAMP:20260425T121226
CREATED:20180724T220321Z
LAST-MODIFIED:20180724T220321Z
UID:9894-1559845800-1559854800@parkslopeciviccouncil.org
SUMMARY:Annual Membership Meeting
DESCRIPTION:June Trustees’ Meeting\, Awards\, New Trustees & End-of-Season Party!\n\n\n\n\n\n\nDATE:  Thursday\, June 6th\n\n\n\n\nTIME:  6:30 PM – Please note the earlier start time to accommodate the students’ prom schedule.\n\n\n\n\nLOCATION:  Old Stone House\n\nJ.J. Byrne Playground / Washington Park\n5th Avenue between 3rd and 4th Streets\n\n\n\n\nBrooklyn\, NY 11215 \n\n\nOPEN TO: ALL!\n\n\n\n\n\n\n\n\n\n\n\n\n\n\n\n\n\n\n\n\n\n\nJoin us as we award scholarships to distinguished college-bound students\, recognize outstanding community service\, and vote in our new trustees!\n\nPresent members in good standing will vote on the nominated trustees. Annual dues must be current in order to qualify for voting privileges.\n\nThe student scholarships will be awarded toward the beginning of the meeting which will begin at 6:30PM.  The business portion of the evening\, award presentations\, trustee inductions and festivities will follow.\n\nJoin us and bring a friend or neighbor!\n\n\nThis meeting is open to the public – members and non-members are welcome to attend and join and/or renew membership!
URL:https://parkslopeciviccouncil.org/event/monthly-trustees-meeting-4-2-2-2-2-2-3/
LOCATION:Old Stone House\, 336 3rd St\, Brooklyn\, NY\, 11215\, United States
CATEGORIES:Community,Old Stone House,Trustees Meeting
END:VEVENT
BEGIN:VEVENT
DTSTART;TZID=America/New_York:20190606T183000
DTEND;TZID=America/New_York:20190606T210000
DTSTAMP:20260425T121226
CREATED:20180724T220321Z
LAST-MODIFIED:20180724T220321Z
UID:12407-1559845800-1559854800@parkslopeciviccouncil.org
SUMMARY:Annual Membership Meeting
DESCRIPTION:June Trustees\’ Meeting\, Awards\, New Trustees & End-of-Season Party!\n\n\n\n\n\n\nDATE:  Thursday\, June 6th\n\n\n\n\nTIME:  6:30 PM – Please note the earlier start time to accommodate the students\’ prom schedule.\n\n\n\n\nLOCATION:  Old Stone House\n\nJ.J. Byrne Playground / Washington Park\n5th Avenue between 3rd and 4th Streets\n\n\n\n\nBrooklyn\, NY 11215 \n\n\nOPEN TO: ALL!\n\n\n\n\n\n\n\n\n\n\n\n\n\n\n\n\n\n\n\n\n\n\nJoin us as we award scholarships to distinguished college-bound students\, recognize outstanding community service\, and vote in our new trustees!\n\nPresent members in good standing will vote on the nominated trustees. Annual dues must be current in order to qualify for voting privileges.\n\nThe student scholarships will be awarded toward the beginning of the meeting which will begin at 6:30PM.  The business portion of the evening\, award presentations\, trustee inductions and festivities will follow.\n\nJoin us and bring a friend or neighbor!\n\n\nThis meeting is open to the public – members and non-members are welcome to attend and join and/or renew membership!
URL:https://parkslopeciviccouncil.org/event/monthly-trustees-meeting-4-2-2-2-2-2-6/
LOCATION:Old Stone House\, 336 3rd St\, Brooklyn\, NY\, 11215\, United States
CATEGORIES:Community,Old Stone House,Trustees Meeting
END:VEVENT
END:VCALENDAR