BEGIN:VCALENDAR
VERSION:2.0
PRODID:-//Park Slope Civic Council - ECPv6.15.20//NONSGML v1.0//EN
CALSCALE:GREGORIAN
METHOD:PUBLISH
X-ORIGINAL-URL:https://parkslopeciviccouncil.org
X-WR-CALDESC:Events for Park Slope Civic Council
REFRESH-INTERVAL;VALUE=DURATION:PT1H
X-Robots-Tag:noindex
X-PUBLISHED-TTL:PT1H
BEGIN:VTIMEZONE
TZID:America/New_York
BEGIN:DAYLIGHT
TZOFFSETFROM:-0500
TZOFFSETTO:-0400
TZNAME:EDT
DTSTART:20220313T070000
END:DAYLIGHT
BEGIN:STANDARD
TZOFFSETFROM:-0400
TZOFFSETTO:-0500
TZNAME:EST
DTSTART:20221106T060000
END:STANDARD
BEGIN:DAYLIGHT
TZOFFSETFROM:-0500
TZOFFSETTO:-0400
TZNAME:EDT
DTSTART:20230312T070000
END:DAYLIGHT
BEGIN:STANDARD
TZOFFSETFROM:-0400
TZOFFSETTO:-0500
TZNAME:EST
DTSTART:20231105T060000
END:STANDARD
BEGIN:DAYLIGHT
TZOFFSETFROM:-0500
TZOFFSETTO:-0400
TZNAME:EDT
DTSTART:20240310T070000
END:DAYLIGHT
BEGIN:STANDARD
TZOFFSETFROM:-0400
TZOFFSETTO:-0500
TZNAME:EST
DTSTART:20241103T060000
END:STANDARD
BEGIN:DAYLIGHT
TZOFFSETFROM:-0500
TZOFFSETTO:-0400
TZNAME:EDT
DTSTART:20250309T070000
END:DAYLIGHT
BEGIN:STANDARD
TZOFFSETFROM:-0400
TZOFFSETTO:-0500
TZNAME:EST
DTSTART:20251102T060000
END:STANDARD
BEGIN:DAYLIGHT
TZOFFSETFROM:-0500
TZOFFSETTO:-0400
TZNAME:EDT
DTSTART:20260308T070000
END:DAYLIGHT
BEGIN:STANDARD
TZOFFSETFROM:-0400
TZOFFSETTO:-0500
TZNAME:EST
DTSTART:20261101T060000
END:STANDARD
END:VTIMEZONE
BEGIN:VTIMEZONE
TZID:UTC
BEGIN:STANDARD
TZOFFSETFROM:+0000
TZOFFSETTO:+0000
TZNAME:UTC
DTSTART:20220101T000000
END:STANDARD
END:VTIMEZONE
BEGIN:VEVENT
DTSTART;TZID=America/New_York:20250206T190000
DTEND;TZID=America/New_York:20250206T203000
DTSTAMP:20260423T041916
CREATED:20240814T003336Z
LAST-MODIFIED:20250124T141221Z
UID:14604-1738868400-1738873800@parkslopeciviccouncil.org
SUMMARY:Monthly Meeting
DESCRIPTION:on Zoom
URL:https://parkslopeciviccouncil.org/event/monthly-meeting-16/
LOCATION:Old Stone House\, 336 3rd St\, Brooklyn\, NY\, 11215\, United States
END:VEVENT
BEGIN:VEVENT
DTSTART;TZID=America/New_York:20250125T130000
DTEND;TZID=America/New_York:20250125T160000
DTSTAMP:20260423T041916
CREATED:20250109T195924Z
LAST-MODIFIED:20250109T200009Z
UID:15040-1737810000-1737820800@parkslopeciviccouncil.org
SUMMARY:Flooding Solutions Fair
DESCRIPTION:Free event to learn about flooding solutions
URL:https://parkslopeciviccouncil.org/event/15040/
LOCATION:Van Alen Institue\, 303 Bond St\, Brooklyn\, New York\, 11231\, United States
END:VEVENT
BEGIN:VEVENT
DTSTART;TZID=America/New_York:20250111T100000
DTEND;TZID=America/New_York:20250111T140000
DTSTAMP:20260423T041916
CREATED:20241121T012000Z
LAST-MODIFIED:20250103T154227Z
UID:14936-1736589600-1736604000@parkslopeciviccouncil.org
SUMMARY:Mulchfest
DESCRIPTION:Bring your Christmas Trees & Wreaths and watch them get turned into mulch. \n\n\n\nSign up to volunteer here: https://docs.google.com/forms/d/1jhnOzaYUw8WZuhDc71G45EMomcTe0GxLJibmQ7MsUO4/edit
URL:https://parkslopeciviccouncil.org/event/mulchfest-10/
LOCATION:Prospect Park\, Brooklyn\, NY\, United States
END:VEVENT
BEGIN:VEVENT
DTSTART;TZID=America/New_York:20250109T190000
DTEND;TZID=America/New_York:20250109T203000
DTSTAMP:20260423T041916
CREATED:20241206T191248Z
LAST-MODIFIED:20250103T141531Z
UID:14986-1736449200-1736454600@parkslopeciviccouncil.org
SUMMARY:Monthly Meeting
DESCRIPTION:In person at New York Presbyterian Brooklyn Methodist Hospital\, 506 6th Street in the Carrington Conference Room\, and on Zoom
URL:https://parkslopeciviccouncil.org/event/14986/
LOCATION:NY
END:VEVENT
BEGIN:VEVENT
DTSTART;TZID=America/New_York:20241212T190000
DTEND;TZID=America/New_York:20241212T210000
DTSTAMP:20260423T041916
CREATED:20240930T224544Z
LAST-MODIFIED:20241130T191757Z
UID:14795-1734030000-1734037200@parkslopeciviccouncil.org
SUMMARY:Architecture Seminar
DESCRIPTION:Walking Tour and Lecture\n\n\n\n\nLink: https://parkslopeciviccouncil.org/walking-tour-and-lecture/Buy tickets: https://bit.ly/40fKJB9 \n\n\n\nSOLD OUT! Email walkingtours@parkslopeciviccouncil.org to be put on the wait list.
URL:https://parkslopeciviccouncil.org/event/14795/
LOCATION:The Montauk Club\, 25 8th Avenue\, Brooklyn\, New York\, 11217
END:VEVENT
BEGIN:VEVENT
DTSTART;TZID=America/New_York:20241205T190000
DTEND;TZID=America/New_York:20241205T203000
DTSTAMP:20260423T041916
CREATED:20240729T205036Z
LAST-MODIFIED:20241001T013810Z
UID:14594-1733425200-1733430600@parkslopeciviccouncil.org
SUMMARY:Monthly Meeting
DESCRIPTION:
URL:https://parkslopeciviccouncil.org/event/monthly-meeting-14/
LOCATION:Old Stone House\, 336 3rd St\, Brooklyn\, NY\, 11215\, United States
END:VEVENT
BEGIN:VEVENT
DTSTART;TZID=America/New_York:20241116T100000
DTEND;TZID=America/New_York:20241116T140000
DTSTAMP:20260423T041916
CREATED:20240722T212959Z
LAST-MODIFIED:20241105T003545Z
UID:14588-1731751200-1731765600@parkslopeciviccouncil.org
SUMMARY:Fall Civic Sweep
DESCRIPTION:With e-recycling
URL:https://parkslopeciviccouncil.org/event/fall-civic-sweep-10/
LOCATION:In Front of the Old Stone House and J.J. Byrne Playground\, In Front of Old Stone House/J.J. Byrne Park\, 5th Avenue between 3rd and 4th Streets\, Brooklyn\, NY\, 11215\, United States
CATEGORIES:Civic Sweep
END:VEVENT
BEGIN:VEVENT
DTSTART;TZID=America/New_York:20241110T130000
DTEND;TZID=America/New_York:20241110T143000
DTSTAMP:20260423T041916
CREATED:20241014T191607Z
LAST-MODIFIED:20241017T125526Z
UID:14870-1731243600-1731249000@parkslopeciviccouncil.org
SUMMARY:Walking Tour
DESCRIPTION:Walking tour focusing on Park Slope History\, led by Francis Morrone\, an American architectural historian and writer.  \n\n\n\nBuy your tickets here.
URL:https://parkslopeciviccouncil.org/event/14870/
LOCATION:NY
END:VEVENT
BEGIN:VEVENT
DTSTART;TZID=America/New_York:20241107T190000
DTEND;TZID=America/New_York:20241107T203000
DTSTAMP:20260423T041916
CREATED:20240729T204903Z
LAST-MODIFIED:20241001T013803Z
UID:14592-1731006000-1731011400@parkslopeciviccouncil.org
SUMMARY:Monthly Meeting
DESCRIPTION:
URL:https://parkslopeciviccouncil.org/event/monthly-meeting-13/
LOCATION:Old Stone House\, 336 3rd St\, Brooklyn\, NY\, 11215\, United States
END:VEVENT
BEGIN:VEVENT
DTSTART;TZID=America/New_York:20241031T183000
DTEND;TZID=America/New_York:20241031T200000
DTSTAMP:20260423T041916
CREATED:20240708T171555Z
LAST-MODIFIED:20241022T001556Z
UID:14501-1730399400-1730404800@parkslopeciviccouncil.org
SUMMARY:Annual Halloween Parade
DESCRIPTION:
URL:https://parkslopeciviccouncil.org/event/annual-halloween-parade-7/
LOCATION:NY
CATEGORIES:Halloween Parade
END:VEVENT
BEGIN:VEVENT
DTSTART;TZID=America/New_York:20241016T180000
DTEND;TZID=America/New_York:20241016T210000
DTSTAMP:20260423T041916
CREATED:20240620T225857Z
LAST-MODIFIED:20241009T203801Z
UID:14392-1729101600-1729112400@parkslopeciviccouncil.org
SUMMARY:Food For Thought
DESCRIPTION:Food For Thought:  Tickets on Sale Now!\n\n\n\n\nLink: https://parkslopeciviccouncil.org/food-for-thought-save-the-date/Tickets: https://interland3.donorperfect.net/weblink/weblink.aspx?name=parkslopecc&id=17
URL:https://parkslopeciviccouncil.org/event/food-for-thought-2024/
LOCATION:Prospect Park Picnic House\, Prospect Park West and West Dr.\, Brooklyn\, NY\, 11215\, United States
END:VEVENT
BEGIN:VEVENT
DTSTART;TZID=America/New_York:20241010T190000
DTEND;TZID=America/New_York:20241010T203000
DTSTAMP:20260423T041916
CREATED:20240729T204738Z
LAST-MODIFIED:20241001T012933Z
UID:14590-1728586800-1728592200@parkslopeciviccouncil.org
SUMMARY:Monthly Meeting
DESCRIPTION:
URL:https://parkslopeciviccouncil.org/event/monthly-meeting-12/
LOCATION:Carrington Pavilion\, New York Presbyterian Hospital
END:VEVENT
BEGIN:VEVENT
DTSTART;TZID=UTC:20240912T190000
DTEND;TZID=UTC:20240912T203000
DTSTAMP:20260423T041916
CREATED:20240620T225656Z
LAST-MODIFIED:20240620T225656Z
UID:14390-1726167600-1726173000@parkslopeciviccouncil.org
SUMMARY:Monthly Meeting
DESCRIPTION:Join us for the first meeting of the fall.
URL:https://parkslopeciviccouncil.org/event/monthly-meeting-11/
LOCATION:Old Stone House\, 336 3rd St\, Brooklyn\, NY\, 11215\, United States
END:VEVENT
BEGIN:VEVENT
DTSTART;TZID=UTC:20240606T190000
DTEND;TZID=UTC:20240606T203000
DTSTAMP:20260423T041916
CREATED:20230804T173447Z
LAST-MODIFIED:20240222T055615Z
UID:13922-1717700400-1717705800@parkslopeciviccouncil.org
SUMMARY:Annual Meeting and Potluck
DESCRIPTION:
URL:https://parkslopeciviccouncil.org/event/annual-meeting-and-potluck/
LOCATION:Old Stone House\, 336 3rd St\, Brooklyn\, NY\, 11215\, United States
END:VEVENT
BEGIN:VEVENT
DTSTART;TZID=UTC:20240602T100000
DTEND;TZID=UTC:20240602T163000
DTSTAMP:20260423T041916
CREATED:20240328T082110Z
LAST-MODIFIED:20240505T205106Z
UID:14150-1717322400-1717345800@parkslopeciviccouncil.org
SUMMARY:Sustainability House Tour
DESCRIPTION:The annual House Tour is back! This year\, with a sustainability focus.\n\n\n\nBuy Tickets
URL:https://parkslopeciviccouncil.org/event/sustainability-house-tour/
LOCATION:Park Slope
CATEGORIES:House Tour
END:VEVENT
BEGIN:VEVENT
DTSTART;TZID=UTC:20240502T190000
DTEND;TZID=UTC:20240502T203000
DTSTAMP:20260423T041916
CREATED:20230804T173404Z
LAST-MODIFIED:20230804T173404Z
UID:13920-1714676400-1714681800@parkslopeciviccouncil.org
SUMMARY:Monthly Meeting
DESCRIPTION:
URL:https://parkslopeciviccouncil.org/event/monthly-meeting-8/
LOCATION:Old Stone House\, 336 3rd St\, Brooklyn\, NY\, 11215\, United States
END:VEVENT
BEGIN:VEVENT
DTSTART;TZID=UTC:20240414T100000
DTEND;TZID=UTC:20240414T140000
DTSTAMP:20260423T041916
CREATED:20240329T000730Z
LAST-MODIFIED:20240329T000730Z
UID:14148-1713088800-1713103200@parkslopeciviccouncil.org
SUMMARY:Civic Sweep
DESCRIPTION:Neighborhood Clean up! \nClick here to volunteer: https://docs.google.com/forms/d/1k2h66gqJpNOFq0eGpRSmKbHs8dZc4XFI5p65s_UYIG0/edit#responses
URL:https://parkslopeciviccouncil.org/event/civic-sweep-7/
LOCATION:Old Stone House and Washington Square Park\, 4th Avenue and 3rd Street\, Park Slope\, Brooklyn\, 11215
END:VEVENT
BEGIN:VEVENT
DTSTART;TZID=UTC:20240406T130000
DTEND;TZID=UTC:20240406T143000
DTSTAMP:20260423T041916
CREATED:20240329T000511Z
LAST-MODIFIED:20240329T000511Z
UID:14146-1712408400-1712413800@parkslopeciviccouncil.org
SUMMARY:Walking Tour
DESCRIPTION:SOLD OUT! \nWalking Tour of the Hidden Rivers of Park Slope
URL:https://parkslopeciviccouncil.org/event/walking-tour/
LOCATION:NY
END:VEVENT
BEGIN:VEVENT
DTSTART;TZID=UTC:20240404T190000
DTEND;TZID=UTC:20240404T203000
DTSTAMP:20260423T041916
CREATED:20230804T173345Z
LAST-MODIFIED:20230804T173345Z
UID:13918-1712257200-1712262600@parkslopeciviccouncil.org
SUMMARY:Monthly Meeting
DESCRIPTION:
URL:https://parkslopeciviccouncil.org/event/monthly-meeting-7/
LOCATION:Old Stone House\, 336 3rd St\, Brooklyn\, NY\, 11215\, United States
END:VEVENT
BEGIN:VEVENT
DTSTART;TZID=UTC:20240307T190000
DTEND;TZID=UTC:20240307T203000
DTSTAMP:20260423T041916
CREATED:20230804T173324Z
LAST-MODIFIED:20240227T055204Z
UID:13916-1709838000-1709843400@parkslopeciviccouncil.org
SUMMARY:Monthly Meeting
DESCRIPTION:
URL:https://parkslopeciviccouncil.org/event/monthly-meeting-6/
LOCATION:Zoom
END:VEVENT
BEGIN:VEVENT
DTSTART;TZID=UTC:20240201T190000
DTEND;TZID=UTC:20240201T203000
DTSTAMP:20260423T041916
CREATED:20230804T173304Z
LAST-MODIFIED:20240115T224925Z
UID:13914-1706814000-1706819400@parkslopeciviccouncil.org
SUMMARY:Monthly Meeting on Zoom
DESCRIPTION:
URL:https://parkslopeciviccouncil.org/event/monthly-meeting-5/
LOCATION:NY
END:VEVENT
BEGIN:VEVENT
DTSTART;TZID=UTC:20240106T100000
DTEND;TZID=UTC:20240106T140000
DTSTAMP:20260423T041916
CREATED:20231218T192757Z
LAST-MODIFIED:20231218T192757Z
UID:14073-1704535200-1704549600@parkslopeciviccouncil.org
SUMMARY:Mulchfest 2024
DESCRIPTION:Help us turn Xmas trees into mulch
URL:https://parkslopeciviccouncil.org/event/mulchfest-2024/
LOCATION:3rd Street Entrance to Prospect Park\, 3rd Street\, Brooklyn\, NY\, 11215
END:VEVENT
BEGIN:VEVENT
DTSTART;TZID=UTC:20240104T190000
DTEND;TZID=UTC:20240104T203000
DTSTAMP:20260423T041916
CREATED:20230804T173238Z
LAST-MODIFIED:20231218T192449Z
UID:13912-1704394800-1704400200@parkslopeciviccouncil.org
SUMMARY:Monthly Meeting
DESCRIPTION:On Zoom
URL:https://parkslopeciviccouncil.org/event/monthly-meeting-4/
LOCATION:Old Stone House\, 336 3rd St\, Brooklyn\, NY\, 11215\, United States
END:VEVENT
BEGIN:VEVENT
DTSTART;TZID=UTC:20231207T190000
DTEND;TZID=UTC:20231207T203000
DTSTAMP:20260423T041916
CREATED:20230804T173213Z
LAST-MODIFIED:20231204T193608Z
UID:13910-1701975600-1701981000@parkslopeciviccouncil.org
SUMMARY:Monthly Meeting and Holiday Pot Luck
DESCRIPTION:
URL:https://parkslopeciviccouncil.org/event/monthly-meeting-3/
LOCATION:Old Stone House\, 336 3rd St\, Brooklyn\, NY\, 11215\, United States
END:VEVENT
BEGIN:VEVENT
DTSTART;TZID=UTC:20231112T100000
DTEND;TZID=UTC:20231112T140000
DTSTAMP:20260423T041916
CREATED:20230804T172906Z
LAST-MODIFIED:20230908T193738Z
UID:13903-1699783200-1699797600@parkslopeciviccouncil.org
SUMMARY:Civic Sweep
DESCRIPTION:
URL:https://parkslopeciviccouncil.org/event/civic-sweep-6/
LOCATION:Old Stone House and Washington Square Park\, 4th Avenue and 3rd Street\, Park Slope\, Brooklyn\, 11215
END:VEVENT
BEGIN:VEVENT
DTSTART;TZID=UTC:20231102T190000
DTEND;TZID=UTC:20231102T203000
DTSTAMP:20260423T041916
CREATED:20230804T173043Z
LAST-MODIFIED:20230804T173131Z
UID:13907-1698951600-1698957000@parkslopeciviccouncil.org
SUMMARY:Monthly Meeting
DESCRIPTION:
URL:https://parkslopeciviccouncil.org/event/monthly-meeting6/
LOCATION:Old Stone House\, 336 3rd St\, Brooklyn\, NY\, 11215\, United States
END:VEVENT
BEGIN:VEVENT
DTSTART;TZID=UTC:20231018T180000
DTEND;TZID=UTC:20231018T210000
DTSTAMP:20260423T041916
CREATED:20230804T172707Z
LAST-MODIFIED:20231015T181905Z
UID:13901-1697652000-1697662800@parkslopeciviccouncil.org
SUMMARY:Food for Thought
DESCRIPTION:
URL:https://parkslopeciviccouncil.org/event/food-for-thought-9/
LOCATION:Prospect Park Picnic House\, Prospect Park West and West Dr.\, Brooklyn\, NY\, 11215\, United States
END:VEVENT
BEGIN:VEVENT
DTSTART;TZID=UTC:20231005T190000
DTEND;TZID=UTC:20231005T203000
DTSTAMP:20260423T041916
CREATED:20230804T172954Z
LAST-MODIFIED:20230804T172954Z
UID:13905-1696532400-1696537800@parkslopeciviccouncil.org
SUMMARY:Monthly Meeting
DESCRIPTION:
URL:https://parkslopeciviccouncil.org/event/monthly-meeting-2/
LOCATION:Old Stone House\, 336 3rd St\, Brooklyn\, NY\, 11215\, United States
END:VEVENT
BEGIN:VEVENT
DTSTART;TZID=UTC:20230914T190000
DTEND;TZID=UTC:20230914T203000
DTSTAMP:20260423T041916
CREATED:20230714T164334Z
LAST-MODIFIED:20230714T164544Z
UID:13884-1694718000-1694723400@parkslopeciviccouncil.org
SUMMARY:Monthly Meeting
DESCRIPTION:
URL:https://parkslopeciviccouncil.org/event/monthly-meeting/
LOCATION:Old Stone House\, 336 3rd St\, Brooklyn\, NY\, 11215\, United States
END:VEVENT
BEGIN:VEVENT
DTSTART;TZID=America/New_York:20230608T190000
DTEND;TZID=America/New_York:20230608T210000
DTSTAMP:20260423T041916
CREATED:20220908T194230Z
LAST-MODIFIED:20230526T203335Z
UID:12487-1686250800-1686258000@parkslopeciviccouncil.org
SUMMARY:Annual Meeting
DESCRIPTION:
URL:https://parkslopeciviccouncil.org/event/annual-meeting/
LOCATION:NY
END:VEVENT
END:VCALENDAR