BEGIN:VCALENDAR
VERSION:2.0
PRODID:-//Park Slope Civic Council - ECPv6.15.20//NONSGML v1.0//EN
CALSCALE:GREGORIAN
METHOD:PUBLISH
X-WR-CALNAME:Park Slope Civic Council
X-ORIGINAL-URL:https://parkslopeciviccouncil.org
X-WR-CALDESC:Events for Park Slope Civic Council
REFRESH-INTERVAL;VALUE=DURATION:PT1H
X-Robots-Tag:noindex
X-PUBLISHED-TTL:PT1H
BEGIN:VTIMEZONE
TZID:America/New_York
BEGIN:DAYLIGHT
TZOFFSETFROM:-0500
TZOFFSETTO:-0400
TZNAME:EDT
DTSTART:20170312T070000
END:DAYLIGHT
BEGIN:STANDARD
TZOFFSETFROM:-0400
TZOFFSETTO:-0500
TZNAME:EST
DTSTART:20171105T060000
END:STANDARD
BEGIN:DAYLIGHT
TZOFFSETFROM:-0500
TZOFFSETTO:-0400
TZNAME:EDT
DTSTART:20180311T070000
END:DAYLIGHT
BEGIN:STANDARD
TZOFFSETFROM:-0400
TZOFFSETTO:-0500
TZNAME:EST
DTSTART:20181104T060000
END:STANDARD
BEGIN:DAYLIGHT
TZOFFSETFROM:-0500
TZOFFSETTO:-0400
TZNAME:EDT
DTSTART:20190310T070000
END:DAYLIGHT
BEGIN:STANDARD
TZOFFSETFROM:-0400
TZOFFSETTO:-0500
TZNAME:EST
DTSTART:20191103T060000
END:STANDARD
END:VTIMEZONE
BEGIN:VEVENT
DTSTART;TZID=America/New_York:20181028T100000
DTEND;TZID=America/New_York:20181028T140000
DTSTAMP:20260425T103332
CREATED:20180724T215003Z
LAST-MODIFIED:20180724T215003Z
UID:9884-1540720800-1540735200@parkslopeciviccouncil.org
SUMMARY:Fall 2018 Civic Sweep
DESCRIPTION:Sunday\, October 28– Fall Civic Sweep   \nJoin the Park Slope Civic Council’s Sustainability Committee at its annual fall beautification\, recycling and clean-up event \nFall Civic Sweep on Sunday\, October 28\, free and open to all. \nPut on your old clothes and come to the sidewalk in front of Old Stone House/J.J. Byrne Park\, 5th Avenue between 3rd and 4th Streets from 10 am to 2 pm (rain or shine) to join other volunteers in sweeping up litter and painting out graffiti on lamp posts and mailboxes. The result will be a cleaner and more beautiful community for all who live\, work\, visit and do business here. \nWe’ll serve refreshments and provide all tools and supplies. \nCommunity Service vouchers will be available. \nQuestions? sustainability@parkslopeciviccouncil.org. \nSee you there!
URL:https://parkslopeciviccouncil.org/event/fall-2018-civic-sweep-3/
LOCATION:In Front of the Old Stone House and J.J. Byrne Playground\, In Front of Old Stone House/J.J. Byrne Park\, 5th Avenue between 3rd and 4th Streets\, Brooklyn\, NY\, 11215\, United States
CATEGORIES:Civic Sweep,Old Stone House,Sustainability
ATTACH;FMTTYPE=image/jpeg:https://parkslopeciviccouncil.org/wp-content/uploads/2017/09/Fall-Civic-Sweep-2017.jpg
END:VEVENT
BEGIN:VEVENT
DTSTART;TZID=America/New_York:20181023T190000
DTEND;TZID=America/New_York:20181023T210000
DTSTAMP:20260425T103332
CREATED:20180326T222744Z
LAST-MODIFIED:20180326T222744Z
UID:12383-1540321200-1540328400@parkslopeciviccouncil.org
SUMMARY:Office Hours at The Commissioner
DESCRIPTION:Please join us for Office Hours at The Commissioner! Office Hours is an informal gathering of PSCC trustees\, members\, and neighbors. It’s a great time to meet your neighbors and make new friends.
URL:https://parkslopeciviccouncil.org/event/office-hours-at-the-commissioner-2-2-2-8/
LOCATION:The Commissioner\, 247 5th Avenue\, Brooklyn\, New York\, 11215
CATEGORIES:Community,Local business,Office Hours,Outreach
ORGANIZER;CN="Park Slope Civic Council":MAILTO:membership@parkslopecouncil.org
END:VEVENT
BEGIN:VEVENT
DTSTART;TZID=America/New_York:20181023T190000
DTEND;TZID=America/New_York:20181023T210000
DTSTAMP:20260425T103332
CREATED:20180326T222744Z
LAST-MODIFIED:20180326T222744Z
UID:10899-1540321200-1540328400@parkslopeciviccouncil.org
SUMMARY:Office Hours at The Commissioner
DESCRIPTION:Please join us for Office Hours at The Commissioner! Office Hours is an informal gathering of PSCC trustees\, members\, and neighbors. It’s a great time to meet your neighbors and make new friends.
URL:https://parkslopeciviccouncil.org/event/office-hours-at-the-commissioner-2-2-2-7/
LOCATION:The Commissioner\, 247 5th Avenue\, Brooklyn\, New York\, 11215
CATEGORIES:Community,Local business,Office Hours,Outreach
ORGANIZER;CN="Park Slope Civic Council":MAILTO:membership@parkslopecouncil.org
END:VEVENT
BEGIN:VEVENT
DTSTART;TZID=America/New_York:20181023T190000
DTEND;TZID=America/New_York:20181023T210000
DTSTAMP:20260425T103332
CREATED:20180326T222744Z
LAST-MODIFIED:20180326T222744Z
UID:9512-1540321200-1540328400@parkslopeciviccouncil.org
SUMMARY:Office Hours at The Commissioner
DESCRIPTION:Please join us for Office Hours at The Commissioner! Office Hours is an informal gathering of PSCC trustees\, members\, and neighbors. It’s a great time to meet your neighbors and make new friends.
URL:https://parkslopeciviccouncil.org/event/office-hours-at-the-commissioner-2-2-2-3/
LOCATION:The Commissioner\, 247 5th Avenue\, Brooklyn\, New York\, 11215
CATEGORIES:Community,Local business,Office Hours,Outreach
ORGANIZER;CN="Park Slope Civic Council":MAILTO:membership@parkslopecouncil.org
END:VEVENT
BEGIN:VEVENT
DTSTART;TZID=America/New_York:20181023T190000
DTEND;TZID=America/New_York:20181023T210000
DTSTAMP:20260425T103332
CREATED:20180326T222744Z
LAST-MODIFIED:20180326T222744Z
UID:10231-1540321200-1540328400@parkslopeciviccouncil.org
SUMMARY:Office Hours at The Commissioner
DESCRIPTION:Please join us for Office Hours at The Commissioner! Office Hours is an informal gathering of PSCC trustees\, members\, and neighbors. It’s a great time to meet your neighbors and make new friends.
URL:https://parkslopeciviccouncil.org/event/office-hours-at-the-commissioner-2-2-2-5/
LOCATION:The Commissioner\, 247 5th Avenue\, Brooklyn\, New York\, 11215
CATEGORIES:Community,Local business,Office Hours,Outreach
ORGANIZER;CN="Park Slope Civic Council":MAILTO:membership@parkslopecouncil.org
END:VEVENT
BEGIN:VEVENT
DTSTART;TZID=America/New_York:20181023T190000
DTEND;TZID=America/New_York:20181023T210000
DTSTAMP:20260425T103332
CREATED:20180326T222744Z
LAST-MODIFIED:20180326T222744Z
UID:9871-1540321200-1540328400@parkslopeciviccouncil.org
SUMMARY:Office Hours at The Commissioner
DESCRIPTION:Please join us for Office Hours at The Commissioner! Office Hours is an informal gathering of PSCC trustees\, members\, and neighbors. It’s a great time to meet your neighbors and make new friends.
URL:https://parkslopeciviccouncil.org/event/office-hours-at-the-commissioner-2-2-2-4/
LOCATION:The Commissioner\, 247 5th Avenue\, Brooklyn\, New York\, 11215
CATEGORIES:Community,Local business,Office Hours,Outreach
ORGANIZER;CN="Park Slope Civic Council":MAILTO:membership@parkslopecouncil.org
END:VEVENT
BEGIN:VEVENT
DTSTART;TZID=America/New_York:20181023T190000
DTEND;TZID=America/New_York:20181023T210000
DTSTAMP:20260425T103332
CREATED:20180326T222744Z
LAST-MODIFIED:20180326T222744Z
UID:10579-1540321200-1540328400@parkslopeciviccouncil.org
SUMMARY:Office Hours at The Commissioner
DESCRIPTION:Please join us for Office Hours at The Commissioner! Office Hours is an informal gathering of PSCC trustees\, members\, and neighbors. It’s a great time to meet your neighbors and make new friends.
URL:https://parkslopeciviccouncil.org/event/office-hours-at-the-commissioner-2-2-2-6/
LOCATION:The Commissioner\, 247 5th Avenue\, Brooklyn\, New York\, 11215
CATEGORIES:Community,Local business,Office Hours,Outreach
ORGANIZER;CN="Park Slope Civic Council":MAILTO:membership@parkslopecouncil.org
END:VEVENT
BEGIN:VEVENT
DTSTART;TZID=America/New_York:20181023T190000
DTEND;TZID=America/New_York:20181023T210000
DTSTAMP:20260425T103332
CREATED:20180326T222744Z
LAST-MODIFIED:20180326T222744Z
UID:7622-1540321200-1540328400@parkslopeciviccouncil.org
SUMMARY:Office Hours at The Commissioner
DESCRIPTION:Please join us for Office Hours at The Commissioner! Office Hours is an informal gathering of PSCC trustees\, members\, and neighbors. It’s a great time to meet your neighbors and make new friends.
URL:https://parkslopeciviccouncil.org/event/office-hours-at-the-commissioner-2-2-2/
LOCATION:The Commissioner\, 247 5th Avenue\, Brooklyn\, New York\, 11215
CATEGORIES:Community,Local business,Office Hours,Outreach
ORGANIZER;CN="Park Slope Civic Council":MAILTO:membership@parkslopecouncil.org
END:VEVENT
BEGIN:VEVENT
DTSTART;TZID=America/New_York:20181023T183000
DTEND;TZID=America/New_York:20181023T203000
DTSTAMP:20260425T103332
CREATED:20181023T045141Z
LAST-MODIFIED:20181023T045141Z
UID:10260-1540319400-1540326600@parkslopeciviccouncil.org
SUMMARY:Ballot Measure Forum
DESCRIPTION:Balllot Measure Forum\nPSCC is co-sponsoring a ballot measure forum which will explain 3 propositions (campaign finance reform\, civic engagement\, and community board reform) and provide a space for us to discuss these proposals\, ask questions of experts and engage in dialogue.\n\n\n\n\n\n\n\n\nDATE: October 23rd \n\n\n\nTIME:  6:30 PM\n\n\n\n\n\n\nLOCATION:  10 Grand Army Plaza\, Brooklyn Central Library\, Dweck Auditorium\n\n\n\n\n\n\n\n\n\n\n\nBrooklyn\, NY\n\n\n\n\nOPEN TO ALL:  Everyone is Welcome! \n\n\n\n\n\n\n\n\n\n\n\n\n\n\n\n\n\n\n\n\n\n\n\n\n\n\nCo-sponsored by: Park Slope Civic Council\, Participatory Budgeting Project\, Civic Engagement Table\, Arts & Democracy\, Brooklyn Voters Alliance\n\n\n\n\n\n\n\n\n\n\n\n\n\n\n\n\n\n\n\n\n 
URL:https://parkslopeciviccouncil.org/event/ballot-measure-forum-4/
LOCATION:NY
CATEGORIES:Electeds,Outreach,PSCC Sponsored Event
END:VEVENT
BEGIN:VEVENT
DTSTART;TZID=America/New_York:20181023T183000
DTEND;TZID=America/New_York:20181023T203000
DTSTAMP:20260425T103332
CREATED:20181023T045141Z
LAST-MODIFIED:20181023T045141Z
UID:12413-1540319400-1540326600@parkslopeciviccouncil.org
SUMMARY:Ballot Measure Forum
DESCRIPTION:Balllot Measure Forum\nPSCC is co-sponsoring a ballot measure forum which will explain 3 propositions (campaign finance reform\, civic engagement\, and community board reform) and provide a space for us to discuss these proposals\, ask questions of experts and engage in dialogue.\n\n\n\n\n\n\n\n\nDATE: October 23rd \n\n\n\nTIME:  6:30 PM\n\n\n\n\n\n\nLOCATION:  10 Grand Army Plaza\, Brooklyn Central Library\, Dweck Auditorium\n\n\n\n\n\n\n\n\n\n\n\nBrooklyn\, NY\n\n\n\n\nOPEN TO ALL:  Everyone is Welcome! \n\n\n\n\n\n\n\n\n\n\n\n\n\n\n\n\n\n\n\n\n\n\n\n\n\n\nCo-sponsored by: Park Slope Civic Council\, Participatory Budgeting Project\, Civic Engagement Table\, Arts & Democracy\, Brooklyn Voters Alliance\n\n\n\n\n\n\n\n\n\n\n\n\n\n\n\n\n\n\n\n\n 
URL:https://parkslopeciviccouncil.org/event/ballot-measure-forum-5/
LOCATION:NY
CATEGORIES:Electeds,Outreach,PSCC Sponsored Event
END:VEVENT
BEGIN:VEVENT
DTSTART;TZID=America/New_York:20181023T183000
DTEND;TZID=America/New_York:20181023T203000
DTSTAMP:20260425T103332
CREATED:20181023T045141Z
LAST-MODIFIED:20181023T045141Z
UID:7698-1540319400-1540326600@parkslopeciviccouncil.org
SUMMARY:Ballot Measure Forum
DESCRIPTION:Balllot Measure Forum\nPSCC is co-sponsoring a ballot measure forum which will explain 3 propositions (campaign finance reform\, civic engagement\, and community board reform) and provide a space for us to discuss these proposals\, ask questions of experts and engage in dialogue.\n\n\n\n\n\n\n\n\nDATE: October 23rd \n\n\n\nTIME:  6:30 PM\n\n\n\n\n\n\nLOCATION:  10 Grand Army Plaza\, Brooklyn Central Library\, Dweck Auditorium\n\n\n\n\n\n\n\n\n\n\n\nBrooklyn\, NY\n\n\n\n\nOPEN TO ALL:  Everyone is Welcome! \n\n\n\n\n\n\n\n\n\n\n\n\n\n\n\n\n\n\n\n\n\n\n\n\n\n\nCo-sponsored by: Park Slope Civic Council\, Participatory Budgeting Project\, Civic Engagement Table\, Arts & Democracy\, Brooklyn Voters Alliance\n\n\n\n\n\n\n\n\n\n\n\n\n\n\n\n\n\n\n\n\n 
URL:https://parkslopeciviccouncil.org/event/ballot-measure-forum/
LOCATION:NY
CATEGORIES:Electeds,Outreach,PSCC Sponsored Event
END:VEVENT
BEGIN:VEVENT
DTSTART;TZID=America/New_York:20181023T183000
DTEND;TZID=America/New_York:20181023T203000
DTSTAMP:20260425T103332
CREATED:20181023T045141Z
LAST-MODIFIED:20181023T045141Z
UID:9541-1540319400-1540326600@parkslopeciviccouncil.org
SUMMARY:Ballot Measure Forum
DESCRIPTION:Balllot Measure Forum\nPSCC is co-sponsoring a ballot measure forum which will explain 3 propositions (campaign finance reform\, civic engagement\, and community board reform) and provide a space for us to discuss these proposals\, ask questions of experts and engage in dialogue.\n\n\n\n\n\n\n\n\nDATE: October 23rd \n\n\n\nTIME:  6:30 PM\n\n\n\n\n\n\nLOCATION:  10 Grand Army Plaza\, Brooklyn Central Library\, Dweck Auditorium\n\n\n\n\n\n\n\n\n\n\n\nBrooklyn\, NY\n\n\n\n\nOPEN TO ALL:  Everyone is Welcome! \n\n\n\n\n\n\n\n\n\n\n\n\n\n\n\n\n\n\n\n\n\n\n\n\n\n\nCo-sponsored by: Park Slope Civic Council\, Participatory Budgeting Project\, Civic Engagement Table\, Arts & Democracy\, Brooklyn Voters Alliance\n\n\n\n\n\n\n\n\n\n\n\n\n\n\n\n\n\n\n\n\n 
URL:https://parkslopeciviccouncil.org/event/ballot-measure-forum-2/
LOCATION:NY
CATEGORIES:Electeds,Outreach,PSCC Sponsored Event
END:VEVENT
BEGIN:VEVENT
DTSTART;TZID=America/New_York:20181023T183000
DTEND;TZID=America/New_York:20181023T203000
DTSTAMP:20260425T103332
CREATED:20181023T045141Z
LAST-MODIFIED:20181023T045141Z
UID:9900-1540319400-1540326600@parkslopeciviccouncil.org
SUMMARY:Ballot Measure Forum
DESCRIPTION:Balllot Measure Forum\nPSCC is co-sponsoring a ballot measure forum which will explain 3 propositions (campaign finance reform\, civic engagement\, and community board reform) and provide a space for us to discuss these proposals\, ask questions of experts and engage in dialogue.\n\n\n\n\n\n\n\n\nDATE: October 23rd \n\n\n\nTIME:  6:30 PM\n\n\n\n\n\n\nLOCATION:  10 Grand Army Plaza\, Brooklyn Central Library\, Dweck Auditorium\n\n\n\n\n\n\n\n\n\n\n\nBrooklyn\, NY\n\n\n\n\nOPEN TO ALL:  Everyone is Welcome! \n\n\n\n\n\n\n\n\n\n\n\n\n\n\n\n\n\n\n\n\n\n\n\n\n\n\nCo-sponsored by: Park Slope Civic Council\, Participatory Budgeting Project\, Civic Engagement Table\, Arts & Democracy\, Brooklyn Voters Alliance\n\n\n\n\n\n\n\n\n\n\n\n\n\n\n\n\n\n\n\n\n 
URL:https://parkslopeciviccouncil.org/event/ballot-measure-forum-3/
LOCATION:NY
CATEGORIES:Electeds,Outreach,PSCC Sponsored Event
END:VEVENT
BEGIN:VEVENT
DTSTART;TZID=America/New_York:20181017T183000
DTEND;TZID=America/New_York:20181017T210000
DTSTAMP:20260425T103332
CREATED:20180610T190754Z
LAST-MODIFIED:20180610T190754Z
UID:10577-1539801000-1539810000@parkslopeciviccouncil.org
SUMMARY:Park Slope Civic Council's Food for Thought 2018
DESCRIPTION:Join Park Slope Civic Council for an evening of food\, drink and fun with area fare providers as we raise funds for a great cause: supporting our local\, civic-minded\, college-bound students with ever-increasing scholarship assistance toward reaching their dreams.
URL:https://parkslopeciviccouncil.org/event/park-slope-civic-councils-food-for-thought-2018-5/
LOCATION:Prospect Park Picnic House\, Prospect Park West and West Dr.\, Brooklyn\, NY\, 11215\, United States
CATEGORIES:Food for Thought,Local business,Scholarships
ORGANIZER;CN="Park Slope Civic Council":MAILTO:membership@parkslopecouncil.org
END:VEVENT
BEGIN:VEVENT
DTSTART;TZID=America/New_York:20181017T183000
DTEND;TZID=America/New_York:20181017T210000
DTSTAMP:20260425T103332
CREATED:20180610T190754Z
LAST-MODIFIED:20180610T190754Z
UID:10897-1539801000-1539810000@parkslopeciviccouncil.org
SUMMARY:Park Slope Civic Council's Food for Thought 2018
DESCRIPTION:Join Park Slope Civic Council for an evening of food\, drink and fun with area fare providers as we raise funds for a great cause: supporting our local\, civic-minded\, college-bound students with ever-increasing scholarship assistance toward reaching their dreams.
URL:https://parkslopeciviccouncil.org/event/park-slope-civic-councils-food-for-thought-2018-6/
LOCATION:Prospect Park Picnic House\, Prospect Park West and West Dr.\, Brooklyn\, NY\, 11215\, United States
CATEGORIES:Food for Thought,Local business,Scholarships
ORGANIZER;CN="Park Slope Civic Council":MAILTO:membership@parkslopecouncil.org
END:VEVENT
BEGIN:VEVENT
DTSTART;TZID=America/New_York:20181017T183000
DTEND;TZID=America/New_York:20181017T210000
DTSTAMP:20260425T103332
CREATED:20180610T190754Z
LAST-MODIFIED:20180610T190754Z
UID:7572-1539801000-1539810000@parkslopeciviccouncil.org
SUMMARY:Park Slope Civic Council's Food for Thought 2018
DESCRIPTION:Join Park Slope Civic Council for an evening of food\, drink and fun with area fare providers as we raise funds for a great cause: supporting our local\, civic-minded\, college-bound students with ever-increasing scholarship assistance toward reaching their dreams.
URL:https://parkslopeciviccouncil.org/event/park-slope-civic-councils-food-for-thought-2018/
LOCATION:Prospect Park Picnic House\, Prospect Park West and West Dr.\, Brooklyn\, NY\, 11215\, United States
CATEGORIES:Food for Thought,Local business,Scholarships
ORGANIZER;CN="Park Slope Civic Council":MAILTO:membership@parkslopecouncil.org
END:VEVENT
BEGIN:VEVENT
DTSTART;TZID=America/New_York:20181017T183000
DTEND;TZID=America/New_York:20181017T210000
DTSTAMP:20260425T103332
CREATED:20180610T190754Z
LAST-MODIFIED:20180610T190754Z
UID:12391-1539801000-1539810000@parkslopeciviccouncil.org
SUMMARY:Park Slope Civic Council\'s Food for Thought 2018
DESCRIPTION:Join Park Slope Civic Council for an evening of food\, drink and fun with area fare providers as we raise funds for a great cause: supporting our local\, civic-minded\, college-bound students with ever-increasing scholarship assistance toward reaching their dreams.
URL:https://parkslopeciviccouncil.org/event/park-slope-civic-councils-food-for-thought-2018-7/
LOCATION:Prospect Park Picnic House\, Prospect Park West and West Dr.\, Brooklyn\, NY\, 11215\, United States
CATEGORIES:Food for Thought,Local business,Scholarships
ORGANIZER;CN="Park Slope Civic Council":MAILTO:membership@parkslopecouncil.org
END:VEVENT
BEGIN:VEVENT
DTSTART;TZID=America/New_York:20181017T183000
DTEND;TZID=America/New_York:20181017T210000
DTSTAMP:20260425T103332
CREATED:20180610T190754Z
LAST-MODIFIED:20180610T190754Z
UID:9510-1539801000-1539810000@parkslopeciviccouncil.org
SUMMARY:Park Slope Civic Council's Food for Thought 2018
DESCRIPTION:Join Park Slope Civic Council for an evening of food\, drink and fun with area fare providers as we raise funds for a great cause: supporting our local\, civic-minded\, college-bound students with ever-increasing scholarship assistance toward reaching their dreams.
URL:https://parkslopeciviccouncil.org/event/park-slope-civic-councils-food-for-thought-2018-2/
LOCATION:Prospect Park Picnic House\, Prospect Park West and West Dr.\, Brooklyn\, NY\, 11215\, United States
CATEGORIES:Food for Thought,Local business,Scholarships
ORGANIZER;CN="Park Slope Civic Council":MAILTO:membership@parkslopecouncil.org
END:VEVENT
BEGIN:VEVENT
DTSTART;TZID=America/New_York:20181017T183000
DTEND;TZID=America/New_York:20181017T210000
DTSTAMP:20260425T103332
CREATED:20180610T190754Z
LAST-MODIFIED:20180610T190754Z
UID:9869-1539801000-1539810000@parkslopeciviccouncil.org
SUMMARY:Park Slope Civic Council's Food for Thought 2018
DESCRIPTION:Join Park Slope Civic Council for an evening of food\, drink and fun with area fare providers as we raise funds for a great cause: supporting our local\, civic-minded\, college-bound students with ever-increasing scholarship assistance toward reaching their dreams.
URL:https://parkslopeciviccouncil.org/event/park-slope-civic-councils-food-for-thought-2018-3/
LOCATION:Prospect Park Picnic House\, Prospect Park West and West Dr.\, Brooklyn\, NY\, 11215\, United States
CATEGORIES:Food for Thought,Local business,Scholarships
ORGANIZER;CN="Park Slope Civic Council":MAILTO:membership@parkslopecouncil.org
END:VEVENT
BEGIN:VEVENT
DTSTART;TZID=America/New_York:20181017T183000
DTEND;TZID=America/New_York:20181017T210000
DTSTAMP:20260425T103332
CREATED:20180610T190754Z
LAST-MODIFIED:20180610T190754Z
UID:10229-1539801000-1539810000@parkslopeciviccouncil.org
SUMMARY:Park Slope Civic Council's Food for Thought 2018
DESCRIPTION:Join Park Slope Civic Council for an evening of food\, drink and fun with area fare providers as we raise funds for a great cause: supporting our local\, civic-minded\, college-bound students with ever-increasing scholarship assistance toward reaching their dreams.
URL:https://parkslopeciviccouncil.org/event/park-slope-civic-councils-food-for-thought-2018-4/
LOCATION:Prospect Park Picnic House\, Prospect Park West and West Dr.\, Brooklyn\, NY\, 11215\, United States
CATEGORIES:Food for Thought,Local business,Scholarships
ORGANIZER;CN="Park Slope Civic Council":MAILTO:membership@parkslopecouncil.org
END:VEVENT
BEGIN:VEVENT
DTSTART;TZID=America/New_York:20181013T190000
DTEND;TZID=America/New_York:20181013T220000
DTSTAMP:20260425T103332
CREATED:20180724T214540Z
LAST-MODIFIED:20180724T214540Z
UID:9204-1539457200-1539468000@parkslopeciviccouncil.org
SUMMARY:Art Slope: Shorts in the Slope Film Screening of "Little Fugitive"
DESCRIPTION:PSCC’s Arts Committee presents a showing of the “Little Fugitive\,”  with introductory remarks by the filmmakers’ daughter and Gowanus resident\, Mary Engel\nThere will be a talk by architectural historian Francis Marrone about Bensonhurst and Coney Island in 1953 (the two Brooklyn neighborhoods featured in the film\, “Little Fugitive”);\nThe event will also feature an audience Q and A and a reception and performance by Opera on Tap.
URL:https://parkslopeciviccouncil.org/event/art-slope-shorts-in-the-slope-film-screening-of-little-fugitive/
LOCATION:Berkeley Carroll School’s Marlene Clary Performance Space at 152 Sterling Place\, just off Flatbush Avenue\, 152 Sterling Place\, Brooklyn\, NY\, 11217\, United States
END:VEVENT
BEGIN:VEVENT
DTSTART;TZID=America/New_York:20181013T190000
DTEND;TZID=America/New_York:20181013T220000
DTSTAMP:20260425T103332
CREATED:20180724T214540Z
LAST-MODIFIED:20180724T214540Z
UID:9524-1539457200-1539468000@parkslopeciviccouncil.org
SUMMARY:Art Slope: Shorts in the Slope Film Screening of "Little Fugitive"
DESCRIPTION:PSCC’s Arts Committee presents a showing of the “Little Fugitive\,”  with introductory remarks by the filmmakers’ daughter and Gowanus resident\, Mary Engel\nThere will be a talk by architectural historian Francis Marrone about Bensonhurst and Coney Island in 1953 (the two Brooklyn neighborhoods featured in the film\, “Little Fugitive”);\nThe event will also feature an audience Q and A and a reception and performance by Opera on Tap.
URL:https://parkslopeciviccouncil.org/event/art-slope-shorts-in-the-slope-film-screening-of-little-fugitive-2/
LOCATION:Berkeley Carroll School’s Marlene Clary Performance Space at 152 Sterling Place\, just off Flatbush Avenue\, 152 Sterling Place\, Brooklyn\, NY\, 11217\, United States
END:VEVENT
BEGIN:VEVENT
DTSTART;TZID=America/New_York:20181013T190000
DTEND;TZID=America/New_York:20181013T220000
DTSTAMP:20260425T103332
CREATED:20180724T214540Z
LAST-MODIFIED:20180724T214540Z
UID:9883-1539457200-1539468000@parkslopeciviccouncil.org
SUMMARY:Art Slope: Shorts in the Slope Film Screening of "Little Fugitive"
DESCRIPTION:PSCC’s Arts Committee presents a showing of the “Little Fugitive\,”  with introductory remarks by the filmmakers’ daughter and Gowanus resident\, Mary Engel\nThere will be a talk by architectural historian Francis Marrone about Bensonhurst and Coney Island in 1953 (the two Brooklyn neighborhoods featured in the film\, “Little Fugitive”);\nThe event will also feature an audience Q and A and a reception and performance by Opera on Tap.
URL:https://parkslopeciviccouncil.org/event/art-slope-shorts-in-the-slope-film-screening-of-little-fugitive-3/
LOCATION:Berkeley Carroll School’s Marlene Clary Performance Space at 152 Sterling Place\, just off Flatbush Avenue\, 152 Sterling Place\, Brooklyn\, NY\, 11217\, United States
END:VEVENT
BEGIN:VEVENT
DTSTART;TZID=America/New_York:20181013T190000
DTEND;TZID=America/New_York:20181013T220000
DTSTAMP:20260425T103332
CREATED:20180724T214540Z
LAST-MODIFIED:20180724T214540Z
UID:10243-1539457200-1539468000@parkslopeciviccouncil.org
SUMMARY:Art Slope: Shorts in the Slope Film Screening of "Little Fugitive"
DESCRIPTION:PSCC’s Arts Committee presents a showing of the “Little Fugitive\,”  with introductory remarks by the filmmakers’ daughter and Gowanus resident\, Mary Engel\nThere will be a talk by architectural historian Francis Marrone about Bensonhurst and Coney Island in 1953 (the two Brooklyn neighborhoods featured in the film\, “Little Fugitive”);\nThe event will also feature an audience Q and A and a reception and performance by Opera on Tap.
URL:https://parkslopeciviccouncil.org/event/art-slope-shorts-in-the-slope-film-screening-of-little-fugitive-4/
LOCATION:Berkeley Carroll School’s Marlene Clary Performance Space at 152 Sterling Place\, just off Flatbush Avenue\, 152 Sterling Place\, Brooklyn\, NY\, 11217\, United States
END:VEVENT
BEGIN:VEVENT
DTSTART;TZID=America/New_York:20181013T190000
DTEND;TZID=America/New_York:20181013T220000
DTSTAMP:20260425T103332
CREATED:20180724T214540Z
LAST-MODIFIED:20180724T214540Z
UID:10911-1539457200-1539468000@parkslopeciviccouncil.org
SUMMARY:Art Slope: Shorts in the Slope Film Screening of "Little Fugitive"
DESCRIPTION:PSCC’s Arts Committee presents a showing of the “Little Fugitive\,”  with introductory remarks by the filmmakers’ daughter and Gowanus resident\, Mary Engel\nThere will be a talk by architectural historian Francis Marrone about Bensonhurst and Coney Island in 1953 (the two Brooklyn neighborhoods featured in the film\, “Little Fugitive”);\nThe event will also feature an audience Q and A and a reception and performance by Opera on Tap.
URL:https://parkslopeciviccouncil.org/event/art-slope-shorts-in-the-slope-film-screening-of-little-fugitive-6/
LOCATION:Berkeley Carroll School’s Marlene Clary Performance Space at 152 Sterling Place\, just off Flatbush Avenue\, 152 Sterling Place\, Brooklyn\, NY\, 11217\, United States
END:VEVENT
BEGIN:VEVENT
DTSTART;TZID=America/New_York:20181013T190000
DTEND;TZID=America/New_York:20181013T220000
DTSTAMP:20260425T103332
CREATED:20180724T214540Z
LAST-MODIFIED:20180724T214540Z
UID:12396-1539457200-1539468000@parkslopeciviccouncil.org
SUMMARY:Art Slope: Shorts in the Slope Film Screening of \"Little Fugitive\"
DESCRIPTION:PSCC\’s Arts Committee presents a showing of the \”Little Fugitive\,\”  with introductory remarks by the filmmakers\’ daughter and Gowanus resident\, Mary Engel\nThere will be a talk by architectural historian Francis Marrone about Bensonhurst and Coney Island in 1953 (the two Brooklyn neighborhoods featured in the film\, \”Little Fugitive\”);\nThe event will also feature an audience Q and A and a reception and performance by Opera on Tap.
URL:https://parkslopeciviccouncil.org/event/art-slope-shorts-in-the-slope-film-screening-of-little-fugitive-7/
LOCATION:Berkeley Carroll School’s Marlene Clary Performance Space at 152 Sterling Place\, just off Flatbush Avenue\, 152 Sterling Place\, Brooklyn\, NY\, 11217\, United States
END:VEVENT
BEGIN:VEVENT
DTSTART;TZID=America/New_York:20181004T190000
DTEND;TZID=America/New_York:20181004T210000
DTSTAMP:20260425T103332
CREATED:20180724T215929Z
LAST-MODIFIED:20180724T215929Z
UID:9885-1538679600-1538686800@parkslopeciviccouncil.org
SUMMARY:Monthly Trustees' Meeting
DESCRIPTION:Please join us for our monthly trustees’ meeting\, 7-9pm at the Old Stone House\, open to all.
URL:https://parkslopeciviccouncil.org/event/monthly-trustees-meeting-9/
LOCATION:Old Stone House\, 336 3rd St\, Brooklyn\, NY\, 11215\, United States
CATEGORIES:Old Stone House,Trustees Meeting
END:VEVENT
BEGIN:VEVENT
DTSTART;TZID=America/New_York:20181004T190000
DTEND;TZID=America/New_York:20181004T210000
DTSTAMP:20260425T103332
CREATED:20180724T215929Z
LAST-MODIFIED:20180724T215929Z
UID:12398-1538679600-1538686800@parkslopeciviccouncil.org
SUMMARY:Monthly Trustees\' Meeting
DESCRIPTION:Please join us for our monthly trustees\’ meeting\, 7-9pm at the Old Stone House\, open to all.
URL:https://parkslopeciviccouncil.org/event/monthly-trustees-meeting-12/
LOCATION:Old Stone House\, 336 3rd St\, Brooklyn\, NY\, 11215\, United States
CATEGORIES:Old Stone House,Trustees Meeting
END:VEVENT
BEGIN:VEVENT
DTSTART;TZID=America/New_York:20181004T190000
DTEND;TZID=America/New_York:20181004T210000
DTSTAMP:20260425T103332
CREATED:20180724T215929Z
LAST-MODIFIED:20180724T215929Z
UID:10245-1538679600-1538686800@parkslopeciviccouncil.org
SUMMARY:Monthly Trustees' Meeting
DESCRIPTION:Please join us for our monthly trustees’ meeting\, 7-9pm at the Old Stone House\, open to all.
URL:https://parkslopeciviccouncil.org/event/monthly-trustees-meeting-10/
LOCATION:Old Stone House\, 336 3rd St\, Brooklyn\, NY\, 11215\, United States
CATEGORIES:Old Stone House,Trustees Meeting
END:VEVENT
BEGIN:VEVENT
DTSTART;TZID=America/New_York:20181004T190000
DTEND;TZID=America/New_York:20181004T210000
DTSTAMP:20260425T103332
CREATED:20180724T215929Z
LAST-MODIFIED:20180724T215929Z
UID:7613-1538679600-1538686800@parkslopeciviccouncil.org
SUMMARY:Monthly Trustees' Meeting
DESCRIPTION:Please join us for our monthly trustees’ meeting\, 7-9pm at the Old Stone House\, open to all.
URL:https://parkslopeciviccouncil.org/event/monthly-trustees-meeting/
LOCATION:Old Stone House\, 336 3rd St\, Brooklyn\, NY\, 11215\, United States
CATEGORIES:Old Stone House,Trustees Meeting
END:VEVENT
END:VCALENDAR