BEGIN:VCALENDAR
VERSION:2.0
PRODID:-//Park Slope Civic Council - ECPv6.15.20//NONSGML v1.0//EN
CALSCALE:GREGORIAN
METHOD:PUBLISH
X-WR-CALNAME:Park Slope Civic Council
X-ORIGINAL-URL:https://parkslopeciviccouncil.org
X-WR-CALDESC:Events for Park Slope Civic Council
REFRESH-INTERVAL;VALUE=DURATION:PT1H
X-Robots-Tag:noindex
X-PUBLISHED-TTL:PT1H
BEGIN:VTIMEZONE
TZID:America/New_York
BEGIN:DAYLIGHT
TZOFFSETFROM:-0500
TZOFFSETTO:-0400
TZNAME:EDT
DTSTART:20210314T070000
END:DAYLIGHT
BEGIN:STANDARD
TZOFFSETFROM:-0400
TZOFFSETTO:-0500
TZNAME:EST
DTSTART:20211107T060000
END:STANDARD
BEGIN:DAYLIGHT
TZOFFSETFROM:-0500
TZOFFSETTO:-0400
TZNAME:EDT
DTSTART:20220313T070000
END:DAYLIGHT
BEGIN:STANDARD
TZOFFSETFROM:-0400
TZOFFSETTO:-0500
TZNAME:EST
DTSTART:20221106T060000
END:STANDARD
BEGIN:DAYLIGHT
TZOFFSETFROM:-0500
TZOFFSETTO:-0400
TZNAME:EDT
DTSTART:20230312T070000
END:DAYLIGHT
BEGIN:STANDARD
TZOFFSETFROM:-0400
TZOFFSETTO:-0500
TZNAME:EST
DTSTART:20231105T060000
END:STANDARD
BEGIN:DAYLIGHT
TZOFFSETFROM:-0500
TZOFFSETTO:-0400
TZNAME:EDT
DTSTART:20240310T070000
END:DAYLIGHT
BEGIN:STANDARD
TZOFFSETFROM:-0400
TZOFFSETTO:-0500
TZNAME:EST
DTSTART:20241103T060000
END:STANDARD
END:VTIMEZONE
BEGIN:VTIMEZONE
TZID:UTC
BEGIN:STANDARD
TZOFFSETFROM:+0000
TZOFFSETTO:+0000
TZNAME:UTC
DTSTART:20210101T000000
END:STANDARD
END:VTIMEZONE
BEGIN:VEVENT
DTSTART;TZID=America/New_York:20230109T200000
DTEND;TZID=America/New_York:20230109T210000
DTSTAMP:20260423T140847
CREATED:20221221T185627Z
LAST-MODIFIED:20221221T185627Z
UID:12490-1673294400-1673298000@parkslopeciviccouncil.org
SUMMARY:Livable Sreets
DESCRIPTION:https://us02web.zoom.us/j/87194979231?pwd=Uk5veklVRm53NCtEdVJ2ZHdHd3VjZz09
URL:https://parkslopeciviccouncil.org/event/livable-sreets/
LOCATION:NY
END:VEVENT
BEGIN:VEVENT
DTSTART;TZID=America/New_York:20230107T100000
DTEND;TZID=America/New_York:20230107T140000
DTSTAMP:20260423T140847
CREATED:20221221T190106Z
LAST-MODIFIED:20221221T190106Z
UID:12491-1673085600-1673100000@parkslopeciviccouncil.org
SUMMARY:Mulchfest
DESCRIPTION:
URL:https://parkslopeciviccouncil.org/event/mulchfest-6-2/
LOCATION:3rd Street Entrance to Prospect Park\, 3rd Street\, Brooklyn\, NY\, 11215
END:VEVENT
BEGIN:VEVENT
DTSTART;TZID=America/New_York:20230105T190000
DTEND;TZID=America/New_York:20230105T203000
DTSTAMP:20260423T140847
CREATED:20220908T193638Z
LAST-MODIFIED:20220908T193638Z
UID:12482-1672945200-1672950600@parkslopeciviccouncil.org
SUMMARY:Trustee Meeting
DESCRIPTION:Zoom link: \nhttps://us02web.zoom.us/j/81086381512?pwd=c0tJL1BkcnV1THd4SC9GYm9lZXlaZz09
URL:https://parkslopeciviccouncil.org/event/trustee-meeting-6/
LOCATION:NY
END:VEVENT
BEGIN:VEVENT
DTSTART;TZID=America/New_York:20221208T190000
DTEND;TZID=America/New_York:20221208T203000
DTSTAMP:20260423T140847
CREATED:20220908T193537Z
LAST-MODIFIED:20220908T193537Z
UID:12481-1670526000-1670531400@parkslopeciviccouncil.org
SUMMARY:Trustee Meeting
DESCRIPTION:On zoom: \nhttps://us02web.zoom.us/j/85843824455?pwd=ZWtZb2grcERiVGwwckdkZFJJa05Cdz09
URL:https://parkslopeciviccouncil.org/event/trustee-meeting-5/
LOCATION:Old Stone House\, 336 3rd St\, Brooklyn\, NY\, 11215\, United States
END:VEVENT
BEGIN:VEVENT
DTSTART;TZID=America/New_York:20221113T100000
DTEND;TZID=America/New_York:20221113T140000
DTSTAMP:20260423T140847
CREATED:20221030T235502Z
LAST-MODIFIED:20221030T235502Z
UID:12489-1668333600-1668348000@parkslopeciviccouncil.org
SUMMARY:Civic Sweep
DESCRIPTION:
URL:https://parkslopeciviccouncil.org/event/civic-sweep-4/
LOCATION:In Front of the Old Stone House and J.J. Byrne Playground\, In Front of Old Stone House/J.J. Byrne Park\, 5th Avenue between 3rd and 4th Streets\, Brooklyn\, NY\, 11215\, United States
END:VEVENT
BEGIN:VEVENT
DTSTART;TZID=America/New_York:20221110T190000
DTEND;TZID=America/New_York:20221110T203000
DTSTAMP:20260423T140847
CREATED:20220908T193409Z
LAST-MODIFIED:20220908T193409Z
UID:12480-1668106800-1668112200@parkslopeciviccouncil.org
SUMMARY:Trustee Meeting
DESCRIPTION:
URL:https://parkslopeciviccouncil.org/event/trustee-meeting-4/
LOCATION:Old Stone House\, 336 3rd St\, Brooklyn\, NY\, 11215\, United States
END:VEVENT
BEGIN:VEVENT
DTSTART;TZID=America/New_York:20221031T150000
DTEND;TZID=America/New_York:20221031T193000
DTSTAMP:20260423T140847
CREATED:20220808T204416Z
LAST-MODIFIED:20220808T204416Z
UID:9174-1667228400-1667244600@parkslopeciviccouncil.org
SUMMARY:2022 Halloween Parade
DESCRIPTION:3pm-6pm – Kids Trick or Treating\n5:30pm – Queue up for parade at 14th St\n6:30pm – Civic Council kicks off parade\, followed by elected officials\n7:30pm – Parade ends at Old Stone House/Washington Park\n\n\nParade Route – 7th Ave\, Starting at 14th St to 3rd St\, turning on 3rd street\, ending at Old Stone House.
URL:https://parkslopeciviccouncil.org/event/2022-halloween-parade/
LOCATION:Old Stone House\, 336 3rd St\, Brooklyn\, NY\, 11215\, United States
END:VEVENT
BEGIN:VEVENT
DTSTART;TZID=America/New_York:20221019T183000
DTEND;TZID=America/New_York:20221019T213000
DTSTAMP:20260423T140847
CREATED:20220826T205651Z
LAST-MODIFIED:20220826T205651Z
UID:12478-1666204200-1666215000@parkslopeciviccouncil.org
SUMMARY:Food for Thought
DESCRIPTION:6:30 – 9:30 pm at the Picnic House \nBuy tickets here: https://www.eventbrite.com/e/food-for-thought-tickets-415694091217
URL:https://parkslopeciviccouncil.org/event/food-for-thought-2-2/
LOCATION:Prospect Park Picnic House\, Prospect Park West and West Dr.\, Brooklyn\, NY\, 11215\, United States
END:VEVENT
BEGIN:VEVENT
DTSTART;TZID=UTC:20221019T180000
DTEND;TZID=UTC:20221019T203000
DTSTAMP:20260423T140847
CREATED:20220813T232055Z
LAST-MODIFIED:20220813T232055Z
UID:11336-1666202400-1666211400@parkslopeciviccouncil.org
SUMMARY:Food for Thought
DESCRIPTION:Mark you calendars and join us October 19th for our annual fundraiser\, Food for Thought! More info coming soon.
URL:https://parkslopeciviccouncil.org/event/food-for-thought-7/
LOCATION:NY
END:VEVENT
BEGIN:VEVENT
DTSTART;TZID=America/New_York:20221010T100000
DTEND;TZID=America/New_York:20221010T140000
DTSTAMP:20260423T140847
CREATED:20221010T190706Z
LAST-MODIFIED:20221010T190706Z
UID:12488-1665396000-1665410400@parkslopeciviccouncil.org
SUMMARY:Civic Sweep
DESCRIPTION:
URL:https://parkslopeciviccouncil.org/event/civic-sweep-3-2/
LOCATION:In Front of the Old Stone House and J.J. Byrne Playground\, In Front of Old Stone House/J.J. Byrne Park\, 5th Avenue between 3rd and 4th Streets\, Brooklyn\, NY\, 11215\, United States
END:VEVENT
BEGIN:VEVENT
DTSTART;TZID=America/New_York:20221006T190000
DTEND;TZID=America/New_York:20221006T203000
DTSTAMP:20260423T140847
CREATED:20220908T193236Z
LAST-MODIFIED:20220908T193236Z
UID:12479-1665082800-1665088200@parkslopeciviccouncil.org
SUMMARY:Trustee Meeting
DESCRIPTION:Zoom link: https://us02web.zoom.us/j/89906481483?pwd=MXd1ZFNpVE81S1FRbE9DN1ZiWFEydz09
URL:https://parkslopeciviccouncil.org/event/trustee-meeting-3-2/
LOCATION:Old Stone House\, 336 3rd St\, Brooklyn\, NY\, 11215\, United States
END:VEVENT
BEGIN:VEVENT
DTSTART;TZID=America/New_York:20220908T190000
DTEND;TZID=America/New_York:20220908T203000
DTSTAMP:20260423T140847
CREATED:20220826T200027Z
LAST-MODIFIED:20220826T200027Z
UID:9176-1662663600-1662669000@parkslopeciviccouncil.org
SUMMARY:September Trustee Meeting
DESCRIPTION:zoom link: https://us02web.zoom.us/j/82323362599?pwd=b1lFRDZtODJDMjNYYllEVmZvN09tQT09
URL:https://parkslopeciviccouncil.org/event/september-trustee-meeting/
LOCATION:NY
END:VEVENT
BEGIN:VEVENT
DTSTART;TZID=America/New_York:20220602T190000
DTEND;TZID=America/New_York:20220602T203000
DTSTAMP:20260423T140847
CREATED:20210919T143828Z
LAST-MODIFIED:20210919T143828Z
UID:8751-1654196400-1654201800@parkslopeciviccouncil.org
SUMMARY:Trustees Meeting
DESCRIPTION:
URL:https://parkslopeciviccouncil.org/event/trustees-meeting-11/
LOCATION:NY
END:VEVENT
BEGIN:VEVENT
DTSTART;TZID=America/New_York:20220602T190000
DTEND;TZID=America/New_York:20220602T203000
DTSTAMP:20260423T140847
CREATED:20210919T143828Z
LAST-MODIFIED:20210919T143828Z
UID:12466-1654196400-1654201800@parkslopeciviccouncil.org
SUMMARY:Trustees Meeting
DESCRIPTION:
URL:https://parkslopeciviccouncil.org/event/trustees-meeting-11-2/
LOCATION:NY
END:VEVENT
BEGIN:VEVENT
DTSTART;TZID=America/New_York:20220505T190000
DTEND;TZID=America/New_York:20220505T203000
DTSTAMP:20260423T140847
CREATED:20210919T143318Z
LAST-MODIFIED:20210919T143318Z
UID:8748-1651777200-1651782600@parkslopeciviccouncil.org
SUMMARY:Trustees Meeting
DESCRIPTION:
URL:https://parkslopeciviccouncil.org/event/trustees-meeting-8/
LOCATION:NY
END:VEVENT
BEGIN:VEVENT
DTSTART;TZID=America/New_York:20220505T190000
DTEND;TZID=America/New_York:20220505T203000
DTSTAMP:20260423T140847
CREATED:20210919T143318Z
LAST-MODIFIED:20210919T143318Z
UID:12463-1651777200-1651782600@parkslopeciviccouncil.org
SUMMARY:Trustees Meeting
DESCRIPTION:
URL:https://parkslopeciviccouncil.org/event/trustees-meeting-8-2/
LOCATION:NY
END:VEVENT
BEGIN:VEVENT
DTSTART;VALUE=DATE:20220423
DTEND;VALUE=DATE:20220424
DTSTAMP:20260423T140847
CREATED:20220322T155943Z
LAST-MODIFIED:20220322T155943Z
UID:12477-1650672000-1650758399@parkslopeciviccouncil.org
SUMMARY:Earth Day Celebration
DESCRIPTION:
URL:https://parkslopeciviccouncil.org/event/earth-day-celebration-2/
LOCATION:Old Stone House and Washington Square Park\, 4th Avenue and 3rd Street\, Park Slope\, Brooklyn\, 11215
END:VEVENT
BEGIN:VEVENT
DTSTART;VALUE=DATE:20220423
DTEND;VALUE=DATE:20220424
DTSTAMP:20260423T140847
CREATED:20220322T155943Z
LAST-MODIFIED:20220322T155943Z
UID:9029-1650672000-1650758399@parkslopeciviccouncil.org
SUMMARY:Earth Day Celebration
DESCRIPTION:
URL:https://parkslopeciviccouncil.org/event/earth-day-celebration/
LOCATION:Old Stone House and Washington Square Park\, 4th Avenue and 3rd Street\, Park Slope\, Brooklyn\, 11215
END:VEVENT
BEGIN:VEVENT
DTSTART;TZID=America/New_York:20220407T190000
DTEND;TZID=America/New_York:20220407T203000
DTSTAMP:20260423T140847
CREATED:20210919T142812Z
LAST-MODIFIED:20210919T142812Z
UID:8746-1649358000-1649363400@parkslopeciviccouncil.org
SUMMARY:Trustees Meeting
DESCRIPTION:
URL:https://parkslopeciviccouncil.org/event/trustees-meeting-6/
LOCATION:NY
END:VEVENT
BEGIN:VEVENT
DTSTART;TZID=America/New_York:20220407T190000
DTEND;TZID=America/New_York:20220407T203000
DTSTAMP:20260423T140847
CREATED:20210919T142812Z
LAST-MODIFIED:20210919T142812Z
UID:12461-1649358000-1649363400@parkslopeciviccouncil.org
SUMMARY:Trustees Meeting
DESCRIPTION:
URL:https://parkslopeciviccouncil.org/event/trustees-meeting-6-2/
LOCATION:NY
END:VEVENT
BEGIN:VEVENT
DTSTART;TZID=America/New_York:20220303T190000
DTEND;TZID=America/New_York:20220303T203000
DTSTAMP:20260423T140847
CREATED:20210919T143230Z
LAST-MODIFIED:20210919T143230Z
UID:12462-1646334000-1646339400@parkslopeciviccouncil.org
SUMMARY:Trustees Meeting
DESCRIPTION:
URL:https://parkslopeciviccouncil.org/event/trustees-meeting-7-2/
LOCATION:NY
END:VEVENT
BEGIN:VEVENT
DTSTART;TZID=America/New_York:20220303T190000
DTEND;TZID=America/New_York:20220303T203000
DTSTAMP:20260423T140847
CREATED:20210919T143230Z
LAST-MODIFIED:20210919T143230Z
UID:8747-1646334000-1646339400@parkslopeciviccouncil.org
SUMMARY:Trustees Meeting
DESCRIPTION:
URL:https://parkslopeciviccouncil.org/event/trustees-meeting-7/
LOCATION:NY
END:VEVENT
BEGIN:VEVENT
DTSTART;TZID=America/New_York:20220217T190000
DTEND;TZID=America/New_York:20220217T200000
DTSTAMP:20260423T140847
CREATED:20220103T193312Z
LAST-MODIFIED:20220103T193312Z
UID:8943-1645124400-1645128000@parkslopeciviccouncil.org
SUMMARY:Sustainability Committee Meeting
DESCRIPTION:Please contact sustainability@parkslopeciviccouncil.org if you’d like to attend. \n 
URL:https://parkslopeciviccouncil.org/event/sustainability-committee-meeting-5-2/
LOCATION:Zoom
END:VEVENT
BEGIN:VEVENT
DTSTART;TZID=America/New_York:20220217T190000
DTEND;TZID=America/New_York:20220217T200000
DTSTAMP:20260423T140847
CREATED:20220103T193312Z
LAST-MODIFIED:20220103T193312Z
UID:12475-1645124400-1645128000@parkslopeciviccouncil.org
SUMMARY:Sustainability Committee Meeting
DESCRIPTION:Please contact sustainability@parkslopeciviccouncil.org if you\’d like to attend. \n 
URL:https://parkslopeciviccouncil.org/event/sustainability-committee-meeting-5-4/
LOCATION:Zoom
END:VEVENT
BEGIN:VEVENT
DTSTART;TZID=America/New_York:20220203T190000
DTEND;TZID=America/New_York:20220203T203000
DTSTAMP:20260423T140847
CREATED:20210919T142526Z
LAST-MODIFIED:20210919T142526Z
UID:8743-1643914800-1643920200@parkslopeciviccouncil.org
SUMMARY:Trustees Meeting
DESCRIPTION:
URL:https://parkslopeciviccouncil.org/event/trustees-meeting-3/
LOCATION:NY
END:VEVENT
BEGIN:VEVENT
DTSTART;TZID=America/New_York:20220203T190000
DTEND;TZID=America/New_York:20220203T203000
DTSTAMP:20260423T140847
CREATED:20210919T142526Z
LAST-MODIFIED:20210919T142526Z
UID:12460-1643914800-1643920200@parkslopeciviccouncil.org
SUMMARY:Trustees Meeting
DESCRIPTION:
URL:https://parkslopeciviccouncil.org/event/trustees-meeting-3-2/
LOCATION:NY
END:VEVENT
BEGIN:VEVENT
DTSTART;VALUE=DATE:20220201
DTEND;VALUE=DATE:20220202
DTSTAMP:20260423T140847
CREATED:20211013T131715Z
LAST-MODIFIED:20211013T131715Z
UID:8778-1643673600-1643759999@parkslopeciviccouncil.org
SUMMARY:Ortner Award Application Deadline
DESCRIPTION:For more information\, visit https://parkslopeciviccouncil.org/ortner-preservation-award-nominations-for-2022/.
URL:https://parkslopeciviccouncil.org/event/ortner-award-application/
LOCATION:NY
END:VEVENT
BEGIN:VEVENT
DTSTART;VALUE=DATE:20220201
DTEND;VALUE=DATE:20220202
DTSTAMP:20260423T140847
CREATED:20211013T131715Z
LAST-MODIFIED:20211013T131715Z
UID:12471-1643673600-1643759999@parkslopeciviccouncil.org
SUMMARY:Ortner Award Application Deadline
DESCRIPTION:For more information\, visit https://parkslopeciviccouncil.org/ortner-preservation-award-nominations-for-2022/.
URL:https://parkslopeciviccouncil.org/event/ortner-award-application-2/
LOCATION:NY
END:VEVENT
BEGIN:VEVENT
DTSTART;TZID=America/New_York:20220113T190000
DTEND;TZID=America/New_York:20220113T200000
DTSTAMP:20260423T140847
CREATED:20220106T165657Z
LAST-MODIFIED:20220106T165657Z
UID:12476-1642100400-1642104000@parkslopeciviccouncil.org
SUMMARY:Livable Streets Committee Meeting
DESCRIPTION:If you\’d like to attend\, please contact kenvstevens@gmail.com.
URL:https://parkslopeciviccouncil.org/event/livable-streets-committee-meeting-5-3/
LOCATION:Zoom
END:VEVENT
BEGIN:VEVENT
DTSTART;TZID=America/New_York:20220113T190000
DTEND;TZID=America/New_York:20220113T200000
DTSTAMP:20260423T140847
CREATED:20220106T165657Z
LAST-MODIFIED:20220106T165657Z
UID:8945-1642100400-1642104000@parkslopeciviccouncil.org
SUMMARY:Livable Streets Committee Meeting
DESCRIPTION:If you’d like to attend\, please contact kenvstevens@gmail.com.
URL:https://parkslopeciviccouncil.org/event/livable-streets-committee-meeting-5-2/
LOCATION:Zoom
END:VEVENT
END:VCALENDAR