BEGIN:VCALENDAR
VERSION:2.0
PRODID:-//Park Slope Civic Council - ECPv6.15.20//NONSGML v1.0//EN
CALSCALE:GREGORIAN
METHOD:PUBLISH
X-ORIGINAL-URL:https://parkslopeciviccouncil.org
X-WR-CALDESC:Events for Park Slope Civic Council
REFRESH-INTERVAL;VALUE=DURATION:PT1H
X-Robots-Tag:noindex
X-PUBLISHED-TTL:PT1H
BEGIN:VTIMEZONE
TZID:America/New_York
BEGIN:DAYLIGHT
TZOFFSETFROM:-0500
TZOFFSETTO:-0400
TZNAME:EDT
DTSTART:20230312T070000
END:DAYLIGHT
BEGIN:STANDARD
TZOFFSETFROM:-0400
TZOFFSETTO:-0500
TZNAME:EST
DTSTART:20231105T060000
END:STANDARD
BEGIN:DAYLIGHT
TZOFFSETFROM:-0500
TZOFFSETTO:-0400
TZNAME:EDT
DTSTART:20240310T070000
END:DAYLIGHT
BEGIN:STANDARD
TZOFFSETFROM:-0400
TZOFFSETTO:-0500
TZNAME:EST
DTSTART:20241103T060000
END:STANDARD
BEGIN:DAYLIGHT
TZOFFSETFROM:-0500
TZOFFSETTO:-0400
TZNAME:EDT
DTSTART:20250309T070000
END:DAYLIGHT
BEGIN:STANDARD
TZOFFSETFROM:-0400
TZOFFSETTO:-0500
TZNAME:EST
DTSTART:20251102T060000
END:STANDARD
END:VTIMEZONE
BEGIN:VEVENT
DTSTART;TZID=America/New_York:20241010T190000
DTEND;TZID=America/New_York:20241010T203000
DTSTAMP:20260424T054042
CREATED:20240729T204738Z
LAST-MODIFIED:20241001T012933Z
UID:14590-1728586800-1728592200@parkslopeciviccouncil.org
SUMMARY:Monthly Meeting
DESCRIPTION:
URL:https://parkslopeciviccouncil.org/event/monthly-meeting-12/
LOCATION:Carrington Pavilion\, New York Presbyterian Hospital
END:VEVENT
BEGIN:VEVENT
DTSTART;TZID=America/New_York:20241016T180000
DTEND;TZID=America/New_York:20241016T210000
DTSTAMP:20260424T054042
CREATED:20240620T225857Z
LAST-MODIFIED:20241009T203801Z
UID:14392-1729101600-1729112400@parkslopeciviccouncil.org
SUMMARY:Food For Thought
DESCRIPTION:Food For Thought:  Tickets on Sale Now!\n\n\n\n\nLink: https://parkslopeciviccouncil.org/food-for-thought-save-the-date/Tickets: https://interland3.donorperfect.net/weblink/weblink.aspx?name=parkslopecc&id=17
URL:https://parkslopeciviccouncil.org/event/food-for-thought-2024/
LOCATION:Prospect Park Picnic House\, Prospect Park West and West Dr.\, Brooklyn\, NY\, 11215\, United States
END:VEVENT
BEGIN:VEVENT
DTSTART;TZID=America/New_York:20241031T183000
DTEND;TZID=America/New_York:20241031T200000
DTSTAMP:20260424T054042
CREATED:20240708T171555Z
LAST-MODIFIED:20241022T001556Z
UID:14501-1730399400-1730404800@parkslopeciviccouncil.org
SUMMARY:Annual Halloween Parade
DESCRIPTION:
URL:https://parkslopeciviccouncil.org/event/annual-halloween-parade-7/
CATEGORIES:Halloween Parade
END:VEVENT
END:VCALENDAR