BEGIN:VCALENDAR
VERSION:2.0
PRODID:-//Park Slope Civic Council - ECPv6.15.20//NONSGML v1.0//EN
CALSCALE:GREGORIAN
METHOD:PUBLISH
X-WR-CALNAME:Park Slope Civic Council
X-ORIGINAL-URL:https://parkslopeciviccouncil.org
X-WR-CALDESC:Events for Park Slope Civic Council
REFRESH-INTERVAL;VALUE=DURATION:PT1H
X-Robots-Tag:noindex
X-PUBLISHED-TTL:PT1H
BEGIN:VTIMEZONE
TZID:America/New_York
BEGIN:DAYLIGHT
TZOFFSETFROM:-0500
TZOFFSETTO:-0400
TZNAME:EDT
DTSTART:20240310T070000
END:DAYLIGHT
BEGIN:STANDARD
TZOFFSETFROM:-0400
TZOFFSETTO:-0500
TZNAME:EST
DTSTART:20241103T060000
END:STANDARD
BEGIN:DAYLIGHT
TZOFFSETFROM:-0500
TZOFFSETTO:-0400
TZNAME:EDT
DTSTART:20250309T070000
END:DAYLIGHT
BEGIN:STANDARD
TZOFFSETFROM:-0400
TZOFFSETTO:-0500
TZNAME:EST
DTSTART:20251102T060000
END:STANDARD
BEGIN:DAYLIGHT
TZOFFSETFROM:-0500
TZOFFSETTO:-0400
TZNAME:EDT
DTSTART:20260308T070000
END:DAYLIGHT
BEGIN:STANDARD
TZOFFSETFROM:-0400
TZOFFSETTO:-0500
TZNAME:EST
DTSTART:20261101T060000
END:STANDARD
END:VTIMEZONE
BEGIN:VEVENT
DTSTART;TZID=America/New_York:20250109T190000
DTEND;TZID=America/New_York:20250109T203000
DTSTAMP:20260424T010523
CREATED:20241206T191248Z
LAST-MODIFIED:20250103T141531Z
UID:14986-1736449200-1736454600@parkslopeciviccouncil.org
SUMMARY:Monthly Meeting
DESCRIPTION:In person at New York Presbyterian Brooklyn Methodist Hospital\, 506 6th Street in the Carrington Conference Room\, and on Zoom
URL:https://parkslopeciviccouncil.org/event/14986/
END:VEVENT
BEGIN:VEVENT
DTSTART;TZID=America/New_York:20250111T100000
DTEND;TZID=America/New_York:20250111T140000
DTSTAMP:20260424T010523
CREATED:20241121T012000Z
LAST-MODIFIED:20250103T154227Z
UID:14936-1736589600-1736604000@parkslopeciviccouncil.org
SUMMARY:Mulchfest
DESCRIPTION:Bring your Christmas Trees & Wreaths and watch them get turned into mulch. \n\n\n\nSign up to volunteer here: https://docs.google.com/forms/d/1jhnOzaYUw8WZuhDc71G45EMomcTe0GxLJibmQ7MsUO4/edit
URL:https://parkslopeciviccouncil.org/event/mulchfest-10/
LOCATION:Prospect Park\, Brooklyn\, NY\, United States
END:VEVENT
BEGIN:VEVENT
DTSTART;TZID=America/New_York:20250125T130000
DTEND;TZID=America/New_York:20250125T160000
DTSTAMP:20260424T010523
CREATED:20250109T195924Z
LAST-MODIFIED:20250109T200009Z
UID:15040-1737810000-1737820800@parkslopeciviccouncil.org
SUMMARY:Flooding Solutions Fair
DESCRIPTION:Free event to learn about flooding solutions
URL:https://parkslopeciviccouncil.org/event/15040/
LOCATION:Van Alen Institue\, 303 Bond St\, Brooklyn\, New York\, 11231\, United States
END:VEVENT
END:VCALENDAR