BEGIN:VCALENDAR
VERSION:2.0
PRODID:-//Park Slope Civic Council - ECPv6.15.20//NONSGML v1.0//EN
CALSCALE:GREGORIAN
METHOD:PUBLISH
X-WR-CALNAME:Park Slope Civic Council
X-ORIGINAL-URL:https://parkslopeciviccouncil.org
X-WR-CALDESC:Events for Park Slope Civic Council
REFRESH-INTERVAL;VALUE=DURATION:PT1H
X-Robots-Tag:noindex
X-PUBLISHED-TTL:PT1H
BEGIN:VTIMEZONE
TZID:America/New_York
BEGIN:DAYLIGHT
TZOFFSETFROM:-0500
TZOFFSETTO:-0400
TZNAME:EDT
DTSTART:20240310T070000
END:DAYLIGHT
BEGIN:STANDARD
TZOFFSETFROM:-0400
TZOFFSETTO:-0500
TZNAME:EST
DTSTART:20241103T060000
END:STANDARD
BEGIN:DAYLIGHT
TZOFFSETFROM:-0500
TZOFFSETTO:-0400
TZNAME:EDT
DTSTART:20250309T070000
END:DAYLIGHT
BEGIN:STANDARD
TZOFFSETFROM:-0400
TZOFFSETTO:-0500
TZNAME:EST
DTSTART:20251102T060000
END:STANDARD
BEGIN:DAYLIGHT
TZOFFSETFROM:-0500
TZOFFSETTO:-0400
TZNAME:EDT
DTSTART:20260308T070000
END:DAYLIGHT
BEGIN:STANDARD
TZOFFSETFROM:-0400
TZOFFSETTO:-0500
TZNAME:EST
DTSTART:20261101T060000
END:STANDARD
END:VTIMEZONE
BEGIN:VEVENT
DTSTART;TZID=America/New_York:20250403T190000
DTEND;TZID=America/New_York:20250403T203000
DTSTAMP:20260423T184941
CREATED:20240814T003447Z
LAST-MODIFIED:20241001T013841Z
UID:14608-1743706800-1743712200@parkslopeciviccouncil.org
SUMMARY:Monthly Meeting
DESCRIPTION:
URL:https://parkslopeciviccouncil.org/event/monthly-meeting-18/
LOCATION:Old Stone House\, 336 3rd St\, Brooklyn\, NY\, 11215\, United States
END:VEVENT
BEGIN:VEVENT
DTSTART;TZID=America/New_York:20250426T100000
DTEND;TZID=America/New_York:20250426T140000
DTSTAMP:20260423T184941
CREATED:20250225T133621Z
LAST-MODIFIED:20250310T132101Z
UID:15104-1745661600-1745676000@parkslopeciviccouncil.org
SUMMARY:Spring Civic Sweep
DESCRIPTION:Help with neighborhood trash pick up. Sign up to volunteer.
URL:https://parkslopeciviccouncil.org/event/spring-civic-sweep-11/
END:VEVENT
BEGIN:VEVENT
DTSTART;TZID=America/New_York:20250426T144500
DTEND;TZID=America/New_York:20250426T164500
DTSTAMP:20260423T184942
CREATED:20250326T133528Z
LAST-MODIFIED:20250326T133831Z
UID:15190-1745678700-1745685900@parkslopeciviccouncil.org
SUMMARY:Free Self Defense Class
DESCRIPTION:Empowerment Self Defense 101  \n\n\n\nMust pre-register; email events@parkslopeciviccouncil.org
URL:https://parkslopeciviccouncil.org/event/15190/
LOCATION:PS 321\, 180 7th Avenue
END:VEVENT
END:VCALENDAR