BEGIN:VCALENDAR
VERSION:2.0
PRODID:-//Park Slope Civic Council - ECPv6.15.20//NONSGML v1.0//EN
CALSCALE:GREGORIAN
METHOD:PUBLISH
X-ORIGINAL-URL:https://parkslopeciviccouncil.org
X-WR-CALDESC:Events for Park Slope Civic Council
REFRESH-INTERVAL;VALUE=DURATION:PT1H
X-Robots-Tag:noindex
X-PUBLISHED-TTL:PT1H
BEGIN:VTIMEZONE
TZID:America/New_York
BEGIN:DAYLIGHT
TZOFFSETFROM:-0500
TZOFFSETTO:-0400
TZNAME:EDT
DTSTART:20240310T070000
END:DAYLIGHT
BEGIN:STANDARD
TZOFFSETFROM:-0400
TZOFFSETTO:-0500
TZNAME:EST
DTSTART:20241103T060000
END:STANDARD
BEGIN:DAYLIGHT
TZOFFSETFROM:-0500
TZOFFSETTO:-0400
TZNAME:EDT
DTSTART:20250309T070000
END:DAYLIGHT
BEGIN:STANDARD
TZOFFSETFROM:-0400
TZOFFSETTO:-0500
TZNAME:EST
DTSTART:20251102T060000
END:STANDARD
BEGIN:DAYLIGHT
TZOFFSETFROM:-0500
TZOFFSETTO:-0400
TZNAME:EDT
DTSTART:20260308T070000
END:DAYLIGHT
BEGIN:STANDARD
TZOFFSETFROM:-0400
TZOFFSETTO:-0500
TZNAME:EST
DTSTART:20261101T060000
END:STANDARD
END:VTIMEZONE
BEGIN:VEVENT
DTSTART;TZID=America/New_York:20250911T190000
DTEND;TZID=America/New_York:20250911T203000
DTSTAMP:20260423T104558
CREATED:20250602T180907Z
LAST-MODIFIED:20250602T180909Z
UID:15433-1757617200-1757622600@parkslopeciviccouncil.org
SUMMARY:Monthly Meeting
DESCRIPTION:
URL:https://parkslopeciviccouncil.org/event/monthly-meeting-19/
LOCATION:Old Stone House\, 336 3rd St\, Brooklyn\, NY\, 11215\, United States
END:VEVENT
BEGIN:VEVENT
DTSTART;TZID=America/New_York:20250914T100000
DTEND;TZID=America/New_York:20250914T120000
DTSTAMP:20260423T104558
CREATED:20250716T125114Z
LAST-MODIFIED:20250716T202807Z
UID:15558-1757844000-1757851200@parkslopeciviccouncil.org
SUMMARY:Tree Care Initiative
DESCRIPTION:Promote tree care and education. Learn more here: https://bigreuse.org/pages/district-39-tree-care-team
URL:https://parkslopeciviccouncil.org/event/tree-care-initiative/
END:VEVENT
BEGIN:VEVENT
DTSTART;TZID=America/New_York:20250920T110000
DTEND;TZID=America/New_York:20250920T160000
DTSTAMP:20260423T104558
CREATED:20250623T202859Z
LAST-MODIFIED:20250919T200959Z
UID:15525-1758366000-1758384000@parkslopeciviccouncil.org
SUMMARY:1st Annual Park Slope Super Stoop Day
DESCRIPTION:1st Annual Park Slope Civic Council Stoop Day \n\n\n\nSaturday\, September 20th (Rain date: Sunday\, September 21st) \n\n\n\n11:00 AM – 4:00 PM \n\n\n\nFREE \n\n\n\nAll Across Park Slope
URL:https://parkslopeciviccouncil.org/event/1st-annual-park-slope-civic-council-stoop-day/
ATTACH;FMTTYPE=image/jpeg:https://parkslopeciviccouncil.org/wp-content/uploads/2025/06/Super-Stoop-Day-FB-generated-2.jpg
END:VEVENT
END:VCALENDAR